BEGIN:VCALENDAR
VERSION:2.0
PRODID:-//St. Anthony and St. Mary Parishes - ECPv6.15.20//NONSGML v1.0//EN
CALSCALE:GREGORIAN
METHOD:PUBLISH
X-ORIGINAL-URL:https://stmaryparish.net
X-WR-CALDESC:Events for St. Anthony and St. Mary Parishes
REFRESH-INTERVAL;VALUE=DURATION:PT1H
X-Robots-Tag:noindex
X-PUBLISHED-TTL:PT1H
BEGIN:VTIMEZONE
TZID:America/New_York
BEGIN:DAYLIGHT
TZOFFSETFROM:-0500
TZOFFSETTO:-0400
TZNAME:EDT
DTSTART:20300310T070000
END:DAYLIGHT
BEGIN:STANDARD
TZOFFSETFROM:-0400
TZOFFSETTO:-0500
TZNAME:EST
DTSTART:20301103T060000
END:STANDARD
BEGIN:DAYLIGHT
TZOFFSETFROM:-0500
TZOFFSETTO:-0400
TZNAME:EDT
DTSTART:20310309T070000
END:DAYLIGHT
BEGIN:STANDARD
TZOFFSETFROM:-0400
TZOFFSETTO:-0500
TZNAME:EST
DTSTART:20311102T060000
END:STANDARD
BEGIN:DAYLIGHT
TZOFFSETFROM:-0500
TZOFFSETTO:-0400
TZNAME:EDT
DTSTART:20320314T070000
END:DAYLIGHT
BEGIN:STANDARD
TZOFFSETFROM:-0400
TZOFFSETTO:-0500
TZNAME:EST
DTSTART:20321107T060000
END:STANDARD
END:VTIMEZONE
BEGIN:VTIMEZONE
TZID:America/New_York
BEGIN:DAYLIGHT
TZOFFSETFROM:-0500
TZOFFSETTO:-0400
TZNAME:EDT
DTSTART:20300310T070000
END:DAYLIGHT
BEGIN:STANDARD
TZOFFSETFROM:-0400
TZOFFSETTO:-0500
TZNAME:EST
DTSTART:20301103T060000
END:STANDARD
BEGIN:DAYLIGHT
TZOFFSETFROM:-0500
TZOFFSETTO:-0400
TZNAME:EDT
DTSTART:20310309T070000
END:DAYLIGHT
BEGIN:STANDARD
TZOFFSETFROM:-0400
TZOFFSETTO:-0500
TZNAME:EST
DTSTART:20311102T060000
END:STANDARD
BEGIN:DAYLIGHT
TZOFFSETFROM:-0500
TZOFFSETTO:-0400
TZNAME:EDT
DTSTART:20320314T070000
END:DAYLIGHT
BEGIN:STANDARD
TZOFFSETFROM:-0400
TZOFFSETTO:-0500
TZNAME:EST
DTSTART:20321107T060000
END:STANDARD
END:VTIMEZONE
BEGIN:VEVENT
DTSTART;TZID=America/New_York:20310120T190000
DTEND;TZID=America/New_York:20310120T203000
DTSTAMP:20260422T175825
CREATED:20250905T185422Z
LAST-MODIFIED:20250905T185615Z
UID:10024078-1926702000-1926707400@stmaryparish.net
SUMMARY:Men's Group
DESCRIPTION:The Men’s Group meets Mondays from 7–8:30 pm (starting Sept. 15) at St. Anthony Parish. The Men’s group meets to strengthen each other to be Catholic men. We will launch our first meeting of the fall with a cookout behind St. Anthony Church.  All men are welcome. \nEmail Marty at martin.dybicz@gmail.com for details. \nMeetings take place at St. Anthony campus in the school building (Chesterton Academy — Commons)\, unless otherwise noted.
URL:https://stmaryparish.net/event/mens-group/2031-01-20/
LOCATION:St. Anthony Church\, N74W13604 Appleton Avenue\, Menomonee Falls\,\, WI\, 53051\, United States
END:VEVENT
BEGIN:VEVENT
DTSTART;TZID=America/New_York:20310121T170000
DTEND;TZID=America/New_York:20310121T173000
DTSTAMP:20260422T175825
CREATED:20241213T190819Z
LAST-MODIFIED:20250414T214653Z
UID:10023664-1926781200-1926783000@stmaryparish.net
SUMMARY:Confessions (St. Anthony)
DESCRIPTION:
URL:https://stmaryparish.net/event/confessions-st-anthony-9/2031-01-21/
END:VEVENT
BEGIN:VEVENT
DTSTART;TZID=America/New_York:20310122T120000
DTEND;TZID=America/New_York:20310122T123000
DTSTAMP:20260422T175825
CREATED:20241031T185919Z
LAST-MODIFIED:20250304T204847Z
UID:10023699-1926849600-1926851400@stmaryparish.net
SUMMARY:Confessions (St Mary)
DESCRIPTION:
URL:https://stmaryparish.net/event/confessions-st-mary-3/2031-01-22/
END:VEVENT
BEGIN:VEVENT
DTSTART;TZID=America/New_York:20310122T170000
DTEND;TZID=America/New_York:20310122T173000
DTSTAMP:20260422T175825
CREATED:20240312T141801Z
LAST-MODIFIED:20250304T205157Z
UID:10024137-1926867600-1926869400@stmaryparish.net
SUMMARY:Confessions (St. Anthony)
DESCRIPTION:
URL:https://stmaryparish.net/event/confessions-st-anthony-2/2031-01-22/
END:VEVENT
BEGIN:VEVENT
DTSTART;TZID=America/New_York:20310123T080000
DTEND;TZID=America/New_York:20310123T083000
DTSTAMP:20260422T175825
CREATED:20250612T170511Z
LAST-MODIFIED:20250612T170512Z
UID:10023778-1926921600-1926923400@stmaryparish.net
SUMMARY:Mass (St Anthony)
DESCRIPTION:
URL:https://stmaryparish.net/event/mass-st-anthony-7-2-2/2031-01-23/
END:VEVENT
BEGIN:VEVENT
DTSTART;TZID=America/New_York:20310123T121000
DTEND;TZID=America/New_York:20310123T124500
DTSTAMP:20260422T175825
CREATED:20241031T185234Z
LAST-MODIFIED:20241031T185234Z
UID:10023795-1926936600-1926938700@stmaryparish.net
SUMMARY:Mass (St Mary)
DESCRIPTION:
URL:https://stmaryparish.net/event/mass-st-mary-6/2031-01-23/
END:VEVENT
BEGIN:VEVENT
DTSTART;TZID=America/New_York:20310124T080000
DTEND;TZID=America/New_York:20310124T083000
DTSTAMP:20260422T175825
CREATED:20241031T184838Z
LAST-MODIFIED:20241031T184838Z
UID:10023834-1927008000-1927009800@stmaryparish.net
SUMMARY:Mass (St Anthony)
DESCRIPTION:
URL:https://stmaryparish.net/event/mass-st-anthony-8/2031-01-24/
END:VEVENT
BEGIN:VEVENT
DTSTART;TZID=America/New_York:20310124T081000
DTEND;TZID=America/New_York:20310124T084000
DTSTAMP:20260422T175825
CREATED:20241031T191510Z
LAST-MODIFIED:20241031T191852Z
UID:10023875-1927008600-1927010400@stmaryparish.net
SUMMARY:Mass (St Mary)
DESCRIPTION:
URL:https://stmaryparish.net/event/mass-st-mary-8/2031-01-24/
END:VEVENT
BEGIN:VEVENT
DTSTART;TZID=America/New_York:20310124T084500
DTEND;TZID=America/New_York:20310124T110000
DTSTAMP:20260422T175825
CREATED:20240830T115554Z
LAST-MODIFIED:20251009T144948Z
UID:10023890-1927010700-1927018800@stmaryparish.net
SUMMARY:Women's Faith Study Group
DESCRIPTION:The Women’s Faith Study Group will kick off the next session on  Sept. 5. The group meets from 8:45 am to 11 am at St. Anthony in the lower level of the St. Therese Formation Center (St. Joseph Adoration Chapel building). Child care is not currently offered.  For information\, email Mary Beth at marywitzlib@gmail.com
URL:https://stmaryparish.net/event/womens-faith-study-group-2-2-2/2031-01-24/
LOCATION:St. Therese Formation Center\, N74 W13604 Appleton Ave\, Menomonee Falls\, WI\, 53051
CATEGORIES:St. Anthony Parish,St. Mary Parish
END:VEVENT
BEGIN:VEVENT
DTSTART;TZID=America/New_York:20310124T120000
DTEND;TZID=America/New_York:20310124T123000
DTSTAMP:20260422T175825
CREATED:20241031T192332Z
LAST-MODIFIED:20241031T192350Z
UID:10023905-1927022400-1927024200@stmaryparish.net
SUMMARY:Confessions (St Mary)
DESCRIPTION:
URL:https://stmaryparish.net/event/confessions-st-mary-5/2031-01-24/
END:VEVENT
BEGIN:VEVENT
DTSTART;TZID=America/New_York:20310125T080000
DTEND;TZID=America/New_York:20310125T083000
DTSTAMP:20260422T175825
CREATED:20241031T185838Z
LAST-MODIFIED:20241031T185838Z
UID:10023960-1927094400-1927096200@stmaryparish.net
SUMMARY:Mass (St Mary)
DESCRIPTION:
URL:https://stmaryparish.net/event/mass-st-mary-7/2031-01-25/
END:VEVENT
BEGIN:VEVENT
DTSTART;TZID=America/New_York:20310125T163000
DTEND;TZID=America/New_York:20310125T173000
DTSTAMP:20260422T175825
CREATED:20241031T182115Z
LAST-MODIFIED:20241031T182115Z
UID:10024052-1927125000-1927128600@stmaryparish.net
SUMMARY:Mass (St Anthony)
DESCRIPTION:
URL:https://stmaryparish.net/event/mass-st-anthony-2/2031-01-25/
END:VEVENT
BEGIN:VEVENT
DTSTART;TZID=America/New_York:20310125T170000
DTEND;TZID=America/New_York:20310125T180000
DTSTAMP:20260422T175825
CREATED:20241031T182149Z
LAST-MODIFIED:20241031T183232Z
UID:10024006-1927126800-1927130400@stmaryparish.net
SUMMARY:Mass (St Mary)
DESCRIPTION:
URL:https://stmaryparish.net/event/mass-st-mary/2031-01-25/
END:VEVENT
END:VCALENDAR