BEGIN:VCALENDAR
VERSION:2.0
PRODID:-//St. Anthony and St. Mary Parishes - ECPv6.15.20//NONSGML v1.0//EN
CALSCALE:GREGORIAN
METHOD:PUBLISH
X-ORIGINAL-URL:https://stmaryparish.net
X-WR-CALDESC:Events for St. Anthony and St. Mary Parishes
REFRESH-INTERVAL;VALUE=DURATION:PT1H
X-Robots-Tag:noindex
X-PUBLISHED-TTL:PT1H
BEGIN:VTIMEZONE
TZID:America/New_York
BEGIN:DAYLIGHT
TZOFFSETFROM:-0500
TZOFFSETTO:-0400
TZNAME:EDT
DTSTART:20290311T070000
END:DAYLIGHT
BEGIN:STANDARD
TZOFFSETFROM:-0400
TZOFFSETTO:-0500
TZNAME:EST
DTSTART:20291104T060000
END:STANDARD
BEGIN:DAYLIGHT
TZOFFSETFROM:-0500
TZOFFSETTO:-0400
TZNAME:EDT
DTSTART:20300310T070000
END:DAYLIGHT
BEGIN:STANDARD
TZOFFSETFROM:-0400
TZOFFSETTO:-0500
TZNAME:EST
DTSTART:20301103T060000
END:STANDARD
BEGIN:DAYLIGHT
TZOFFSETFROM:-0500
TZOFFSETTO:-0400
TZNAME:EDT
DTSTART:20310309T070000
END:DAYLIGHT
BEGIN:STANDARD
TZOFFSETFROM:-0400
TZOFFSETTO:-0500
TZNAME:EST
DTSTART:20311102T060000
END:STANDARD
END:VTIMEZONE
BEGIN:VTIMEZONE
TZID:America/New_York
BEGIN:DAYLIGHT
TZOFFSETFROM:-0500
TZOFFSETTO:-0400
TZNAME:EDT
DTSTART:20290311T070000
END:DAYLIGHT
BEGIN:STANDARD
TZOFFSETFROM:-0400
TZOFFSETTO:-0500
TZNAME:EST
DTSTART:20291104T060000
END:STANDARD
BEGIN:DAYLIGHT
TZOFFSETFROM:-0500
TZOFFSETTO:-0400
TZNAME:EDT
DTSTART:20300310T070000
END:DAYLIGHT
BEGIN:STANDARD
TZOFFSETFROM:-0400
TZOFFSETTO:-0500
TZNAME:EST
DTSTART:20301103T060000
END:STANDARD
BEGIN:DAYLIGHT
TZOFFSETFROM:-0500
TZOFFSETTO:-0400
TZNAME:EDT
DTSTART:20310309T070000
END:DAYLIGHT
BEGIN:STANDARD
TZOFFSETFROM:-0400
TZOFFSETTO:-0500
TZNAME:EST
DTSTART:20311102T060000
END:STANDARD
END:VTIMEZONE
BEGIN:VEVENT
DTSTART;TZID=America/New_York:20300408T080000
DTEND;TZID=America/New_York:20300408T083000
DTSTAMP:20260419T235110
CREATED:20241031T184422Z
LAST-MODIFIED:20241031T184422Z
UID:10022774-1901865600-1901867400@stmaryparish.net
SUMMARY:Mass (St Anthony)
DESCRIPTION:
URL:https://stmaryparish.net/event/mass-st-anthony-4/2030-04-08/
END:VEVENT
BEGIN:VEVENT
DTSTART;TZID=America/New_York:20300408T120000
DTEND;TZID=America/New_York:20300408T123000
DTSTAMP:20260419T235110
CREATED:20241031T185431Z
LAST-MODIFIED:20241031T185431Z
UID:10022592-1901880000-1901881800@stmaryparish.net
SUMMARY:Confessions (St Mary)
DESCRIPTION:
URL:https://stmaryparish.net/event/confessions-st-mary/2030-04-08/
END:VEVENT
BEGIN:VEVENT
DTSTART;TZID=America/New_York:20300408T170000
DTEND;TZID=America/New_York:20300408T173000
DTSTAMP:20260419T235110
CREATED:20240108T130904Z
LAST-MODIFIED:20250429T145934Z
UID:10011050-1901898000-1901899800@stmaryparish.net
SUMMARY:Confession (St. Anthony)
DESCRIPTION:The Sacrament of Reconciliation is offered daily during the week\, at 5 pm\, or by appointment\, at St. Anthony in the Church.
URL:https://stmaryparish.net/event/confessions-5-2/2030-04-08/
LOCATION:St. Anthony Church\, N74W13604 Appleton Avenue\, Menomonee Falls\,\, WI\, 53051\, United States
CATEGORIES:St. Anthony Parish
END:VEVENT
BEGIN:VEVENT
DTSTART;TZID=America/New_York:20300408T190000
DTEND;TZID=America/New_York:20300408T203000
DTSTAMP:20260419T235110
CREATED:20250905T185422Z
LAST-MODIFIED:20250905T185615Z
UID:10023138-1901905200-1901910600@stmaryparish.net
SUMMARY:Men's Group
DESCRIPTION:The Men’s Group meets Mondays from 7–8:30 pm (starting Sept. 15) at St. Anthony Parish. The Men’s group meets to strengthen each other to be Catholic men. We will launch our first meeting of the fall with a cookout behind St. Anthony Church.  All men are welcome. \nEmail Marty at martin.dybicz@gmail.com for details. \nMeetings take place at St. Anthony campus in the school building (Chesterton Academy — Commons)\, unless otherwise noted.
URL:https://stmaryparish.net/event/mens-group/2030-04-08/
LOCATION:St. Anthony Church\, N74W13604 Appleton Avenue\, Menomonee Falls\,\, WI\, 53051\, United States
END:VEVENT
BEGIN:VEVENT
DTSTART;TZID=America/New_York:20300409T063000
DTEND;TZID=America/New_York:20300409T070000
DTSTAMP:20260419T235110
CREATED:20241031T185031Z
LAST-MODIFIED:20241031T185031Z
UID:10022659-1901946600-1901948400@stmaryparish.net
SUMMARY:Mass (St Mary)
DESCRIPTION:
URL:https://stmaryparish.net/event/mass-st-mary-4/2030-04-09/
END:VEVENT
BEGIN:VEVENT
DTSTART;TZID=America/New_York:20300409T120000
DTEND;TZID=America/New_York:20300409T123000
DTSTAMP:20260419T235110
CREATED:20241213T180235Z
LAST-MODIFIED:20241213T180235Z
UID:10022608-1901966400-1901968200@stmaryparish.net
SUMMARY:Confessions (St Mary)
DESCRIPTION:
URL:https://stmaryparish.net/event/confessions-st-mary-2-2/2030-04-09/
END:VEVENT
BEGIN:VEVENT
DTSTART;TZID=America/New_York:20300409T170000
DTEND;TZID=America/New_York:20300409T173000
DTSTAMP:20260419T235110
CREATED:20241213T190819Z
LAST-MODIFIED:20250414T214653Z
UID:10022388-1901984400-1901986200@stmaryparish.net
SUMMARY:Confessions (St. Anthony)
DESCRIPTION:
URL:https://stmaryparish.net/event/confessions-st-anthony-9/2030-04-09/
END:VEVENT
BEGIN:VEVENT
DTSTART;TZID=America/New_York:20300410T081000
DTEND;TZID=America/New_York:20300410T084500
DTSTAMP:20260419T235110
CREATED:20250428T205453Z
LAST-MODIFIED:20250428T205454Z
UID:10022744-1902039000-1902041100@stmaryparish.net
SUMMARY:Mass (St Mary)
DESCRIPTION:
URL:https://stmaryparish.net/event/mass-st-mary-5-2/2030-04-10/
END:VEVENT
BEGIN:VEVENT
DTSTART;TZID=America/New_York:20300410T120000
DTEND;TZID=America/New_York:20300410T123000
DTSTAMP:20260419T235110
CREATED:20241031T185919Z
LAST-MODIFIED:20250304T204847Z
UID:10022630-1902052800-1902054600@stmaryparish.net
SUMMARY:Confessions (St Mary)
DESCRIPTION:
URL:https://stmaryparish.net/event/confessions-st-mary-3/2030-04-10/
END:VEVENT
BEGIN:VEVENT
DTSTART;TZID=America/New_York:20300410T170000
DTEND;TZID=America/New_York:20300410T173000
DTSTAMP:20260419T235110
CREATED:20240312T141801Z
LAST-MODIFIED:20250304T205157Z
UID:10024096-1902070800-1902072600@stmaryparish.net
SUMMARY:Confessions (St. Anthony)
DESCRIPTION:
URL:https://stmaryparish.net/event/confessions-st-anthony-2/2030-04-10/
END:VEVENT
BEGIN:VEVENT
DTSTART;TZID=America/New_York:20300411T080000
DTEND;TZID=America/New_York:20300411T083000
DTSTAMP:20260419T235110
CREATED:20250612T170511Z
LAST-MODIFIED:20250612T170512Z
UID:10022394-1902124800-1902126600@stmaryparish.net
SUMMARY:Mass (St Anthony)
DESCRIPTION:
URL:https://stmaryparish.net/event/mass-st-anthony-7-2-2/2030-04-11/
END:VEVENT
BEGIN:VEVENT
DTSTART;TZID=America/New_York:20300411T121000
DTEND;TZID=America/New_York:20300411T124500
DTSTAMP:20260419T235110
CREATED:20241031T185234Z
LAST-MODIFIED:20241031T185234Z
UID:10022416-1902139800-1902141900@stmaryparish.net
SUMMARY:Mass (St Mary)
DESCRIPTION:
URL:https://stmaryparish.net/event/mass-st-mary-6/2030-04-11/
END:VEVENT
BEGIN:VEVENT
DTSTART;TZID=America/New_York:20300411T170000
DTEND;TZID=America/New_York:20300411T173000
DTSTAMP:20260419T235110
CREATED:20240108T130904Z
LAST-MODIFIED:20250429T145934Z
UID:10011053-1902157200-1902159000@stmaryparish.net
SUMMARY:Confession (St. Anthony)
DESCRIPTION:The Sacrament of Reconciliation is offered daily during the week\, at 5 pm\, or by appointment\, at St. Anthony in the Church.
URL:https://stmaryparish.net/event/confessions-5-2/2030-04-11/
LOCATION:St. Anthony Church\, N74W13604 Appleton Avenue\, Menomonee Falls\,\, WI\, 53051\, United States
CATEGORIES:St. Anthony Parish
END:VEVENT
BEGIN:VEVENT
DTSTART;TZID=America/New_York:20300412T080000
DTEND;TZID=America/New_York:20300412T083000
DTSTAMP:20260419T235110
CREATED:20241031T184838Z
LAST-MODIFIED:20241031T184838Z
UID:10022440-1902211200-1902213000@stmaryparish.net
SUMMARY:Mass (St Anthony)
DESCRIPTION:
URL:https://stmaryparish.net/event/mass-st-anthony-8/2030-04-12/
END:VEVENT
BEGIN:VEVENT
DTSTART;TZID=America/New_York:20300412T081000
DTEND;TZID=America/New_York:20300412T084000
DTSTAMP:20260419T235110
CREATED:20241031T191510Z
LAST-MODIFIED:20241031T191852Z
UID:10022464-1902211800-1902213600@stmaryparish.net
SUMMARY:Mass (St Mary)
DESCRIPTION:
URL:https://stmaryparish.net/event/mass-st-mary-8/2030-04-12/
END:VEVENT
BEGIN:VEVENT
DTSTART;TZID=America/New_York:20300412T084500
DTEND;TZID=America/New_York:20300412T110000
DTSTAMP:20260419T235110
CREATED:20240830T115554Z
LAST-MODIFIED:20251009T144948Z
UID:10023400-1902213900-1902222000@stmaryparish.net
SUMMARY:Women's Faith Study Group
DESCRIPTION:The Women’s Faith Study Group will kick off the next session on  Sept. 5. The group meets from 8:45 am to 11 am at St. Anthony in the lower level of the St. Therese Formation Center (St. Joseph Adoration Chapel building). Child care is not currently offered.  For information\, email Mary Beth at marywitzlib@gmail.com
URL:https://stmaryparish.net/event/womens-faith-study-group-2-2-2/2030-04-12/
LOCATION:St. Therese Formation Center\, N74 W13604 Appleton Ave\, Menomonee Falls\, WI\, 53051
CATEGORIES:St. Anthony Parish,St. Mary Parish
END:VEVENT
BEGIN:VEVENT
DTSTART;TZID=America/New_York:20300412T120000
DTEND;TZID=America/New_York:20300412T123000
DTSTAMP:20260419T235110
CREATED:20241031T192332Z
LAST-MODIFIED:20241031T192350Z
UID:10022486-1902225600-1902227400@stmaryparish.net
SUMMARY:Confessions (St Mary)
DESCRIPTION:
URL:https://stmaryparish.net/event/confessions-st-mary-5/2030-04-12/
END:VEVENT
BEGIN:VEVENT
DTSTART;TZID=America/New_York:20300412T170000
DTEND;TZID=America/New_York:20300412T173000
DTSTAMP:20260419T235110
CREATED:20240108T130904Z
LAST-MODIFIED:20250429T145934Z
UID:10011054-1902243600-1902245400@stmaryparish.net
SUMMARY:Confession (St. Anthony)
DESCRIPTION:The Sacrament of Reconciliation is offered daily during the week\, at 5 pm\, or by appointment\, at St. Anthony in the Church.
URL:https://stmaryparish.net/event/confessions-5-2/2030-04-12/
LOCATION:St. Anthony Church\, N74W13604 Appleton Avenue\, Menomonee Falls\,\, WI\, 53051\, United States
CATEGORIES:St. Anthony Parish
END:VEVENT
BEGIN:VEVENT
DTSTART;TZID=America/New_York:20300413T080000
DTEND;TZID=America/New_York:20300413T083000
DTSTAMP:20260419T235110
CREATED:20241031T185838Z
LAST-MODIFIED:20241031T185838Z
UID:10022514-1902297600-1902299400@stmaryparish.net
SUMMARY:Mass (St Mary)
DESCRIPTION:
URL:https://stmaryparish.net/event/mass-st-mary-7/2030-04-13/
END:VEVENT
BEGIN:VEVENT
DTSTART;TZID=America/New_York:20300413T163000
DTEND;TZID=America/New_York:20300413T173000
DTSTAMP:20260419T235110
CREATED:20241031T182115Z
LAST-MODIFIED:20241031T182115Z
UID:10022538-1902328200-1902331800@stmaryparish.net
SUMMARY:Mass (St Anthony)
DESCRIPTION:
URL:https://stmaryparish.net/event/mass-st-anthony-2/2030-04-13/
END:VEVENT
BEGIN:VEVENT
DTSTART;TZID=America/New_York:20300413T170000
DTEND;TZID=America/New_York:20300413T180000
DTSTAMP:20260419T235110
CREATED:20241031T182149Z
LAST-MODIFIED:20241031T183232Z
UID:10022562-1902330000-1902333600@stmaryparish.net
SUMMARY:Mass (St Mary)
DESCRIPTION:
URL:https://stmaryparish.net/event/mass-st-mary/2030-04-13/
END:VEVENT
END:VCALENDAR