BEGIN:VCALENDAR
VERSION:2.0
PRODID:-//St. Anthony and St. Mary Parishes - ECPv6.15.20//NONSGML v1.0//EN
CALSCALE:GREGORIAN
METHOD:PUBLISH
X-WR-CALNAME:St. Anthony and St. Mary Parishes
X-ORIGINAL-URL:https://stmaryparish.net
X-WR-CALDESC:Events for St. Anthony and St. Mary Parishes
REFRESH-INTERVAL;VALUE=DURATION:PT1H
X-Robots-Tag:noindex
X-PUBLISHED-TTL:PT1H
BEGIN:VTIMEZONE
TZID:America/New_York
BEGIN:DAYLIGHT
TZOFFSETFROM:-0500
TZOFFSETTO:-0400
TZNAME:EDT
DTSTART:20290311T070000
END:DAYLIGHT
BEGIN:STANDARD
TZOFFSETFROM:-0400
TZOFFSETTO:-0500
TZNAME:EST
DTSTART:20291104T060000
END:STANDARD
BEGIN:DAYLIGHT
TZOFFSETFROM:-0500
TZOFFSETTO:-0400
TZNAME:EDT
DTSTART:20300310T070000
END:DAYLIGHT
BEGIN:STANDARD
TZOFFSETFROM:-0400
TZOFFSETTO:-0500
TZNAME:EST
DTSTART:20301103T060000
END:STANDARD
BEGIN:DAYLIGHT
TZOFFSETFROM:-0500
TZOFFSETTO:-0400
TZNAME:EDT
DTSTART:20310309T070000
END:DAYLIGHT
BEGIN:STANDARD
TZOFFSETFROM:-0400
TZOFFSETTO:-0500
TZNAME:EST
DTSTART:20311102T060000
END:STANDARD
END:VTIMEZONE
BEGIN:VTIMEZONE
TZID:America/New_York
BEGIN:DAYLIGHT
TZOFFSETFROM:-0500
TZOFFSETTO:-0400
TZNAME:EDT
DTSTART:20290311T070000
END:DAYLIGHT
BEGIN:STANDARD
TZOFFSETFROM:-0400
TZOFFSETTO:-0500
TZNAME:EST
DTSTART:20291104T060000
END:STANDARD
BEGIN:DAYLIGHT
TZOFFSETFROM:-0500
TZOFFSETTO:-0400
TZNAME:EDT
DTSTART:20300310T070000
END:DAYLIGHT
BEGIN:STANDARD
TZOFFSETFROM:-0400
TZOFFSETTO:-0500
TZNAME:EST
DTSTART:20301103T060000
END:STANDARD
BEGIN:DAYLIGHT
TZOFFSETFROM:-0500
TZOFFSETTO:-0400
TZNAME:EDT
DTSTART:20310309T070000
END:DAYLIGHT
BEGIN:STANDARD
TZOFFSETFROM:-0400
TZOFFSETTO:-0500
TZNAME:EST
DTSTART:20311102T060000
END:STANDARD
END:VTIMEZONE
BEGIN:VEVENT
DTSTART;TZID=America/New_York:20300211T080000
DTEND;TZID=America/New_York:20300211T083000
DTSTAMP:20260419T223543
CREATED:20241031T184422Z
LAST-MODIFIED:20241031T184422Z
UID:10022766-1897027200-1897029000@stmaryparish.net
SUMMARY:Mass (St Anthony)
DESCRIPTION:
URL:https://stmaryparish.net/event/mass-st-anthony-4/2030-02-11/
END:VEVENT
BEGIN:VEVENT
DTSTART;TZID=America/New_York:20300211T120000
DTEND;TZID=America/New_York:20300211T123000
DTSTAMP:20260419T223543
CREATED:20241031T185431Z
LAST-MODIFIED:20241031T185431Z
UID:10022584-1897041600-1897043400@stmaryparish.net
SUMMARY:Confessions (St Mary)
DESCRIPTION:
URL:https://stmaryparish.net/event/confessions-st-mary/2030-02-11/
END:VEVENT
BEGIN:VEVENT
DTSTART;TZID=America/New_York:20300211T170000
DTEND;TZID=America/New_York:20300211T173000
DTSTAMP:20260419T223543
CREATED:20240108T130904Z
LAST-MODIFIED:20250429T145934Z
UID:10011010-1897059600-1897061400@stmaryparish.net
SUMMARY:Confession (St. Anthony)
DESCRIPTION:The Sacrament of Reconciliation is offered daily during the week\, at 5 pm\, or by appointment\, at St. Anthony in the Church.
URL:https://stmaryparish.net/event/confessions-5-2/2030-02-11/
LOCATION:St. Anthony Church\, N74W13604 Appleton Avenue\, Menomonee Falls\,\, WI\, 53051\, United States
CATEGORIES:St. Anthony Parish
END:VEVENT
BEGIN:VEVENT
DTSTART;TZID=America/New_York:20300211T190000
DTEND;TZID=America/New_York:20300211T203000
DTSTAMP:20260419T223543
CREATED:20250905T185422Z
LAST-MODIFIED:20250905T185615Z
UID:10023130-1897066800-1897072200@stmaryparish.net
SUMMARY:Men's Group
DESCRIPTION:The Men’s Group meets Mondays from 7–8:30 pm (starting Sept. 15) at St. Anthony Parish. The Men’s group meets to strengthen each other to be Catholic men. We will launch our first meeting of the fall with a cookout behind St. Anthony Church.  All men are welcome. \nEmail Marty at martin.dybicz@gmail.com for details. \nMeetings take place at St. Anthony campus in the school building (Chesterton Academy — Commons)\, unless otherwise noted.
URL:https://stmaryparish.net/event/mens-group/2030-02-11/
LOCATION:St. Anthony Church\, N74W13604 Appleton Avenue\, Menomonee Falls\,\, WI\, 53051\, United States
END:VEVENT
BEGIN:VEVENT
DTSTART;TZID=America/New_York:20300212T063000
DTEND;TZID=America/New_York:20300212T070000
DTSTAMP:20260419T223543
CREATED:20241031T185031Z
LAST-MODIFIED:20241031T185031Z
UID:10022651-1897108200-1897110000@stmaryparish.net
SUMMARY:Mass (St Mary)
DESCRIPTION:
URL:https://stmaryparish.net/event/mass-st-mary-4/2030-02-12/
END:VEVENT
BEGIN:VEVENT
DTSTART;TZID=America/New_York:20300212T120000
DTEND;TZID=America/New_York:20300212T123000
DTSTAMP:20260419T223543
CREATED:20241213T180235Z
LAST-MODIFIED:20241213T180235Z
UID:10022600-1897128000-1897129800@stmaryparish.net
SUMMARY:Confessions (St Mary)
DESCRIPTION:
URL:https://stmaryparish.net/event/confessions-st-mary-2-2/2030-02-12/
END:VEVENT
BEGIN:VEVENT
DTSTART;TZID=America/New_York:20300212T170000
DTEND;TZID=America/New_York:20300212T173000
DTSTAMP:20260419T223543
CREATED:20241213T190819Z
LAST-MODIFIED:20250414T214653Z
UID:10022380-1897146000-1897147800@stmaryparish.net
SUMMARY:Confessions (St. Anthony)
DESCRIPTION:
URL:https://stmaryparish.net/event/confessions-st-anthony-9/2030-02-12/
END:VEVENT
BEGIN:VEVENT
DTSTART;TZID=America/New_York:20300213T081000
DTEND;TZID=America/New_York:20300213T084500
DTSTAMP:20260419T223543
CREATED:20250428T205453Z
LAST-MODIFIED:20250428T205454Z
UID:10022736-1897200600-1897202700@stmaryparish.net
SUMMARY:Mass (St Mary)
DESCRIPTION:
URL:https://stmaryparish.net/event/mass-st-mary-5-2/2030-02-13/
END:VEVENT
BEGIN:VEVENT
DTSTART;TZID=America/New_York:20300213T120000
DTEND;TZID=America/New_York:20300213T123000
DTSTAMP:20260419T223543
CREATED:20241031T185919Z
LAST-MODIFIED:20250304T204847Z
UID:10022102-1897214400-1897216200@stmaryparish.net
SUMMARY:Confessions (St Mary)
DESCRIPTION:
URL:https://stmaryparish.net/event/confessions-st-mary-3/2030-02-13/
END:VEVENT
BEGIN:VEVENT
DTSTART;TZID=America/New_York:20300213T170000
DTEND;TZID=America/New_York:20300213T173000
DTSTAMP:20260419T223543
CREATED:20240312T141801Z
LAST-MODIFIED:20250304T205157Z
UID:10022344-1897232400-1897234200@stmaryparish.net
SUMMARY:Confessions (St. Anthony)
DESCRIPTION:
URL:https://stmaryparish.net/event/confessions-st-anthony-2/2030-02-13/
END:VEVENT
BEGIN:VEVENT
DTSTART;TZID=America/New_York:20300214T080000
DTEND;TZID=America/New_York:20300214T083000
DTSTAMP:20260419T223543
CREATED:20250612T170511Z
LAST-MODIFIED:20250612T170512Z
UID:10022361-1897286400-1897288200@stmaryparish.net
SUMMARY:Mass (St Anthony)
DESCRIPTION:
URL:https://stmaryparish.net/event/mass-st-anthony-7-2-2/2030-02-14/
END:VEVENT
BEGIN:VEVENT
DTSTART;TZID=America/New_York:20300214T121000
DTEND;TZID=America/New_York:20300214T124500
DTSTAMP:20260419T223543
CREATED:20241031T185234Z
LAST-MODIFIED:20241031T185234Z
UID:10022408-1897301400-1897303500@stmaryparish.net
SUMMARY:Mass (St Mary)
DESCRIPTION:
URL:https://stmaryparish.net/event/mass-st-mary-6/2030-02-14/
END:VEVENT
BEGIN:VEVENT
DTSTART;TZID=America/New_York:20300214T170000
DTEND;TZID=America/New_York:20300214T173000
DTSTAMP:20260419T223543
CREATED:20240108T130904Z
LAST-MODIFIED:20250429T145934Z
UID:10011013-1897318800-1897320600@stmaryparish.net
SUMMARY:Confession (St. Anthony)
DESCRIPTION:The Sacrament of Reconciliation is offered daily during the week\, at 5 pm\, or by appointment\, at St. Anthony in the Church.
URL:https://stmaryparish.net/event/confessions-5-2/2030-02-14/
LOCATION:St. Anthony Church\, N74W13604 Appleton Avenue\, Menomonee Falls\,\, WI\, 53051\, United States
CATEGORIES:St. Anthony Parish
END:VEVENT
BEGIN:VEVENT
DTSTART;TZID=America/New_York:20300215T080000
DTEND;TZID=America/New_York:20300215T083000
DTSTAMP:20260419T223544
CREATED:20241031T184838Z
LAST-MODIFIED:20241031T184838Z
UID:10022432-1897372800-1897374600@stmaryparish.net
SUMMARY:Mass (St Anthony)
DESCRIPTION:
URL:https://stmaryparish.net/event/mass-st-anthony-8/2030-02-15/
END:VEVENT
BEGIN:VEVENT
DTSTART;TZID=America/New_York:20300215T081000
DTEND;TZID=America/New_York:20300215T084000
DTSTAMP:20260419T223544
CREATED:20241031T191510Z
LAST-MODIFIED:20241031T191852Z
UID:10022456-1897373400-1897375200@stmaryparish.net
SUMMARY:Mass (St Mary)
DESCRIPTION:
URL:https://stmaryparish.net/event/mass-st-mary-8/2030-02-15/
END:VEVENT
BEGIN:VEVENT
DTSTART;TZID=America/New_York:20300215T084500
DTEND;TZID=America/New_York:20300215T110000
DTSTAMP:20260419T223544
CREATED:20240830T115554Z
LAST-MODIFIED:20251009T144948Z
UID:10023392-1897375500-1897383600@stmaryparish.net
SUMMARY:Women's Faith Study Group
DESCRIPTION:The Women’s Faith Study Group will kick off the next session on  Sept. 5. The group meets from 8:45 am to 11 am at St. Anthony in the lower level of the St. Therese Formation Center (St. Joseph Adoration Chapel building). Child care is not currently offered.  For information\, email Mary Beth at marywitzlib@gmail.com
URL:https://stmaryparish.net/event/womens-faith-study-group-2-2-2/2030-02-15/
LOCATION:St. Therese Formation Center\, N74 W13604 Appleton Ave\, Menomonee Falls\, WI\, 53051
CATEGORIES:St. Anthony Parish,St. Mary Parish
END:VEVENT
BEGIN:VEVENT
DTSTART;TZID=America/New_York:20300215T120000
DTEND;TZID=America/New_York:20300215T123000
DTSTAMP:20260419T223544
CREATED:20241031T192332Z
LAST-MODIFIED:20241031T192350Z
UID:10022478-1897387200-1897389000@stmaryparish.net
SUMMARY:Confessions (St Mary)
DESCRIPTION:
URL:https://stmaryparish.net/event/confessions-st-mary-5/2030-02-15/
END:VEVENT
BEGIN:VEVENT
DTSTART;TZID=America/New_York:20300215T170000
DTEND;TZID=America/New_York:20300215T173000
DTSTAMP:20260419T223544
CREATED:20240108T130904Z
LAST-MODIFIED:20250429T145934Z
UID:10011014-1897405200-1897407000@stmaryparish.net
SUMMARY:Confession (St. Anthony)
DESCRIPTION:The Sacrament of Reconciliation is offered daily during the week\, at 5 pm\, or by appointment\, at St. Anthony in the Church.
URL:https://stmaryparish.net/event/confessions-5-2/2030-02-15/
LOCATION:St. Anthony Church\, N74W13604 Appleton Avenue\, Menomonee Falls\,\, WI\, 53051\, United States
CATEGORIES:St. Anthony Parish
END:VEVENT
BEGIN:VEVENT
DTSTART;TZID=America/New_York:20300215T190000
DTEND;TZID=America/New_York:20300215T210000
DTSTAMP:20260419T223544
CREATED:20240830T122426Z
LAST-MODIFIED:20241217T175357Z
UID:10022489-1897412400-1897419600@stmaryparish.net
SUMMARY:Amici Dei Young Adult Group (Third Friday)
DESCRIPTION:Men and women ages 18 to 32 from St. Anthony and St. Mary Parishes are invited to join Amici Dei\, a young adult group that meets at 7 pm on the first and third Fridays of the month in the lower level of the St. Therese Formation Center Building at St. Anthony campus. \nContact: Andrew Jordan\, amicidei20@gmail.com
URL:https://stmaryparish.net/event/ameci-dei-young-adult-group-third-friday/2030-02-15/
LOCATION:St. Therese Formation Center\, N74 W13604 Appleton Ave\, Menomonee Falls\, WI\, 53051
CATEGORIES:St. Anthony Parish,St. Mary Parish
END:VEVENT
BEGIN:VEVENT
DTSTART;TZID=America/New_York:20300216T080000
DTEND;TZID=America/New_York:20300216T083000
DTSTAMP:20260419T223544
CREATED:20241031T185838Z
LAST-MODIFIED:20241031T185838Z
UID:10022506-1897459200-1897461000@stmaryparish.net
SUMMARY:Mass (St Mary)
DESCRIPTION:
URL:https://stmaryparish.net/event/mass-st-mary-7/2030-02-16/
END:VEVENT
BEGIN:VEVENT
DTSTART;TZID=America/New_York:20300216T163000
DTEND;TZID=America/New_York:20300216T173000
DTSTAMP:20260419T223544
CREATED:20241031T182115Z
LAST-MODIFIED:20241031T182115Z
UID:10022530-1897489800-1897493400@stmaryparish.net
SUMMARY:Mass (St Anthony)
DESCRIPTION:
URL:https://stmaryparish.net/event/mass-st-anthony-2/2030-02-16/
END:VEVENT
BEGIN:VEVENT
DTSTART;TZID=America/New_York:20300216T170000
DTEND;TZID=America/New_York:20300216T180000
DTSTAMP:20260419T223544
CREATED:20241031T182149Z
LAST-MODIFIED:20241031T183232Z
UID:10022554-1897491600-1897495200@stmaryparish.net
SUMMARY:Mass (St Mary)
DESCRIPTION:
URL:https://stmaryparish.net/event/mass-st-mary/2030-02-16/
END:VEVENT
END:VCALENDAR