BEGIN:VCALENDAR
VERSION:2.0
PRODID:-//St. Anthony and St. Mary Parishes - ECPv6.15.20//NONSGML v1.0//EN
CALSCALE:GREGORIAN
METHOD:PUBLISH
X-ORIGINAL-URL:https://stmaryparish.net
X-WR-CALDESC:Events for St. Anthony and St. Mary Parishes
REFRESH-INTERVAL;VALUE=DURATION:PT1H
X-Robots-Tag:noindex
X-PUBLISHED-TTL:PT1H
BEGIN:VTIMEZONE
TZID:America/New_York
BEGIN:DAYLIGHT
TZOFFSETFROM:-0500
TZOFFSETTO:-0400
TZNAME:EDT
DTSTART:20220313T070000
END:DAYLIGHT
BEGIN:STANDARD
TZOFFSETFROM:-0400
TZOFFSETTO:-0500
TZNAME:EST
DTSTART:20221106T060000
END:STANDARD
BEGIN:DAYLIGHT
TZOFFSETFROM:-0500
TZOFFSETTO:-0400
TZNAME:EDT
DTSTART:20230312T070000
END:DAYLIGHT
BEGIN:STANDARD
TZOFFSETFROM:-0400
TZOFFSETTO:-0500
TZNAME:EST
DTSTART:20231105T060000
END:STANDARD
BEGIN:DAYLIGHT
TZOFFSETFROM:-0500
TZOFFSETTO:-0400
TZNAME:EDT
DTSTART:20240310T070000
END:DAYLIGHT
BEGIN:STANDARD
TZOFFSETFROM:-0400
TZOFFSETTO:-0500
TZNAME:EST
DTSTART:20241103T060000
END:STANDARD
END:VTIMEZONE
BEGIN:VEVENT
DTSTART;TZID=America/New_York:20231127T080000
DTEND;TZID=America/New_York:20231127T083000
DTSTAMP:20260425T123740
CREATED:20231221T071652Z
LAST-MODIFIED:20240108T193733Z
UID:10007906-1701072000-1701073800@stmaryparish.net
SUMMARY:Daily Mass (St. Anthony)
DESCRIPTION:St. Anthony Parish
URL:https://stmaryparish.net/event/daily-mass-5/2023-11-27/
CATEGORIES:St. Anthony Parish
END:VEVENT
BEGIN:VEVENT
DTSTART;TZID=America/New_York:20231127T090000
DTEND;TZID=America/New_York:20231127T190000
DTSTAMP:20260425T123740
CREATED:20231221T073958Z
LAST-MODIFIED:20231221T073958Z
UID:10009527-1701075600-1701111600@stmaryparish.net
SUMMARY:Adoration
DESCRIPTION:St. Mary Parish
URL:https://stmaryparish.net/event/adoration-8/2023-11-27/
CATEGORIES:St. Mary Parish
END:VEVENT
BEGIN:VEVENT
DTSTART;TZID=America/New_York:20231127T120000
DTEND;TZID=America/New_York:20231127T123000
DTSTAMP:20260425T123740
CREATED:20231221T073905Z
LAST-MODIFIED:20231221T073905Z
UID:10009331-1701086400-1701088200@stmaryparish.net
SUMMARY:Confessions
DESCRIPTION:St. Mary Parish
URL:https://stmaryparish.net/event/confessions-4/2023-11-27/
CATEGORIES:St. Mary Parish
END:VEVENT
BEGIN:VEVENT
DTSTART;TZID=America/New_York:20231127T170000
DTEND;TZID=America/New_York:20231127T173000
DTSTAMP:20260425T123740
CREATED:20231221T072016Z
LAST-MODIFIED:20240830T132744Z
UID:10014654-1701104400-1701106200@stmaryparish.net
SUMMARY:Streetlife Ministry: Meals for the Homeless
DESCRIPTION:Meets the 4th Monday of each month \nMeals for the Homeless: Parishioners from St. Anthony and St. Mary make lunches once a month to support the StreetLife homeless outreach programs in Milwaukee. They also collect other items as requested. \nContact: Jenell Krause\, StAnthonyServes2023@gmail.com
URL:https://stmaryparish.net/event/st-anthony-serves-cfc-kitchen-3/2023-11-27/
LOCATION:St. Therese Formation Center\, N74 W13604 Appleton Ave\, Menomonee Falls\, WI\, 53051
CATEGORIES:St. Anthony Parish
ORGANIZER;CN="Jenell Krause":MAILTO:stanthonyserves2023@gmail.com
END:VEVENT
BEGIN:VEVENT
DTSTART;TZID=America/New_York:20231127T193000
DTEND;TZID=America/New_York:20231127T210000
DTSTAMP:20260425T123740
CREATED:20231221T071425Z
LAST-MODIFIED:20240108T150311Z
UID:10007833-1701113400-1701118800@stmaryparish.net
SUMMARY:Men's Group
DESCRIPTION:Men’s Group | 7:30-9 PM on Mondays\nJoin the us for a beer\, formation and friendship. No preparation is needed and there is no cost – just come with an open heart. The group meets on Mondays from 7:30-9 pm at St. Anthony Parish in the school building (Chesterton Academy Commons). This session we are discussing\, “That Man is You!” a program that harmonizes current social and medical science with the teachings of the Church and the wisdom of the saints to develop the vision of man fully alive!
URL:https://stmaryparish.net/event/mens-group-sta-stm-4/2023-11-27/
CATEGORIES:St. Anthony Parish,St. Mary Parish
END:VEVENT
BEGIN:VEVENT
DTSTART;TZID=America/New_York:20231128T063000
DTEND;TZID=America/New_York:20231128T070000
DTSTAMP:20260425T123740
CREATED:20231221T073158Z
LAST-MODIFIED:20240108T142411Z
UID:10008839-1701153000-1701154800@stmaryparish.net
SUMMARY:Daily Mass (St. Mary)
DESCRIPTION:St. Mary Parish
URL:https://stmaryparish.net/event/daily-mass-6/2023-11-28/
CATEGORIES:St. Mary Parish
END:VEVENT
BEGIN:VEVENT
DTSTART;TZID=America/New_York:20231128T080000
DTEND;TZID=America/New_York:20231128T083000
DTSTAMP:20260425T123740
CREATED:20231221T071652Z
LAST-MODIFIED:20240108T193733Z
UID:10007907-1701158400-1701160200@stmaryparish.net
SUMMARY:Daily Mass (St. Anthony)
DESCRIPTION:St. Anthony Parish
URL:https://stmaryparish.net/event/daily-mass-5/2023-11-28/
CATEGORIES:St. Anthony Parish
END:VEVENT
BEGIN:VEVENT
DTSTART;TZID=America/New_York:20231128T090000
DTEND;TZID=America/New_York:20231128T234500
DTSTAMP:20260425T123740
CREATED:20231221T072115Z
LAST-MODIFIED:20231221T072115Z
UID:10008415-1701162000-1701215100@stmaryparish.net
SUMMARY:Adoration
DESCRIPTION:St. Anthony Parish
URL:https://stmaryparish.net/event/adoration-2/2023-11-28/
CATEGORIES:St. Anthony Parish
END:VEVENT
BEGIN:VEVENT
DTSTART;TZID=America/New_York:20231128T120000
DTEND;TZID=America/New_York:20231128T123000
DTSTAMP:20260425T123740
CREATED:20231221T073905Z
LAST-MODIFIED:20231221T073905Z
UID:10009332-1701172800-1701174600@stmaryparish.net
SUMMARY:Confessions
DESCRIPTION:St. Mary Parish
URL:https://stmaryparish.net/event/confessions-4/2023-11-28/
CATEGORIES:St. Mary Parish
END:VEVENT
BEGIN:VEVENT
DTSTART;TZID=America/New_York:20231129T000000
DTEND;TZID=America/New_York:20231129T235900
DTSTAMP:20260425T123740
CREATED:20231221T072335Z
LAST-MODIFIED:20240108T151740Z
UID:10008521-1701216000-1701302340@stmaryparish.net
SUMMARY:Adoration
DESCRIPTION:St. Anthony Parish at St. Joseph Chapel
URL:https://stmaryparish.net/event/adoration-3/2023-11-29/
CATEGORIES:St. Anthony Parish,St. Mary Parish
END:VEVENT
BEGIN:VEVENT
DTSTART;TZID=America/New_York:20231129T080000
DTEND;TZID=America/New_York:20231129T083000
DTSTAMP:20260425T123740
CREATED:20231221T071652Z
LAST-MODIFIED:20240108T193733Z
UID:10007908-1701244800-1701246600@stmaryparish.net
SUMMARY:Daily Mass (St. Anthony)
DESCRIPTION:St. Anthony Parish
URL:https://stmaryparish.net/event/daily-mass-5/2023-11-29/
CATEGORIES:St. Anthony Parish
END:VEVENT
BEGIN:VEVENT
DTSTART;TZID=America/New_York:20231129T120000
DTEND;TZID=America/New_York:20231129T123000
DTSTAMP:20260425T123740
CREATED:20231221T073905Z
LAST-MODIFIED:20231221T073905Z
UID:10009333-1701259200-1701261000@stmaryparish.net
SUMMARY:Confessions
DESCRIPTION:St. Mary Parish
URL:https://stmaryparish.net/event/confessions-4/2023-11-29/
CATEGORIES:St. Mary Parish
END:VEVENT
BEGIN:VEVENT
DTSTART;TZID=America/New_York:20231130T000000
DTEND;TZID=America/New_York:20231130T235900
DTSTAMP:20260425T123740
CREATED:20231221T072426Z
LAST-MODIFIED:20240115T182444Z
UID:10008574-1701302400-1701388740@stmaryparish.net
SUMMARY:Adoration
DESCRIPTION:St. Anthony Parish
URL:https://stmaryparish.net/event/adoration-6/2023-11-30/
CATEGORIES:St. Anthony Parish
END:VEVENT
BEGIN:VEVENT
DTSTART;TZID=America/New_York:20231130T080000
DTEND;TZID=America/New_York:20231130T083000
DTSTAMP:20260425T123740
CREATED:20231221T071652Z
LAST-MODIFIED:20240108T193733Z
UID:10007909-1701331200-1701333000@stmaryparish.net
SUMMARY:Daily Mass (St. Anthony)
DESCRIPTION:St. Anthony Parish
URL:https://stmaryparish.net/event/daily-mass-5/2023-11-30/
CATEGORIES:St. Anthony Parish
END:VEVENT
BEGIN:VEVENT
DTSTART;TZID=America/New_York:20231130T121000
DTEND;TZID=America/New_York:20231130T123000
DTSTAMP:20260425T123740
CREATED:20231221T073321Z
LAST-MODIFIED:20240115T182214Z
UID:10008945-1701346200-1701347400@stmaryparish.net
SUMMARY:Daily Mass (St. Mary)
DESCRIPTION:St. Mary Parish – AO – Masses are celebrated ad orientem
URL:https://stmaryparish.net/event/daily-mass-9/2023-11-30/
CATEGORIES:St. Mary Parish
END:VEVENT
BEGIN:VEVENT
DTSTART;TZID=America/New_York:20231201T000000
DTEND;TZID=America/New_York:20231201T170000
DTSTAMP:20260425T123740
CREATED:20231221T072511Z
LAST-MODIFIED:20231221T072511Z
UID:10008627-1701388800-1701450000@stmaryparish.net
SUMMARY:Adoration
DESCRIPTION:St. Anthony Parish at St. Joseph Chapel
URL:https://stmaryparish.net/event/adoration-7/2023-12-01/
CATEGORIES:St. Anthony Parish
END:VEVENT
BEGIN:VEVENT
DTSTART;TZID=America/New_York:20231201T080000
DTEND;TZID=America/New_York:20231201T083000
DTSTAMP:20260425T123740
CREATED:20231221T071652Z
LAST-MODIFIED:20240108T193733Z
UID:10007910-1701417600-1701419400@stmaryparish.net
SUMMARY:Daily Mass (St. Anthony)
DESCRIPTION:St. Anthony Parish
URL:https://stmaryparish.net/event/daily-mass-5/2023-12-01/
CATEGORIES:St. Anthony Parish
END:VEVENT
BEGIN:VEVENT
DTSTART;TZID=America/New_York:20231201T120000
DTEND;TZID=America/New_York:20231201T123000
DTSTAMP:20260425T123740
CREATED:20231221T073905Z
LAST-MODIFIED:20231221T073905Z
UID:10009334-1701432000-1701433800@stmaryparish.net
SUMMARY:Confessions
DESCRIPTION:St. Mary Parish
URL:https://stmaryparish.net/event/confessions-4/2023-12-01/
CATEGORIES:St. Mary Parish
END:VEVENT
BEGIN:VEVENT
DTSTART;TZID=America/New_York:20231202T080000
DTEND;TZID=America/New_York:20231202T090000
DTSTAMP:20260425T123740
CREATED:20231221T073439Z
LAST-MODIFIED:20240108T141228Z
UID:10009051-1701504000-1701507600@stmaryparish.net
SUMMARY:Daily Mass (St. Mary)
DESCRIPTION:St. Mary Parish – AO – Masses are celebrated ad orientem
URL:https://stmaryparish.net/event/daily-mass-11/2023-12-02/
CATEGORIES:St. Mary Parish
END:VEVENT
BEGIN:VEVENT
DTSTART;TZID=America/New_York:20231202T163000
DTEND;TZID=America/New_York:20231202T173000
DTSTAMP:20260425T123740
CREATED:20231221T072746Z
LAST-MODIFIED:20240108T135824Z
UID:10008733-1701534600-1701538200@stmaryparish.net
SUMMARY:Vigil Mass (St. Anthony)
DESCRIPTION:St. Anthony Parish
URL:https://stmaryparish.net/event/mass-430-pm-3/2023-12-02/
CATEGORIES:St. Anthony Parish
END:VEVENT
BEGIN:VEVENT
DTSTART;TZID=America/New_York:20231202T170000
DTEND;TZID=America/New_York:20231202T180000
DTSTAMP:20260425T123740
CREATED:20231221T073520Z
LAST-MODIFIED:20240108T135730Z
UID:10009104-1701536400-1701540000@stmaryparish.net
SUMMARY:Vigil Mass (St. Mary)
DESCRIPTION:St. Mary Parish
URL:https://stmaryparish.net/event/mass-500pm/2023-12-02/
CATEGORIES:St. Mary Parish
END:VEVENT
BEGIN:VEVENT
DTSTART;TZID=America/New_York:20231203T073000
DTEND;TZID=America/New_York:20231203T083000
DTSTAMP:20260425T123740
CREATED:20231221T073603Z
LAST-MODIFIED:20240108T135653Z
UID:10009157-1701588600-1701592200@stmaryparish.net
SUMMARY:Mass (St. Mary)
DESCRIPTION:St. Mary Parish
URL:https://stmaryparish.net/event/mass-730-am/2023-12-03/
CATEGORIES:St. Mary Parish
END:VEVENT
BEGIN:VEVENT
DTSTART;TZID=America/New_York:20231203T093000
DTEND;TZID=America/New_York:20231203T103000
DTSTAMP:20260425T123740
CREATED:20231221T073652Z
LAST-MODIFIED:20240108T135124Z
UID:10009210-1701595800-1701599400@stmaryparish.net
SUMMARY:Mass (St. Mary)
DESCRIPTION:St. Mary Parish
URL:https://stmaryparish.net/event/mass-930-am-3/2023-12-03/
CATEGORIES:St. Mary Parish
END:VEVENT
BEGIN:VEVENT
DTSTART;TZID=America/New_York:20231203T103000
DTEND;TZID=America/New_York:20231203T113000
DTSTAMP:20260425T123740
CREATED:20231221T072840Z
LAST-MODIFIED:20240108T135210Z
UID:10008786-1701599400-1701603000@stmaryparish.net
SUMMARY:Mass (St. Anthony)
DESCRIPTION:St. Anthony Parish
URL:https://stmaryparish.net/event/mass-1030-am-2/2023-12-03/
CATEGORIES:St. Anthony Parish
END:VEVENT
BEGIN:VEVENT
DTSTART;TZID=America/New_York:20231203T104500
DTEND;TZID=America/New_York:20231203T120000
DTSTAMP:20260425T123740
CREATED:20231221T073733Z
LAST-MODIFIED:20240110T181749Z
UID:10009263-1701600300-1701604800@stmaryparish.net
SUMMARY:Religious Education Classes
DESCRIPTION:St. Mary School – Classrooms & Conference Rooms
URL:https://stmaryparish.net/event/religious-education-classes/2023-12-03/
CATEGORIES:St. Anthony Parish,St. Mary Parish
END:VEVENT
BEGIN:VEVENT
DTSTART;TZID=America/New_York:20231203T120000
DTEND;TZID=America/New_York:20231203T170000
DTSTAMP:20260425T123740
CREATED:20231221T074051Z
LAST-MODIFIED:20231221T074051Z
UID:10009580-1701604800-1701622800@stmaryparish.net
SUMMARY:Adoration
DESCRIPTION:St. Mary Parish
URL:https://stmaryparish.net/event/adoration-9/2023-12-03/
CATEGORIES:St. Mary Parish
END:VEVENT
END:VCALENDAR