BEGIN:VCALENDAR
VERSION:2.0
PRODID:-//St. Anthony and St. Mary Parishes - ECPv6.15.20//NONSGML v1.0//EN
CALSCALE:GREGORIAN
METHOD:PUBLISH
X-ORIGINAL-URL:https://stmaryparish.net
X-WR-CALDESC:Events for St. Anthony and St. Mary Parishes
REFRESH-INTERVAL;VALUE=DURATION:PT1H
X-Robots-Tag:noindex
X-PUBLISHED-TTL:PT1H
BEGIN:VTIMEZONE
TZID:America/New_York
BEGIN:DAYLIGHT
TZOFFSETFROM:-0500
TZOFFSETTO:-0400
TZNAME:EDT
DTSTART:20230312T070000
END:DAYLIGHT
BEGIN:STANDARD
TZOFFSETFROM:-0400
TZOFFSETTO:-0500
TZNAME:EST
DTSTART:20231105T060000
END:STANDARD
BEGIN:DAYLIGHT
TZOFFSETFROM:-0500
TZOFFSETTO:-0400
TZNAME:EDT
DTSTART:20240310T070000
END:DAYLIGHT
BEGIN:STANDARD
TZOFFSETFROM:-0400
TZOFFSETTO:-0500
TZNAME:EST
DTSTART:20241103T060000
END:STANDARD
BEGIN:DAYLIGHT
TZOFFSETFROM:-0500
TZOFFSETTO:-0400
TZNAME:EDT
DTSTART:20250309T070000
END:DAYLIGHT
BEGIN:STANDARD
TZOFFSETFROM:-0400
TZOFFSETTO:-0500
TZNAME:EST
DTSTART:20251102T060000
END:STANDARD
END:VTIMEZONE
BEGIN:VEVENT
DTSTART;TZID=America/New_York:20240207T000000
DTEND;TZID=America/New_York:20240207T235900
DTSTAMP:20260425T092356
CREATED:20231221T072335Z
LAST-MODIFIED:20240108T151740Z
UID:10008531-1707264000-1707350340@stmaryparish.net
SUMMARY:Adoration
DESCRIPTION:St. Anthony Parish at St. Joseph Chapel
URL:https://stmaryparish.net/event/adoration-3/2024-02-07/
CATEGORIES:St. Anthony Parish,St. Mary Parish
END:VEVENT
BEGIN:VEVENT
DTSTART;TZID=America/New_York:20240214T000000
DTEND;TZID=America/New_York:20240214T235900
DTSTAMP:20260425T092356
CREATED:20231221T072335Z
LAST-MODIFIED:20240108T151740Z
UID:10008532-1707868800-1707955140@stmaryparish.net
SUMMARY:Adoration
DESCRIPTION:St. Anthony Parish at St. Joseph Chapel
URL:https://stmaryparish.net/event/adoration-3/2024-02-14/
CATEGORIES:St. Anthony Parish,St. Mary Parish
END:VEVENT
BEGIN:VEVENT
DTSTART;TZID=America/New_York:20240221T000000
DTEND;TZID=America/New_York:20240221T235900
DTSTAMP:20260425T092356
CREATED:20231221T072335Z
LAST-MODIFIED:20240108T151740Z
UID:10008533-1708473600-1708559940@stmaryparish.net
SUMMARY:Adoration
DESCRIPTION:St. Anthony Parish at St. Joseph Chapel
URL:https://stmaryparish.net/event/adoration-3/2024-02-21/
CATEGORIES:St. Anthony Parish,St. Mary Parish
END:VEVENT
BEGIN:VEVENT
DTSTART;TZID=America/New_York:20240228T000000
DTEND;TZID=America/New_York:20240228T235900
DTSTAMP:20260425T092356
CREATED:20231221T072335Z
LAST-MODIFIED:20240108T151740Z
UID:10008534-1709078400-1709164740@stmaryparish.net
SUMMARY:Adoration
DESCRIPTION:St. Anthony Parish at St. Joseph Chapel
URL:https://stmaryparish.net/event/adoration-3/2024-02-28/
CATEGORIES:St. Anthony Parish,St. Mary Parish
END:VEVENT
END:VCALENDAR