BEGIN:VCALENDAR
VERSION:2.0
PRODID:-//St. Anthony and St. Mary Parishes - ECPv6.15.20//NONSGML v1.0//EN
CALSCALE:GREGORIAN
METHOD:PUBLISH
X-ORIGINAL-URL:https://stmaryparish.net
X-WR-CALDESC:Events for St. Anthony and St. Mary Parishes
REFRESH-INTERVAL;VALUE=DURATION:PT1H
X-Robots-Tag:noindex
X-PUBLISHED-TTL:PT1H
BEGIN:VTIMEZONE
TZID:America/New_York
BEGIN:DAYLIGHT
TZOFFSETFROM:-0500
TZOFFSETTO:-0400
TZNAME:EDT
DTSTART:20230312T070000
END:DAYLIGHT
BEGIN:STANDARD
TZOFFSETFROM:-0400
TZOFFSETTO:-0500
TZNAME:EST
DTSTART:20231105T060000
END:STANDARD
BEGIN:DAYLIGHT
TZOFFSETFROM:-0500
TZOFFSETTO:-0400
TZNAME:EDT
DTSTART:20240310T070000
END:DAYLIGHT
BEGIN:STANDARD
TZOFFSETFROM:-0400
TZOFFSETTO:-0500
TZNAME:EST
DTSTART:20241103T060000
END:STANDARD
BEGIN:DAYLIGHT
TZOFFSETFROM:-0500
TZOFFSETTO:-0400
TZNAME:EDT
DTSTART:20250309T070000
END:DAYLIGHT
BEGIN:STANDARD
TZOFFSETFROM:-0400
TZOFFSETTO:-0500
TZNAME:EST
DTSTART:20251102T060000
END:STANDARD
END:VTIMEZONE
BEGIN:VEVENT
DTSTART;TZID=America/New_York:20241211T112000
DTEND;TZID=America/New_York:20241211T234000
DTSTAMP:20260424T101214
CREATED:20241202T163804Z
LAST-MODIFIED:20241202T163817Z
UID:10021964-1733916000-1733960400@stmaryparish.net
SUMMARY:End of Life Talk on Dec. 11
DESCRIPTION:Have questions about end-of-life issues? Fr. Andrew Linn and Director of Formation Aaron Ebert will be offering a brief talk about Catholic moral teaching on end-of-life decisions on Wednesday\, Dec. 11. The talk will serve as an overview of the recently released 4th edition of “Now and at the Hour of Our Death\,” a pastoral letter offering moral guidance on end-of-life issues from the Catholic bishops of Wisconsin. (Scan the QR code to learn more).  \nJoin us at 11:20 am in the lower-level conference room of St. Mary Parish School\, just before the December Senior Social. If you’re staying for lunch\, please RSVP to Karen Z. (414) 355-1074.
URL:https://stmaryparish.net/event/end-of-life-talk-on-dec-11/
LOCATION:St. Mary Parish School\, N89W16215 Cleveland Avenue\, Menomonee Falls\,\, WI\, 53051\, United States
CATEGORIES:St. Mary Parish
END:VEVENT
END:VCALENDAR