BEGIN:VCALENDAR
VERSION:2.0
PRODID:-//St. Anthony and St. Mary Parishes - ECPv6.15.20//NONSGML v1.0//EN
CALSCALE:GREGORIAN
METHOD:PUBLISH
X-ORIGINAL-URL:https://stmaryparish.net
X-WR-CALDESC:Events for St. Anthony and St. Mary Parishes
REFRESH-INTERVAL;VALUE=DURATION:PT1H
X-Robots-Tag:noindex
X-PUBLISHED-TTL:PT1H
BEGIN:VTIMEZONE
TZID:America/New_York
BEGIN:DAYLIGHT
TZOFFSETFROM:-0500
TZOFFSETTO:-0400
TZNAME:EDT
DTSTART:20220313T070000
END:DAYLIGHT
BEGIN:STANDARD
TZOFFSETFROM:-0400
TZOFFSETTO:-0500
TZNAME:EST
DTSTART:20221106T060000
END:STANDARD
BEGIN:DAYLIGHT
TZOFFSETFROM:-0500
TZOFFSETTO:-0400
TZNAME:EDT
DTSTART:20230312T070000
END:DAYLIGHT
BEGIN:STANDARD
TZOFFSETFROM:-0400
TZOFFSETTO:-0500
TZNAME:EST
DTSTART:20231105T060000
END:STANDARD
BEGIN:DAYLIGHT
TZOFFSETFROM:-0500
TZOFFSETTO:-0400
TZNAME:EDT
DTSTART:20240310T070000
END:DAYLIGHT
BEGIN:STANDARD
TZOFFSETFROM:-0400
TZOFFSETTO:-0500
TZNAME:EST
DTSTART:20241103T060000
END:STANDARD
END:VTIMEZONE
BEGIN:VTIMEZONE
TZID:America/New_York
BEGIN:DAYLIGHT
TZOFFSETFROM:-0500
TZOFFSETTO:-0400
TZNAME:EDT
DTSTART:20220313T070000
END:DAYLIGHT
BEGIN:STANDARD
TZOFFSETFROM:-0400
TZOFFSETTO:-0500
TZNAME:EST
DTSTART:20221106T060000
END:STANDARD
BEGIN:DAYLIGHT
TZOFFSETFROM:-0500
TZOFFSETTO:-0400
TZNAME:EDT
DTSTART:20230312T070000
END:DAYLIGHT
BEGIN:STANDARD
TZOFFSETFROM:-0400
TZOFFSETTO:-0500
TZNAME:EST
DTSTART:20231105T060000
END:STANDARD
BEGIN:DAYLIGHT
TZOFFSETFROM:-0500
TZOFFSETTO:-0400
TZNAME:EDT
DTSTART:20240310T070000
END:DAYLIGHT
BEGIN:STANDARD
TZOFFSETFROM:-0400
TZOFFSETTO:-0500
TZNAME:EST
DTSTART:20241103T060000
END:STANDARD
END:VTIMEZONE
BEGIN:VEVENT
DTSTART;TZID=America/New_York:20231023T080000
DTEND;TZID=America/New_York:20231023T083000
DTSTAMP:20260425T123713
CREATED:20231221T071652Z
LAST-MODIFIED:20240108T193733Z
UID:10007881-1698048000-1698049800@stmaryparish.net
SUMMARY:Daily Mass (St. Anthony)
DESCRIPTION:St. Anthony Parish
URL:https://stmaryparish.net/event/daily-mass-5/2023-10-23/
CATEGORIES:St. Anthony Parish
END:VEVENT
BEGIN:VEVENT
DTSTART;TZID=America/New_York:20231023T090000
DTEND;TZID=America/New_York:20231023T190000
DTSTAMP:20260425T123713
CREATED:20231221T073958Z
LAST-MODIFIED:20231221T073958Z
UID:10009522-1698051600-1698087600@stmaryparish.net
SUMMARY:Adoration
DESCRIPTION:St. Mary Parish
URL:https://stmaryparish.net/event/adoration-8/2023-10-23/
CATEGORIES:St. Mary Parish
END:VEVENT
BEGIN:VEVENT
DTSTART;TZID=America/New_York:20231023T120000
DTEND;TZID=America/New_York:20231023T123000
DTSTAMP:20260425T123713
CREATED:20231221T073905Z
LAST-MODIFIED:20231221T073905Z
UID:10009311-1698062400-1698064200@stmaryparish.net
SUMMARY:Confessions
DESCRIPTION:St. Mary Parish
URL:https://stmaryparish.net/event/confessions-4/2023-10-23/
CATEGORIES:St. Mary Parish
END:VEVENT
BEGIN:VEVENT
DTSTART;TZID=America/New_York:20231023T170000
DTEND;TZID=America/New_York:20231023T173000
DTSTAMP:20260425T123713
CREATED:20231221T052928Z
LAST-MODIFIED:20240108T152244Z
UID:10007751-1698080400-1698082200@stmaryparish.net
SUMMARY:Lunch Making Ministry
DESCRIPTION:Serving the Hungry\nThe St. Anthony and St. Mary parish community collects bag lunches as well as donations of hygiene products\, blankets\, tents\, sweatshirts\, umbrellas\, etc. for Streetlife Communities\, Milwaukee on the 4th Monday of each month We meet in the kitchen of the St. Therese Formation Center (St. Joseph Adoration Chapel Building) at St. Anthony.\nAssemble lunches as follows: plastic grocery bag with a drink (juice/water)\, bag of chips\, and a dessert; a peanut butter/jelly sandwich and a fruit should be kept separate so it can be put into a bin at drop off.\nIf you have any questions\, contact Jenell Krause Stanthonyserves2023@gmail.com
URL:https://stmaryparish.net/event/st-anthony-serves-cfc-kitchen-2/
LOCATION:Knights of Columbus Hall\, W164N9161 Water St\, Menomonee Falls\, 53051\, United States
CATEGORIES:St. Anthony Parish,St. Mary Parish
ORGANIZER;CN="Jenell Krause":MAILTO:stanthonyserves2023@gmail.com
END:VEVENT
BEGIN:VEVENT
DTSTART;TZID=America/New_York:20231023T170000
DTEND;TZID=America/New_York:20231023T173000
DTSTAMP:20260425T123713
CREATED:20231221T072016Z
LAST-MODIFIED:20240830T132744Z
UID:10008407-1698080400-1698082200@stmaryparish.net
SUMMARY:Streetlife Ministry: Meals for the Homeless
DESCRIPTION:Meets the 4th Monday of each month \nMeals for the Homeless: Parishioners from St. Anthony and St. Mary make lunches once a month to support the StreetLife homeless outreach programs in Milwaukee. They also collect other items as requested. \nContact: Jenell Krause\, StAnthonyServes2023@gmail.com
URL:https://stmaryparish.net/event/st-anthony-serves-cfc-kitchen-3/2023-10-23/
LOCATION:St. Therese Formation Center\, N74 W13604 Appleton Ave\, Menomonee Falls\, WI\, 53051
CATEGORIES:St. Anthony Parish
ORGANIZER;CN="Jenell Krause":MAILTO:stanthonyserves2023@gmail.com
END:VEVENT
BEGIN:VEVENT
DTSTART;TZID=America/New_York:20231023T193000
DTEND;TZID=America/New_York:20231023T210000
DTSTAMP:20260425T123713
CREATED:20231221T071425Z
LAST-MODIFIED:20240108T150311Z
UID:10007828-1698089400-1698094800@stmaryparish.net
SUMMARY:Men's Group
DESCRIPTION:Men’s Group | 7:30-9 PM on Mondays\nJoin the us for a beer\, formation and friendship. No preparation is needed and there is no cost – just come with an open heart. The group meets on Mondays from 7:30-9 pm at St. Anthony Parish in the school building (Chesterton Academy Commons). This session we are discussing\, “That Man is You!” a program that harmonizes current social and medical science with the teachings of the Church and the wisdom of the saints to develop the vision of man fully alive!
URL:https://stmaryparish.net/event/mens-group-sta-stm-4/2023-10-23/
CATEGORIES:St. Anthony Parish,St. Mary Parish
END:VEVENT
BEGIN:VEVENT
DTSTART;TZID=America/New_York:20231024T063000
DTEND;TZID=America/New_York:20231024T070000
DTSTAMP:20260425T123713
CREATED:20231221T073158Z
LAST-MODIFIED:20240108T142411Z
UID:10008834-1698129000-1698130800@stmaryparish.net
SUMMARY:Daily Mass (St. Mary)
DESCRIPTION:St. Mary Parish
URL:https://stmaryparish.net/event/daily-mass-6/2023-10-24/
CATEGORIES:St. Mary Parish
END:VEVENT
BEGIN:VEVENT
DTSTART;TZID=America/New_York:20231024T080000
DTEND;TZID=America/New_York:20231024T083000
DTSTAMP:20260425T123713
CREATED:20231221T071652Z
LAST-MODIFIED:20240108T193733Z
UID:10007882-1698134400-1698136200@stmaryparish.net
SUMMARY:Daily Mass (St. Anthony)
DESCRIPTION:St. Anthony Parish
URL:https://stmaryparish.net/event/daily-mass-5/2023-10-24/
CATEGORIES:St. Anthony Parish
END:VEVENT
BEGIN:VEVENT
DTSTART;TZID=America/New_York:20231024T090000
DTEND;TZID=America/New_York:20231024T234500
DTSTAMP:20260425T123713
CREATED:20231221T072115Z
LAST-MODIFIED:20231221T072115Z
UID:10008410-1698138000-1698191100@stmaryparish.net
SUMMARY:Adoration
DESCRIPTION:St. Anthony Parish
URL:https://stmaryparish.net/event/adoration-2/2023-10-24/
CATEGORIES:St. Anthony Parish
END:VEVENT
BEGIN:VEVENT
DTSTART;TZID=America/New_York:20231024T120000
DTEND;TZID=America/New_York:20231024T123000
DTSTAMP:20260425T123713
CREATED:20231221T073905Z
LAST-MODIFIED:20231221T073905Z
UID:10009312-1698148800-1698150600@stmaryparish.net
SUMMARY:Confessions
DESCRIPTION:St. Mary Parish
URL:https://stmaryparish.net/event/confessions-4/2023-10-24/
CATEGORIES:St. Mary Parish
END:VEVENT
BEGIN:VEVENT
DTSTART;TZID=America/New_York:20231025T000000
DTEND;TZID=America/New_York:20231025T235900
DTSTAMP:20260425T123713
CREATED:20231221T072335Z
LAST-MODIFIED:20240108T151740Z
UID:10008516-1698192000-1698278340@stmaryparish.net
SUMMARY:Adoration
DESCRIPTION:St. Anthony Parish at St. Joseph Chapel
URL:https://stmaryparish.net/event/adoration-3/2023-10-25/
CATEGORIES:St. Anthony Parish,St. Mary Parish
END:VEVENT
BEGIN:VEVENT
DTSTART;TZID=America/New_York:20231025T080000
DTEND;TZID=America/New_York:20231025T083000
DTSTAMP:20260425T123713
CREATED:20231221T071652Z
LAST-MODIFIED:20240108T193733Z
UID:10007883-1698220800-1698222600@stmaryparish.net
SUMMARY:Daily Mass (St. Anthony)
DESCRIPTION:St. Anthony Parish
URL:https://stmaryparish.net/event/daily-mass-5/2023-10-25/
CATEGORIES:St. Anthony Parish
END:VEVENT
BEGIN:VEVENT
DTSTART;TZID=America/New_York:20231025T120000
DTEND;TZID=America/New_York:20231025T123000
DTSTAMP:20260425T123713
CREATED:20231221T073905Z
LAST-MODIFIED:20231221T073905Z
UID:10009313-1698235200-1698237000@stmaryparish.net
SUMMARY:Confessions
DESCRIPTION:St. Mary Parish
URL:https://stmaryparish.net/event/confessions-4/2023-10-25/
CATEGORIES:St. Mary Parish
END:VEVENT
BEGIN:VEVENT
DTSTART;TZID=America/New_York:20231026T000000
DTEND;TZID=America/New_York:20231026T235900
DTSTAMP:20260425T123713
CREATED:20231221T072426Z
LAST-MODIFIED:20240115T182444Z
UID:10008569-1698278400-1698364740@stmaryparish.net
SUMMARY:Adoration
DESCRIPTION:St. Anthony Parish
URL:https://stmaryparish.net/event/adoration-6/2023-10-26/
CATEGORIES:St. Anthony Parish
END:VEVENT
BEGIN:VEVENT
DTSTART;TZID=America/New_York:20231026T080000
DTEND;TZID=America/New_York:20231026T083000
DTSTAMP:20260425T123713
CREATED:20231221T071652Z
LAST-MODIFIED:20240108T193733Z
UID:10007884-1698307200-1698309000@stmaryparish.net
SUMMARY:Daily Mass (St. Anthony)
DESCRIPTION:St. Anthony Parish
URL:https://stmaryparish.net/event/daily-mass-5/2023-10-26/
CATEGORIES:St. Anthony Parish
END:VEVENT
BEGIN:VEVENT
DTSTART;TZID=America/New_York:20231026T121000
DTEND;TZID=America/New_York:20231026T123000
DTSTAMP:20260425T123713
CREATED:20231221T073321Z
LAST-MODIFIED:20240115T182214Z
UID:10008940-1698322200-1698323400@stmaryparish.net
SUMMARY:Daily Mass (St. Mary)
DESCRIPTION:St. Mary Parish – AO – Masses are celebrated ad orientem
URL:https://stmaryparish.net/event/daily-mass-9/2023-10-26/
CATEGORIES:St. Mary Parish
END:VEVENT
BEGIN:VEVENT
DTSTART;TZID=America/New_York:20231027T000000
DTEND;TZID=America/New_York:20231027T170000
DTSTAMP:20260425T123713
CREATED:20231221T072511Z
LAST-MODIFIED:20231221T072511Z
UID:10008622-1698364800-1698426000@stmaryparish.net
SUMMARY:Adoration
DESCRIPTION:St. Anthony Parish at St. Joseph Chapel
URL:https://stmaryparish.net/event/adoration-7/2023-10-27/
CATEGORIES:St. Anthony Parish
END:VEVENT
BEGIN:VEVENT
DTSTART;TZID=America/New_York:20231027T080000
DTEND;TZID=America/New_York:20231027T083000
DTSTAMP:20260425T123713
CREATED:20231221T071652Z
LAST-MODIFIED:20240108T193733Z
UID:10007885-1698393600-1698395400@stmaryparish.net
SUMMARY:Daily Mass (St. Anthony)
DESCRIPTION:St. Anthony Parish
URL:https://stmaryparish.net/event/daily-mass-5/2023-10-27/
CATEGORIES:St. Anthony Parish
END:VEVENT
BEGIN:VEVENT
DTSTART;TZID=America/New_York:20231027T120000
DTEND;TZID=America/New_York:20231027T123000
DTSTAMP:20260425T123713
CREATED:20231221T073905Z
LAST-MODIFIED:20231221T073905Z
UID:10009314-1698408000-1698409800@stmaryparish.net
SUMMARY:Confessions
DESCRIPTION:St. Mary Parish
URL:https://stmaryparish.net/event/confessions-4/2023-10-27/
CATEGORIES:St. Mary Parish
END:VEVENT
BEGIN:VEVENT
DTSTART;TZID=America/New_York:20231028T080000
DTEND;TZID=America/New_York:20231028T090000
DTSTAMP:20260425T123713
CREATED:20231221T073439Z
LAST-MODIFIED:20240108T141228Z
UID:10009046-1698480000-1698483600@stmaryparish.net
SUMMARY:Daily Mass (St. Mary)
DESCRIPTION:St. Mary Parish – AO – Masses are celebrated ad orientem
URL:https://stmaryparish.net/event/daily-mass-11/2023-10-28/
CATEGORIES:St. Mary Parish
END:VEVENT
BEGIN:VEVENT
DTSTART;TZID=America/New_York:20231028T163000
DTEND;TZID=America/New_York:20231028T173000
DTSTAMP:20260425T123713
CREATED:20231221T072746Z
LAST-MODIFIED:20240108T135824Z
UID:10008728-1698510600-1698514200@stmaryparish.net
SUMMARY:Vigil Mass (St. Anthony)
DESCRIPTION:St. Anthony Parish
URL:https://stmaryparish.net/event/mass-430-pm-3/2023-10-28/
CATEGORIES:St. Anthony Parish
END:VEVENT
BEGIN:VEVENT
DTSTART;TZID=America/New_York:20231028T170000
DTEND;TZID=America/New_York:20231028T180000
DTSTAMP:20260425T123713
CREATED:20231221T073520Z
LAST-MODIFIED:20240108T135730Z
UID:10009099-1698512400-1698516000@stmaryparish.net
SUMMARY:Vigil Mass (St. Mary)
DESCRIPTION:St. Mary Parish
URL:https://stmaryparish.net/event/mass-500pm/2023-10-28/
CATEGORIES:St. Mary Parish
END:VEVENT
BEGIN:VEVENT
DTSTART;TZID=America/New_York:20231029T073000
DTEND;TZID=America/New_York:20231029T083000
DTSTAMP:20260425T123713
CREATED:20231221T073603Z
LAST-MODIFIED:20240108T135653Z
UID:10009152-1698564600-1698568200@stmaryparish.net
SUMMARY:Mass (St. Mary)
DESCRIPTION:St. Mary Parish
URL:https://stmaryparish.net/event/mass-730-am/2023-10-29/
CATEGORIES:St. Mary Parish
END:VEVENT
BEGIN:VEVENT
DTSTART;TZID=America/New_York:20231029T093000
DTEND;TZID=America/New_York:20231029T103000
DTSTAMP:20260425T123713
CREATED:20231221T073652Z
LAST-MODIFIED:20240108T135124Z
UID:10009205-1698571800-1698575400@stmaryparish.net
SUMMARY:Mass (St. Mary)
DESCRIPTION:St. Mary Parish
URL:https://stmaryparish.net/event/mass-930-am-3/2023-10-29/
CATEGORIES:St. Mary Parish
END:VEVENT
BEGIN:VEVENT
DTSTART;TZID=America/New_York:20231029T103000
DTEND;TZID=America/New_York:20231029T113000
DTSTAMP:20260425T123713
CREATED:20231221T072840Z
LAST-MODIFIED:20240108T135210Z
UID:10008781-1698575400-1698579000@stmaryparish.net
SUMMARY:Mass (St. Anthony)
DESCRIPTION:St. Anthony Parish
URL:https://stmaryparish.net/event/mass-1030-am-2/2023-10-29/
CATEGORIES:St. Anthony Parish
END:VEVENT
BEGIN:VEVENT
DTSTART;TZID=America/New_York:20231029T104500
DTEND;TZID=America/New_York:20231029T120000
DTSTAMP:20260425T123713
CREATED:20231221T073733Z
LAST-MODIFIED:20240110T181749Z
UID:10009258-1698576300-1698580800@stmaryparish.net
SUMMARY:Religious Education Classes
DESCRIPTION:St. Mary School – Classrooms & Conference Rooms
URL:https://stmaryparish.net/event/religious-education-classes/2023-10-29/
CATEGORIES:St. Anthony Parish,St. Mary Parish
END:VEVENT
BEGIN:VEVENT
DTSTART;TZID=America/New_York:20231029T120000
DTEND;TZID=America/New_York:20231029T170000
DTSTAMP:20260425T123713
CREATED:20231221T074051Z
LAST-MODIFIED:20231221T074051Z
UID:10009575-1698580800-1698598800@stmaryparish.net
SUMMARY:Adoration
DESCRIPTION:St. Mary Parish
URL:https://stmaryparish.net/event/adoration-9/2023-10-29/
CATEGORIES:St. Mary Parish
END:VEVENT
BEGIN:VEVENT
DTSTART;TZID=America/New_York:20231030T080000
DTEND;TZID=America/New_York:20231030T083000
DTSTAMP:20260425T123713
CREATED:20231221T071652Z
LAST-MODIFIED:20240108T193733Z
UID:10007886-1698652800-1698654600@stmaryparish.net
SUMMARY:Daily Mass (St. Anthony)
DESCRIPTION:St. Anthony Parish
URL:https://stmaryparish.net/event/daily-mass-5/2023-10-30/
CATEGORIES:St. Anthony Parish
END:VEVENT
BEGIN:VEVENT
DTSTART;TZID=America/New_York:20231030T090000
DTEND;TZID=America/New_York:20231030T190000
DTSTAMP:20260425T123713
CREATED:20231221T073958Z
LAST-MODIFIED:20231221T073958Z
UID:10009523-1698656400-1698692400@stmaryparish.net
SUMMARY:Adoration
DESCRIPTION:St. Mary Parish
URL:https://stmaryparish.net/event/adoration-8/2023-10-30/
CATEGORIES:St. Mary Parish
END:VEVENT
BEGIN:VEVENT
DTSTART;TZID=America/New_York:20231030T120000
DTEND;TZID=America/New_York:20231030T123000
DTSTAMP:20260425T123713
CREATED:20231221T073905Z
LAST-MODIFIED:20231221T073905Z
UID:10009315-1698667200-1698669000@stmaryparish.net
SUMMARY:Confessions
DESCRIPTION:St. Mary Parish
URL:https://stmaryparish.net/event/confessions-4/2023-10-30/
CATEGORIES:St. Mary Parish
END:VEVENT
END:VCALENDAR