BEGIN:VCALENDAR
VERSION:2.0
PRODID:-//St. Anthony and St. Mary Parishes - ECPv6.15.20//NONSGML v1.0//EN
CALSCALE:GREGORIAN
METHOD:PUBLISH
X-WR-CALNAME:St. Anthony and St. Mary Parishes
X-ORIGINAL-URL:https://stmaryparish.net
X-WR-CALDESC:Events for St. Anthony and St. Mary Parishes
REFRESH-INTERVAL;VALUE=DURATION:PT1H
X-Robots-Tag:noindex
X-PUBLISHED-TTL:PT1H
BEGIN:VTIMEZONE
TZID:America/New_York
BEGIN:DAYLIGHT
TZOFFSETFROM:-0500
TZOFFSETTO:-0400
TZNAME:EDT
DTSTART:20270314T070000
END:DAYLIGHT
BEGIN:STANDARD
TZOFFSETFROM:-0400
TZOFFSETTO:-0500
TZNAME:EST
DTSTART:20271107T060000
END:STANDARD
BEGIN:DAYLIGHT
TZOFFSETFROM:-0500
TZOFFSETTO:-0400
TZNAME:EDT
DTSTART:20280312T070000
END:DAYLIGHT
BEGIN:STANDARD
TZOFFSETFROM:-0400
TZOFFSETTO:-0500
TZNAME:EST
DTSTART:20281105T060000
END:STANDARD
BEGIN:DAYLIGHT
TZOFFSETFROM:-0500
TZOFFSETTO:-0400
TZNAME:EDT
DTSTART:20290311T070000
END:DAYLIGHT
BEGIN:STANDARD
TZOFFSETFROM:-0400
TZOFFSETTO:-0500
TZNAME:EST
DTSTART:20291104T060000
END:STANDARD
END:VTIMEZONE
BEGIN:VTIMEZONE
TZID:America/New_York
BEGIN:DAYLIGHT
TZOFFSETFROM:-0500
TZOFFSETTO:-0400
TZNAME:EDT
DTSTART:20270314T070000
END:DAYLIGHT
BEGIN:STANDARD
TZOFFSETFROM:-0400
TZOFFSETTO:-0500
TZNAME:EST
DTSTART:20271107T060000
END:STANDARD
BEGIN:DAYLIGHT
TZOFFSETFROM:-0500
TZOFFSETTO:-0400
TZNAME:EDT
DTSTART:20280312T070000
END:DAYLIGHT
BEGIN:STANDARD
TZOFFSETFROM:-0400
TZOFFSETTO:-0500
TZNAME:EST
DTSTART:20281105T060000
END:STANDARD
BEGIN:DAYLIGHT
TZOFFSETFROM:-0500
TZOFFSETTO:-0400
TZNAME:EDT
DTSTART:20290311T070000
END:DAYLIGHT
BEGIN:STANDARD
TZOFFSETFROM:-0400
TZOFFSETTO:-0500
TZNAME:EST
DTSTART:20291104T060000
END:STANDARD
END:VTIMEZONE
BEGIN:VEVENT
DTSTART;TZID=America/New_York:20280628T080000
DTEND;TZID=America/New_York:20280628T083000
DTSTAMP:20260424T112953
CREATED:20241031T184609Z
LAST-MODIFIED:20241031T184609Z
UID:10017892-1845792000-1845793800@stmaryparish.net
SUMMARY:Mass (St Anthony)
DESCRIPTION:
URL:https://stmaryparish.net/event/mass-st-anthony-6/2028-06-28/
LOCATION:WI
END:VEVENT
BEGIN:VEVENT
DTSTART;TZID=America/New_York:20280628T081000
DTEND;TZID=America/New_York:20280628T084500
DTSTAMP:20260424T112953
CREATED:20250428T205453Z
LAST-MODIFIED:20250428T205454Z
UID:10018934-1845792600-1845794700@stmaryparish.net
SUMMARY:Mass (St Mary)
DESCRIPTION:
URL:https://stmaryparish.net/event/mass-st-mary-5-2/2028-06-28/
LOCATION:WI
END:VEVENT
BEGIN:VEVENT
DTSTART;TZID=America/New_York:20280628T120000
DTEND;TZID=America/New_York:20280628T123000
DTSTAMP:20260424T112953
CREATED:20241031T185919Z
LAST-MODIFIED:20250304T204847Z
UID:10020512-1845806400-1845808200@stmaryparish.net
SUMMARY:Confessions (St Mary)
DESCRIPTION:
URL:https://stmaryparish.net/event/confessions-st-mary-3/2028-06-28/
LOCATION:WI
END:VEVENT
BEGIN:VEVENT
DTSTART;TZID=America/New_York:20280628T170000
DTEND;TZID=America/New_York:20280628T173000
DTSTAMP:20260424T112953
CREATED:20240312T141801Z
LAST-MODIFIED:20250304T205157Z
UID:10014120-1845824400-1845826200@stmaryparish.net
SUMMARY:Confessions (St. Anthony)
DESCRIPTION:
URL:https://stmaryparish.net/event/confessions-st-anthony-2/2028-06-28/
LOCATION:WI
END:VEVENT
BEGIN:VEVENT
DTSTART;TZID=America/New_York:20280629T080000
DTEND;TZID=America/New_York:20280629T083000
DTSTAMP:20260424T112953
CREATED:20250612T170511Z
LAST-MODIFIED:20250612T170512Z
UID:10018153-1845878400-1845880200@stmaryparish.net
SUMMARY:Mass (St Anthony)
DESCRIPTION:
URL:https://stmaryparish.net/event/mass-st-anthony-7-2-2/2028-06-29/
LOCATION:WI
END:VEVENT
BEGIN:VEVENT
DTSTART;TZID=America/New_York:20280629T121000
DTEND;TZID=America/New_York:20280629T124500
DTSTAMP:20260424T112953
CREATED:20241031T185234Z
LAST-MODIFIED:20241031T185234Z
UID:10019195-1845893400-1845895500@stmaryparish.net
SUMMARY:Mass (St Mary)
DESCRIPTION:
URL:https://stmaryparish.net/event/mass-st-mary-6/2028-06-29/
LOCATION:WI
END:VEVENT
BEGIN:VEVENT
DTSTART;TZID=America/New_York:20280629T170000
DTEND;TZID=America/New_York:20280629T173000
DTSTAMP:20260424T112953
CREATED:20240108T130904Z
LAST-MODIFIED:20250429T145934Z
UID:10010588-1845910800-1845912600@stmaryparish.net
SUMMARY:Confession (St. Anthony)
DESCRIPTION:The Sacrament of Reconciliation is offered daily during the week\, at 5 pm\, or by appointment\, at St. Anthony in the Church.
URL:https://stmaryparish.net/event/confessions-5-2/2028-06-29/
LOCATION:St. Anthony Church\, N74W13604 Appleton Avenue\, Menomonee Falls\,\, WI\, 53051\, United States
CATEGORIES:St. Anthony Parish
END:VEVENT
BEGIN:VEVENT
DTSTART;TZID=America/New_York:20280630T080000
DTEND;TZID=America/New_York:20280630T083000
DTSTAMP:20260424T112953
CREATED:20241031T184838Z
LAST-MODIFIED:20241031T184838Z
UID:10018413-1845964800-1845966600@stmaryparish.net
SUMMARY:Mass (St Anthony)
DESCRIPTION:
URL:https://stmaryparish.net/event/mass-st-anthony-8/2028-06-30/
LOCATION:WI
END:VEVENT
BEGIN:VEVENT
DTSTART;TZID=America/New_York:20280630T081000
DTEND;TZID=America/New_York:20280630T084000
DTSTAMP:20260424T112953
CREATED:20241031T191510Z
LAST-MODIFIED:20241031T191852Z
UID:10020774-1845965400-1845967200@stmaryparish.net
SUMMARY:Mass (St Mary)
DESCRIPTION:
URL:https://stmaryparish.net/event/mass-st-mary-8/2028-06-30/
LOCATION:WI
END:VEVENT
BEGIN:VEVENT
DTSTART;TZID=America/New_York:20280630T084500
DTEND;TZID=America/New_York:20280630T110000
DTSTAMP:20260424T112953
CREATED:20240830T115554Z
LAST-MODIFIED:20251009T144948Z
UID:10023307-1845967500-1845975600@stmaryparish.net
SUMMARY:Women's Faith Study Group
DESCRIPTION:The Women’s Faith Study Group will kick off the next session on  Sept. 5. The group meets from 8:45 am to 11 am at St. Anthony in the lower level of the St. Therese Formation Center (St. Joseph Adoration Chapel building). Child care is not currently offered.  For information\, email Mary Beth at marywitzlib@gmail.com
URL:https://stmaryparish.net/event/womens-faith-study-group-2-2-2/2028-06-30/
LOCATION:St. Therese Formation Center\, N74 W13604 Appleton Ave\, Menomonee Falls\, WI\, 53051
CATEGORIES:St. Anthony Parish,St. Mary Parish
END:VEVENT
BEGIN:VEVENT
DTSTART;TZID=America/New_York:20280630T120000
DTEND;TZID=America/New_York:20280630T123000
DTSTAMP:20260424T112953
CREATED:20241031T192332Z
LAST-MODIFIED:20241031T192350Z
UID:10021035-1845979200-1845981000@stmaryparish.net
SUMMARY:Confessions (St Mary)
DESCRIPTION:
URL:https://stmaryparish.net/event/confessions-st-mary-5/2028-06-30/
LOCATION:WI
END:VEVENT
BEGIN:VEVENT
DTSTART;TZID=America/New_York:20280630T170000
DTEND;TZID=America/New_York:20280630T173000
DTSTAMP:20260424T112953
CREATED:20240108T130904Z
LAST-MODIFIED:20250429T145934Z
UID:10010589-1845997200-1845999000@stmaryparish.net
SUMMARY:Confession (St. Anthony)
DESCRIPTION:The Sacrament of Reconciliation is offered daily during the week\, at 5 pm\, or by appointment\, at St. Anthony in the Church.
URL:https://stmaryparish.net/event/confessions-5-2/2028-06-30/
LOCATION:St. Anthony Church\, N74W13604 Appleton Avenue\, Menomonee Falls\,\, WI\, 53051\, United States
CATEGORIES:St. Anthony Parish
END:VEVENT
BEGIN:VEVENT
DTSTART;TZID=America/New_York:20280701T080000
DTEND;TZID=America/New_York:20280701T083000
DTSTAMP:20260424T112953
CREATED:20241031T185838Z
LAST-MODIFIED:20241031T185838Z
UID:10020252-1846051200-1846053000@stmaryparish.net
SUMMARY:Mass (St Mary)
DESCRIPTION:
URL:https://stmaryparish.net/event/mass-st-mary-7/2028-07-01/
LOCATION:WI
END:VEVENT
BEGIN:VEVENT
DTSTART;TZID=America/New_York:20280701T163000
DTEND;TZID=America/New_York:20280701T173000
DTSTAMP:20260424T112953
CREATED:20241031T182115Z
LAST-MODIFIED:20241031T182115Z
UID:10016066-1846081800-1846085400@stmaryparish.net
SUMMARY:Mass (St Anthony)
DESCRIPTION:
URL:https://stmaryparish.net/event/mass-st-anthony-2/2028-07-01/
LOCATION:WI
END:VEVENT
BEGIN:VEVENT
DTSTART;TZID=America/New_York:20280701T170000
DTEND;TZID=America/New_York:20280701T180000
DTSTAMP:20260424T112953
CREATED:20241031T182149Z
LAST-MODIFIED:20241031T183232Z
UID:10017110-1846083600-1846087200@stmaryparish.net
SUMMARY:Mass (St Mary)
DESCRIPTION:
URL:https://stmaryparish.net/event/mass-st-mary/2028-07-01/
LOCATION:WI
END:VEVENT
BEGIN:VEVENT
DTSTART;TZID=America/New_York:20280702T073000
DTEND;TZID=America/New_York:20280702T083000
DTSTAMP:20260424T112953
CREATED:20241031T182247Z
LAST-MODIFIED:20241031T182247Z
UID:10016328-1846135800-1846139400@stmaryparish.net
SUMMARY:Mass (St Mary)
DESCRIPTION:
URL:https://stmaryparish.net/event/mass-st-mary-2/2028-07-02/
LOCATION:WI
END:VEVENT
BEGIN:VEVENT
DTSTART;TZID=America/New_York:20280702T083000
DTEND;TZID=America/New_York:20280702T093000
DTSTAMP:20260424T112953
CREATED:20240327T154544Z
LAST-MODIFIED:20240327T154544Z
UID:10014575-1846139400-1846143000@stmaryparish.net
SUMMARY:Mass (St. Anthony)
DESCRIPTION:
URL:https://stmaryparish.net/event/mass-st-anthony/2028-07-02/
LOCATION:WI
END:VEVENT
BEGIN:VEVENT
DTSTART;TZID=America/New_York:20280702T093000
DTEND;TZID=America/New_York:20280702T103000
DTSTAMP:20260424T112953
CREATED:20241031T182419Z
LAST-MODIFIED:20241031T182915Z
UID:10016850-1846143000-1846146600@stmaryparish.net
SUMMARY:Mass (St Mary)
DESCRIPTION:
URL:https://stmaryparish.net/event/mass-st-mary-3/2028-07-02/
LOCATION:WI
END:VEVENT
BEGIN:VEVENT
DTSTART;TZID=America/New_York:20280702T103000
DTEND;TZID=America/New_York:20280702T113000
DTSTAMP:20260424T112953
CREATED:20241031T182523Z
LAST-MODIFIED:20241031T182523Z
UID:10016590-1846146600-1846150200@stmaryparish.net
SUMMARY:Mass (St Anthony)
DESCRIPTION:
URL:https://stmaryparish.net/event/mass-st-anthony-3/2028-07-02/
LOCATION:WI
END:VEVENT
BEGIN:VEVENT
DTSTART;TZID=America/New_York:20280703T080000
DTEND;TZID=America/New_York:20280703T083000
DTSTAMP:20260424T112953
CREATED:20241031T184422Z
LAST-MODIFIED:20241031T184422Z
UID:10017371-1846224000-1846225800@stmaryparish.net
SUMMARY:Mass (St Anthony)
DESCRIPTION:
URL:https://stmaryparish.net/event/mass-st-anthony-4/2028-07-03/
LOCATION:WI
END:VEVENT
BEGIN:VEVENT
DTSTART;TZID=America/New_York:20280703T120000
DTEND;TZID=America/New_York:20280703T123000
DTSTAMP:20260424T112953
CREATED:20241031T185431Z
LAST-MODIFIED:20241031T185431Z
UID:10019731-1846238400-1846240200@stmaryparish.net
SUMMARY:Confessions (St Mary)
DESCRIPTION:
URL:https://stmaryparish.net/event/confessions-st-mary/2028-07-03/
LOCATION:WI
END:VEVENT
BEGIN:VEVENT
DTSTART;TZID=America/New_York:20280703T170000
DTEND;TZID=America/New_York:20280703T173000
DTSTAMP:20260424T112953
CREATED:20240108T130904Z
LAST-MODIFIED:20250429T145934Z
UID:10010590-1846256400-1846258200@stmaryparish.net
SUMMARY:Confession (St. Anthony)
DESCRIPTION:The Sacrament of Reconciliation is offered daily during the week\, at 5 pm\, or by appointment\, at St. Anthony in the Church.
URL:https://stmaryparish.net/event/confessions-5-2/2028-07-03/
LOCATION:St. Anthony Church\, N74W13604 Appleton Avenue\, Menomonee Falls\,\, WI\, 53051\, United States
CATEGORIES:St. Anthony Parish
END:VEVENT
BEGIN:VEVENT
DTSTART;TZID=America/New_York:20280703T190000
DTEND;TZID=America/New_York:20280703T203000
DTSTAMP:20260424T112953
CREATED:20250905T185422Z
LAST-MODIFIED:20250905T185615Z
UID:10023046-1846263600-1846269000@stmaryparish.net
SUMMARY:Men's Group
DESCRIPTION:The Men’s Group meets Mondays from 7–8:30 pm (starting Sept. 15) at St. Anthony Parish. The Men’s group meets to strengthen each other to be Catholic men. We will launch our first meeting of the fall with a cookout behind St. Anthony Church.  All men are welcome. \nEmail Marty at martin.dybicz@gmail.com for details. \nMeetings take place at St. Anthony campus in the school building (Chesterton Academy — Commons)\, unless otherwise noted.
URL:https://stmaryparish.net/event/mens-group/2028-07-03/
LOCATION:St. Anthony Church\, N74W13604 Appleton Avenue\, Menomonee Falls\,\, WI\, 53051\, United States
END:VEVENT
BEGIN:VEVENT
DTSTART;TZID=America/New_York:20280704T063000
DTEND;TZID=America/New_York:20280704T070000
DTSTAMP:20260424T112953
CREATED:20241031T185031Z
LAST-MODIFIED:20241031T185031Z
UID:10018674-1846305000-1846306800@stmaryparish.net
SUMMARY:Mass (St Mary)
DESCRIPTION:
URL:https://stmaryparish.net/event/mass-st-mary-4/2028-07-04/
LOCATION:WI
END:VEVENT
BEGIN:VEVENT
DTSTART;TZID=America/New_York:20280704T080000
DTEND;TZID=America/New_York:20280704T083000
DTSTAMP:20260424T112953
CREATED:20241031T184517Z
LAST-MODIFIED:20241031T184517Z
UID:10017632-1846310400-1846312200@stmaryparish.net
SUMMARY:Mass (St Anthony)
DESCRIPTION:
URL:https://stmaryparish.net/event/mass-st-anthony-5/2028-07-04/
LOCATION:WI
END:VEVENT
BEGIN:VEVENT
DTSTART;TZID=America/New_York:20280704T120000
DTEND;TZID=America/New_York:20280704T123000
DTSTAMP:20260424T112953
CREATED:20241213T180235Z
LAST-MODIFIED:20241213T180235Z
UID:10019992-1846324800-1846326600@stmaryparish.net
SUMMARY:Confessions (St Mary)
DESCRIPTION:
URL:https://stmaryparish.net/event/confessions-st-mary-2-2/2028-07-04/
LOCATION:WI
END:VEVENT
BEGIN:VEVENT
DTSTART;TZID=America/New_York:20280704T170000
DTEND;TZID=America/New_York:20280704T173000
DTSTAMP:20260424T112953
CREATED:20241213T190819Z
LAST-MODIFIED:20250414T214653Z
UID:10013862-1846342800-1846344600@stmaryparish.net
SUMMARY:Confessions (St. Anthony)
DESCRIPTION:
URL:https://stmaryparish.net/event/confessions-st-anthony-9/2028-07-04/
LOCATION:WI
END:VEVENT
BEGIN:VEVENT
DTSTART;TZID=America/New_York:20280705T080000
DTEND;TZID=America/New_York:20280705T083000
DTSTAMP:20260424T112953
CREATED:20241031T184609Z
LAST-MODIFIED:20241031T184609Z
UID:10017893-1846396800-1846398600@stmaryparish.net
SUMMARY:Mass (St Anthony)
DESCRIPTION:
URL:https://stmaryparish.net/event/mass-st-anthony-6/2028-07-05/
LOCATION:WI
END:VEVENT
BEGIN:VEVENT
DTSTART;TZID=America/New_York:20280705T081000
DTEND;TZID=America/New_York:20280705T084500
DTSTAMP:20260424T112953
CREATED:20250428T205453Z
LAST-MODIFIED:20250428T205454Z
UID:10018935-1846397400-1846399500@stmaryparish.net
SUMMARY:Mass (St Mary)
DESCRIPTION:
URL:https://stmaryparish.net/event/mass-st-mary-5-2/2028-07-05/
LOCATION:WI
END:VEVENT
BEGIN:VEVENT
DTSTART;TZID=America/New_York:20280705T120000
DTEND;TZID=America/New_York:20280705T123000
DTSTAMP:20260424T112953
CREATED:20241031T185919Z
LAST-MODIFIED:20250304T204847Z
UID:10020513-1846411200-1846413000@stmaryparish.net
SUMMARY:Confessions (St Mary)
DESCRIPTION:
URL:https://stmaryparish.net/event/confessions-st-mary-3/2028-07-05/
LOCATION:WI
END:VEVENT
END:VCALENDAR