BEGIN:VCALENDAR
VERSION:2.0
PRODID:-//St. Anthony and St. Mary Parishes - ECPv6.15.20//NONSGML v1.0//EN
CALSCALE:GREGORIAN
METHOD:PUBLISH
X-WR-CALNAME:St. Anthony and St. Mary Parishes
X-ORIGINAL-URL:https://stmaryparish.net
X-WR-CALDESC:Events for St. Anthony and St. Mary Parishes
REFRESH-INTERVAL;VALUE=DURATION:PT1H
X-Robots-Tag:noindex
X-PUBLISHED-TTL:PT1H
BEGIN:VTIMEZONE
TZID:America/New_York
BEGIN:DAYLIGHT
TZOFFSETFROM:-0500
TZOFFSETTO:-0400
TZNAME:EDT
DTSTART:20300310T070000
END:DAYLIGHT
BEGIN:STANDARD
TZOFFSETFROM:-0400
TZOFFSETTO:-0500
TZNAME:EST
DTSTART:20301103T060000
END:STANDARD
BEGIN:DAYLIGHT
TZOFFSETFROM:-0500
TZOFFSETTO:-0400
TZNAME:EDT
DTSTART:20310309T070000
END:DAYLIGHT
BEGIN:STANDARD
TZOFFSETFROM:-0400
TZOFFSETTO:-0500
TZNAME:EST
DTSTART:20311102T060000
END:STANDARD
BEGIN:DAYLIGHT
TZOFFSETFROM:-0500
TZOFFSETTO:-0400
TZNAME:EDT
DTSTART:20320314T070000
END:DAYLIGHT
BEGIN:STANDARD
TZOFFSETFROM:-0400
TZOFFSETTO:-0500
TZNAME:EST
DTSTART:20321107T060000
END:STANDARD
END:VTIMEZONE
BEGIN:VTIMEZONE
TZID:America/New_York
BEGIN:DAYLIGHT
TZOFFSETFROM:-0500
TZOFFSETTO:-0400
TZNAME:EDT
DTSTART:20300310T070000
END:DAYLIGHT
BEGIN:STANDARD
TZOFFSETFROM:-0400
TZOFFSETTO:-0500
TZNAME:EST
DTSTART:20301103T060000
END:STANDARD
BEGIN:DAYLIGHT
TZOFFSETFROM:-0500
TZOFFSETTO:-0400
TZNAME:EDT
DTSTART:20310309T070000
END:DAYLIGHT
BEGIN:STANDARD
TZOFFSETFROM:-0400
TZOFFSETTO:-0500
TZNAME:EST
DTSTART:20311102T060000
END:STANDARD
BEGIN:DAYLIGHT
TZOFFSETFROM:-0500
TZOFFSETTO:-0400
TZNAME:EDT
DTSTART:20320314T070000
END:DAYLIGHT
BEGIN:STANDARD
TZOFFSETFROM:-0400
TZOFFSETTO:-0500
TZNAME:EST
DTSTART:20321107T060000
END:STANDARD
END:VTIMEZONE
BEGIN:VEVENT
DTSTART;TZID=America/New_York:20310207T080000
DTEND;TZID=America/New_York:20310207T083000
DTSTAMP:20260423T023340
CREATED:20241031T184838Z
LAST-MODIFIED:20241031T184838Z
UID:10023836-1928217600-1928219400@stmaryparish.net
SUMMARY:Mass (St Anthony)
DESCRIPTION:
URL:https://stmaryparish.net/event/mass-st-anthony-8/2031-02-07/
LOCATION:WI
END:VEVENT
BEGIN:VEVENT
DTSTART;TZID=America/New_York:20310207T081000
DTEND;TZID=America/New_York:20310207T084000
DTSTAMP:20260423T023340
CREATED:20241031T191510Z
LAST-MODIFIED:20241031T191852Z
UID:10023877-1928218200-1928220000@stmaryparish.net
SUMMARY:Mass (St Mary)
DESCRIPTION:
URL:https://stmaryparish.net/event/mass-st-mary-8/2031-02-07/
LOCATION:WI
END:VEVENT
BEGIN:VEVENT
DTSTART;TZID=America/New_York:20310207T084500
DTEND;TZID=America/New_York:20310207T110000
DTSTAMP:20260423T023340
CREATED:20240830T115554Z
LAST-MODIFIED:20251009T144948Z
UID:10023892-1928220300-1928228400@stmaryparish.net
SUMMARY:Women's Faith Study Group
DESCRIPTION:The Women’s Faith Study Group will kick off the next session on  Sept. 5. The group meets from 8:45 am to 11 am at St. Anthony in the lower level of the St. Therese Formation Center (St. Joseph Adoration Chapel building). Child care is not currently offered.  For information\, email Mary Beth at marywitzlib@gmail.com
URL:https://stmaryparish.net/event/womens-faith-study-group-2-2-2/2031-02-07/
LOCATION:St. Therese Formation Center\, N74 W13604 Appleton Ave\, Menomonee Falls\, WI\, 53051
CATEGORIES:St. Anthony Parish,St. Mary Parish
END:VEVENT
BEGIN:VEVENT
DTSTART;TZID=America/New_York:20310207T120000
DTEND;TZID=America/New_York:20310207T123000
DTSTAMP:20260423T023340
CREATED:20241031T192332Z
LAST-MODIFIED:20241031T192350Z
UID:10023907-1928232000-1928233800@stmaryparish.net
SUMMARY:Confessions (St Mary)
DESCRIPTION:
URL:https://stmaryparish.net/event/confessions-st-mary-5/2031-02-07/
LOCATION:WI
END:VEVENT
BEGIN:VEVENT
DTSTART;TZID=America/New_York:20310207T190000
DTEND;TZID=America/New_York:20310207T210000
DTSTAMP:20260423T023340
CREATED:20240830T122256Z
LAST-MODIFIED:20241217T175459Z
UID:10023919-1928257200-1928264400@stmaryparish.net
SUMMARY:Amici Dei Young Adult Group (First Friday)
DESCRIPTION:Men and women ages 18 to 32 from St. Anthony and St. Mary Parishes are invited to join Amici Dei\, a young adult group that meets at 7 pm on the first and third Fridays of the month in the lower level of the St. Therese Formation Center Building at St. Anthony campus. \nContact: Andrew Jordan\, amicidei20@gmail.com
URL:https://stmaryparish.net/event/ameci-dei-young-adult-group-first-friday/2031-02-07/
LOCATION:St. Therese Formation Center\, N74 W13604 Appleton Ave\, Menomonee Falls\, WI\, 53051
CATEGORIES:St. Anthony Parish,St. Mary Parish
END:VEVENT
BEGIN:VEVENT
DTSTART;TZID=America/New_York:20310208T080000
DTEND;TZID=America/New_York:20310208T083000
DTSTAMP:20260423T023340
CREATED:20241031T185838Z
LAST-MODIFIED:20241031T185838Z
UID:10023962-1928304000-1928305800@stmaryparish.net
SUMMARY:Mass (St Mary)
DESCRIPTION:
URL:https://stmaryparish.net/event/mass-st-mary-7/2031-02-08/
LOCATION:WI
END:VEVENT
BEGIN:VEVENT
DTSTART;TZID=America/New_York:20310208T163000
DTEND;TZID=America/New_York:20310208T173000
DTSTAMP:20260423T023340
CREATED:20241031T182115Z
LAST-MODIFIED:20241031T182115Z
UID:10024054-1928334600-1928338200@stmaryparish.net
SUMMARY:Mass (St Anthony)
DESCRIPTION:
URL:https://stmaryparish.net/event/mass-st-anthony-2/2031-02-08/
LOCATION:WI
END:VEVENT
BEGIN:VEVENT
DTSTART;TZID=America/New_York:20310208T170000
DTEND;TZID=America/New_York:20310208T180000
DTSTAMP:20260423T023340
CREATED:20241031T182149Z
LAST-MODIFIED:20241031T183232Z
UID:10024008-1928336400-1928340000@stmaryparish.net
SUMMARY:Mass (St Mary)
DESCRIPTION:
URL:https://stmaryparish.net/event/mass-st-mary/2031-02-08/
LOCATION:WI
END:VEVENT
BEGIN:VEVENT
DTSTART;TZID=America/New_York:20310210T190000
DTEND;TZID=America/New_York:20310210T203000
DTSTAMP:20260423T023340
CREATED:20250905T185422Z
LAST-MODIFIED:20250905T185615Z
UID:10024081-1928516400-1928521800@stmaryparish.net
SUMMARY:Men's Group
DESCRIPTION:The Men’s Group meets Mondays from 7–8:30 pm (starting Sept. 15) at St. Anthony Parish. The Men’s group meets to strengthen each other to be Catholic men. We will launch our first meeting of the fall with a cookout behind St. Anthony Church.  All men are welcome. \nEmail Marty at martin.dybicz@gmail.com for details. \nMeetings take place at St. Anthony campus in the school building (Chesterton Academy — Commons)\, unless otherwise noted.
URL:https://stmaryparish.net/event/mens-group/2031-02-10/
LOCATION:St. Anthony Church\, N74W13604 Appleton Avenue\, Menomonee Falls\,\, WI\, 53051\, United States
END:VEVENT
BEGIN:VEVENT
DTSTART;TZID=America/New_York:20310211T170000
DTEND;TZID=America/New_York:20310211T173000
DTSTAMP:20260423T023340
CREATED:20241213T190819Z
LAST-MODIFIED:20250414T214653Z
UID:10023667-1928595600-1928597400@stmaryparish.net
SUMMARY:Confessions (St. Anthony)
DESCRIPTION:
URL:https://stmaryparish.net/event/confessions-st-anthony-9/2031-02-11/
LOCATION:WI
END:VEVENT
BEGIN:VEVENT
DTSTART;TZID=America/New_York:20310212T120000
DTEND;TZID=America/New_York:20310212T123000
DTSTAMP:20260423T023340
CREATED:20241031T185919Z
LAST-MODIFIED:20250304T204847Z
UID:10023702-1928664000-1928665800@stmaryparish.net
SUMMARY:Confessions (St Mary)
DESCRIPTION:
URL:https://stmaryparish.net/event/confessions-st-mary-3/2031-02-12/
LOCATION:WI
END:VEVENT
BEGIN:VEVENT
DTSTART;TZID=America/New_York:20310212T170000
DTEND;TZID=America/New_York:20310212T173000
DTSTAMP:20260423T023340
CREATED:20240312T141801Z
LAST-MODIFIED:20250304T205157Z
UID:10024140-1928682000-1928683800@stmaryparish.net
SUMMARY:Confessions (St. Anthony)
DESCRIPTION:
URL:https://stmaryparish.net/event/confessions-st-anthony-2/2031-02-12/
LOCATION:WI
END:VEVENT
BEGIN:VEVENT
DTSTART;TZID=America/New_York:20310213T080000
DTEND;TZID=America/New_York:20310213T083000
DTSTAMP:20260423T023340
CREATED:20250612T170511Z
LAST-MODIFIED:20250612T170512Z
UID:10023781-1928736000-1928737800@stmaryparish.net
SUMMARY:Mass (St Anthony)
DESCRIPTION:
URL:https://stmaryparish.net/event/mass-st-anthony-7-2-2/2031-02-13/
LOCATION:WI
END:VEVENT
BEGIN:VEVENT
DTSTART;TZID=America/New_York:20310213T121000
DTEND;TZID=America/New_York:20310213T124500
DTSTAMP:20260423T023340
CREATED:20241031T185234Z
LAST-MODIFIED:20241031T185234Z
UID:10023798-1928751000-1928753100@stmaryparish.net
SUMMARY:Mass (St Mary)
DESCRIPTION:
URL:https://stmaryparish.net/event/mass-st-mary-6/2031-02-13/
LOCATION:WI
END:VEVENT
BEGIN:VEVENT
DTSTART;TZID=America/New_York:20310214T080000
DTEND;TZID=America/New_York:20310214T083000
DTSTAMP:20260423T023340
CREATED:20241031T184838Z
LAST-MODIFIED:20241031T184838Z
UID:10023837-1928822400-1928824200@stmaryparish.net
SUMMARY:Mass (St Anthony)
DESCRIPTION:
URL:https://stmaryparish.net/event/mass-st-anthony-8/2031-02-14/
LOCATION:WI
END:VEVENT
BEGIN:VEVENT
DTSTART;TZID=America/New_York:20310214T081000
DTEND;TZID=America/New_York:20310214T084000
DTSTAMP:20260423T023340
CREATED:20241031T191510Z
LAST-MODIFIED:20241031T191852Z
UID:10023878-1928823000-1928824800@stmaryparish.net
SUMMARY:Mass (St Mary)
DESCRIPTION:
URL:https://stmaryparish.net/event/mass-st-mary-8/2031-02-14/
LOCATION:WI
END:VEVENT
BEGIN:VEVENT
DTSTART;TZID=America/New_York:20310214T084500
DTEND;TZID=America/New_York:20310214T110000
DTSTAMP:20260423T023340
CREATED:20240830T115554Z
LAST-MODIFIED:20251009T144948Z
UID:10023893-1928825100-1928833200@stmaryparish.net
SUMMARY:Women's Faith Study Group
DESCRIPTION:The Women’s Faith Study Group will kick off the next session on  Sept. 5. The group meets from 8:45 am to 11 am at St. Anthony in the lower level of the St. Therese Formation Center (St. Joseph Adoration Chapel building). Child care is not currently offered.  For information\, email Mary Beth at marywitzlib@gmail.com
URL:https://stmaryparish.net/event/womens-faith-study-group-2-2-2/2031-02-14/
LOCATION:St. Therese Formation Center\, N74 W13604 Appleton Ave\, Menomonee Falls\, WI\, 53051
CATEGORIES:St. Anthony Parish,St. Mary Parish
END:VEVENT
BEGIN:VEVENT
DTSTART;TZID=America/New_York:20310214T120000
DTEND;TZID=America/New_York:20310214T123000
DTSTAMP:20260423T023340
CREATED:20241031T192332Z
LAST-MODIFIED:20241031T192350Z
UID:10023908-1928836800-1928838600@stmaryparish.net
SUMMARY:Confessions (St Mary)
DESCRIPTION:
URL:https://stmaryparish.net/event/confessions-st-mary-5/2031-02-14/
LOCATION:WI
END:VEVENT
BEGIN:VEVENT
DTSTART;TZID=America/New_York:20310215T080000
DTEND;TZID=America/New_York:20310215T083000
DTSTAMP:20260423T023340
CREATED:20241031T185838Z
LAST-MODIFIED:20241031T185838Z
UID:10023963-1928908800-1928910600@stmaryparish.net
SUMMARY:Mass (St Mary)
DESCRIPTION:
URL:https://stmaryparish.net/event/mass-st-mary-7/2031-02-15/
LOCATION:WI
END:VEVENT
BEGIN:VEVENT
DTSTART;TZID=America/New_York:20310215T163000
DTEND;TZID=America/New_York:20310215T173000
DTSTAMP:20260423T023340
CREATED:20241031T182115Z
LAST-MODIFIED:20241031T182115Z
UID:10024055-1928939400-1928943000@stmaryparish.net
SUMMARY:Mass (St Anthony)
DESCRIPTION:
URL:https://stmaryparish.net/event/mass-st-anthony-2/2031-02-15/
LOCATION:WI
END:VEVENT
BEGIN:VEVENT
DTSTART;TZID=America/New_York:20310215T170000
DTEND;TZID=America/New_York:20310215T180000
DTSTAMP:20260423T023340
CREATED:20241031T182149Z
LAST-MODIFIED:20241031T183232Z
UID:10024009-1928941200-1928944800@stmaryparish.net
SUMMARY:Mass (St Mary)
DESCRIPTION:
URL:https://stmaryparish.net/event/mass-st-mary/2031-02-15/
LOCATION:WI
END:VEVENT
BEGIN:VEVENT
DTSTART;TZID=America/New_York:20310217T190000
DTEND;TZID=America/New_York:20310217T203000
DTSTAMP:20260423T023340
CREATED:20250905T185422Z
LAST-MODIFIED:20250905T185615Z
UID:10024082-1929121200-1929126600@stmaryparish.net
SUMMARY:Men's Group
DESCRIPTION:The Men’s Group meets Mondays from 7–8:30 pm (starting Sept. 15) at St. Anthony Parish. The Men’s group meets to strengthen each other to be Catholic men. We will launch our first meeting of the fall with a cookout behind St. Anthony Church.  All men are welcome. \nEmail Marty at martin.dybicz@gmail.com for details. \nMeetings take place at St. Anthony campus in the school building (Chesterton Academy — Commons)\, unless otherwise noted.
URL:https://stmaryparish.net/event/mens-group/2031-02-17/
LOCATION:St. Anthony Church\, N74W13604 Appleton Avenue\, Menomonee Falls\,\, WI\, 53051\, United States
END:VEVENT
BEGIN:VEVENT
DTSTART;TZID=America/New_York:20310219T120000
DTEND;TZID=America/New_York:20310219T123000
DTSTAMP:20260423T023340
CREATED:20241031T185919Z
LAST-MODIFIED:20250304T204847Z
UID:10024146-1929268800-1929270600@stmaryparish.net
SUMMARY:Confessions (St Mary)
DESCRIPTION:
URL:https://stmaryparish.net/event/confessions-st-mary-3/2031-02-19/
LOCATION:WI
END:VEVENT
BEGIN:VEVENT
DTSTART;TZID=America/New_York:20310219T170000
DTEND;TZID=America/New_York:20310219T173000
DTSTAMP:20260423T023340
CREATED:20240312T141801Z
LAST-MODIFIED:20250304T205157Z
UID:10024141-1929286800-1929288600@stmaryparish.net
SUMMARY:Confessions (St. Anthony)
DESCRIPTION:
URL:https://stmaryparish.net/event/confessions-st-anthony-2/2031-02-19/
LOCATION:WI
END:VEVENT
BEGIN:VEVENT
DTSTART;TZID=America/New_York:20310220T080000
DTEND;TZID=America/New_York:20310220T083000
DTSTAMP:20260423T023340
CREATED:20250612T170511Z
LAST-MODIFIED:20250612T170512Z
UID:10023782-1929340800-1929342600@stmaryparish.net
SUMMARY:Mass (St Anthony)
DESCRIPTION:
URL:https://stmaryparish.net/event/mass-st-anthony-7-2-2/2031-02-20/
LOCATION:WI
END:VEVENT
BEGIN:VEVENT
DTSTART;TZID=America/New_York:20310220T121000
DTEND;TZID=America/New_York:20310220T124500
DTSTAMP:20260423T023340
CREATED:20241031T185234Z
LAST-MODIFIED:20241031T185234Z
UID:10023799-1929355800-1929357900@stmaryparish.net
SUMMARY:Mass (St Mary)
DESCRIPTION:
URL:https://stmaryparish.net/event/mass-st-mary-6/2031-02-20/
LOCATION:WI
END:VEVENT
BEGIN:VEVENT
DTSTART;TZID=America/New_York:20310221T080000
DTEND;TZID=America/New_York:20310221T083000
DTSTAMP:20260423T023340
CREATED:20241031T184838Z
LAST-MODIFIED:20241031T184838Z
UID:10023838-1929427200-1929429000@stmaryparish.net
SUMMARY:Mass (St Anthony)
DESCRIPTION:
URL:https://stmaryparish.net/event/mass-st-anthony-8/2031-02-21/
LOCATION:WI
END:VEVENT
BEGIN:VEVENT
DTSTART;TZID=America/New_York:20310221T081000
DTEND;TZID=America/New_York:20310221T084000
DTSTAMP:20260423T023340
CREATED:20241031T191510Z
LAST-MODIFIED:20241031T191852Z
UID:10023879-1929427800-1929429600@stmaryparish.net
SUMMARY:Mass (St Mary)
DESCRIPTION:
URL:https://stmaryparish.net/event/mass-st-mary-8/2031-02-21/
LOCATION:WI
END:VEVENT
BEGIN:VEVENT
DTSTART;TZID=America/New_York:20310221T084500
DTEND;TZID=America/New_York:20310221T110000
DTSTAMP:20260423T023340
CREATED:20240830T115554Z
LAST-MODIFIED:20251009T144948Z
UID:10023894-1929429900-1929438000@stmaryparish.net
SUMMARY:Women's Faith Study Group
DESCRIPTION:The Women’s Faith Study Group will kick off the next session on  Sept. 5. The group meets from 8:45 am to 11 am at St. Anthony in the lower level of the St. Therese Formation Center (St. Joseph Adoration Chapel building). Child care is not currently offered.  For information\, email Mary Beth at marywitzlib@gmail.com
URL:https://stmaryparish.net/event/womens-faith-study-group-2-2-2/2031-02-21/
LOCATION:St. Therese Formation Center\, N74 W13604 Appleton Ave\, Menomonee Falls\, WI\, 53051
CATEGORIES:St. Anthony Parish,St. Mary Parish
END:VEVENT
BEGIN:VEVENT
DTSTART;TZID=America/New_York:20310221T120000
DTEND;TZID=America/New_York:20310221T123000
DTSTAMP:20260423T023340
CREATED:20241031T192332Z
LAST-MODIFIED:20241031T192350Z
UID:10023909-1929441600-1929443400@stmaryparish.net
SUMMARY:Confessions (St Mary)
DESCRIPTION:
URL:https://stmaryparish.net/event/confessions-st-mary-5/2031-02-21/
LOCATION:WI
END:VEVENT
END:VCALENDAR