BEGIN:VCALENDAR
VERSION:2.0
PRODID:-//St. Anthony and St. Mary Parishes - ECPv6.15.20//NONSGML v1.0//EN
CALSCALE:GREGORIAN
METHOD:PUBLISH
X-WR-CALNAME:St. Anthony and St. Mary Parishes
X-ORIGINAL-URL:https://stmaryparish.net
X-WR-CALDESC:Events for St. Anthony and St. Mary Parishes
REFRESH-INTERVAL;VALUE=DURATION:PT1H
X-Robots-Tag:noindex
X-PUBLISHED-TTL:PT1H
BEGIN:VTIMEZONE
TZID:America/New_York
BEGIN:DAYLIGHT
TZOFFSETFROM:-0500
TZOFFSETTO:-0400
TZNAME:EDT
DTSTART:20280312T070000
END:DAYLIGHT
BEGIN:STANDARD
TZOFFSETFROM:-0400
TZOFFSETTO:-0500
TZNAME:EST
DTSTART:20281105T060000
END:STANDARD
BEGIN:DAYLIGHT
TZOFFSETFROM:-0500
TZOFFSETTO:-0400
TZNAME:EDT
DTSTART:20290311T070000
END:DAYLIGHT
BEGIN:STANDARD
TZOFFSETFROM:-0400
TZOFFSETTO:-0500
TZNAME:EST
DTSTART:20291104T060000
END:STANDARD
BEGIN:DAYLIGHT
TZOFFSETFROM:-0500
TZOFFSETTO:-0400
TZNAME:EDT
DTSTART:20300310T070000
END:DAYLIGHT
BEGIN:STANDARD
TZOFFSETFROM:-0400
TZOFFSETTO:-0500
TZNAME:EST
DTSTART:20301103T060000
END:STANDARD
END:VTIMEZONE
BEGIN:VTIMEZONE
TZID:America/New_York
BEGIN:DAYLIGHT
TZOFFSETFROM:-0500
TZOFFSETTO:-0400
TZNAME:EDT
DTSTART:20280312T070000
END:DAYLIGHT
BEGIN:STANDARD
TZOFFSETFROM:-0400
TZOFFSETTO:-0500
TZNAME:EST
DTSTART:20281105T060000
END:STANDARD
BEGIN:DAYLIGHT
TZOFFSETFROM:-0500
TZOFFSETTO:-0400
TZNAME:EDT
DTSTART:20290311T070000
END:DAYLIGHT
BEGIN:STANDARD
TZOFFSETFROM:-0400
TZOFFSETTO:-0500
TZNAME:EST
DTSTART:20291104T060000
END:STANDARD
BEGIN:DAYLIGHT
TZOFFSETFROM:-0500
TZOFFSETTO:-0400
TZNAME:EDT
DTSTART:20300310T070000
END:DAYLIGHT
BEGIN:STANDARD
TZOFFSETFROM:-0400
TZOFFSETTO:-0500
TZNAME:EST
DTSTART:20301103T060000
END:STANDARD
END:VTIMEZONE
BEGIN:VEVENT
DTSTART;TZID=America/New_York:20290906T080000
DTEND;TZID=America/New_York:20290906T083000
DTSTAMP:20260421T131437
CREATED:20250612T170511Z
LAST-MODIFIED:20250612T170512Z
UID:10018215-1883376000-1883377800@stmaryparish.net
SUMMARY:Mass (St Anthony)
DESCRIPTION:
URL:https://stmaryparish.net/event/mass-st-anthony-7-2-2/2029-09-06/
LOCATION:WI
END:VEVENT
BEGIN:VEVENT
DTSTART;TZID=America/New_York:20290906T121000
DTEND;TZID=America/New_York:20290906T124500
DTSTAMP:20260421T131437
CREATED:20241031T185234Z
LAST-MODIFIED:20241031T185234Z
UID:10019257-1883391000-1883393100@stmaryparish.net
SUMMARY:Mass (St Mary)
DESCRIPTION:
URL:https://stmaryparish.net/event/mass-st-mary-6/2029-09-06/
LOCATION:WI
END:VEVENT
BEGIN:VEVENT
DTSTART;TZID=America/New_York:20290906T170000
DTEND;TZID=America/New_York:20290906T173000
DTSTAMP:20260421T131437
CREATED:20240108T130904Z
LAST-MODIFIED:20250429T145934Z
UID:10010898-1883408400-1883410200@stmaryparish.net
SUMMARY:Confession (St. Anthony)
DESCRIPTION:The Sacrament of Reconciliation is offered daily during the week\, at 5 pm\, or by appointment\, at St. Anthony in the Church.
URL:https://stmaryparish.net/event/confessions-5-2/2029-09-06/
LOCATION:St. Anthony Church\, N74W13604 Appleton Avenue\, Menomonee Falls\,\, WI\, 53051\, United States
CATEGORIES:St. Anthony Parish
END:VEVENT
BEGIN:VEVENT
DTSTART;TZID=America/New_York:20290907T080000
DTEND;TZID=America/New_York:20290907T083000
DTSTAMP:20260421T131437
CREATED:20241031T184838Z
LAST-MODIFIED:20241031T184838Z
UID:10018475-1883462400-1883464200@stmaryparish.net
SUMMARY:Mass (St Anthony)
DESCRIPTION:
URL:https://stmaryparish.net/event/mass-st-anthony-8/2029-09-07/
LOCATION:WI
END:VEVENT
BEGIN:VEVENT
DTSTART;TZID=America/New_York:20290907T081000
DTEND;TZID=America/New_York:20290907T084000
DTSTAMP:20260421T131437
CREATED:20241031T191510Z
LAST-MODIFIED:20241031T191852Z
UID:10020836-1883463000-1883464800@stmaryparish.net
SUMMARY:Mass (St Mary)
DESCRIPTION:
URL:https://stmaryparish.net/event/mass-st-mary-8/2029-09-07/
LOCATION:WI
END:VEVENT
BEGIN:VEVENT
DTSTART;TZID=America/New_York:20290907T084500
DTEND;TZID=America/New_York:20290907T110000
DTSTAMP:20260421T131437
CREATED:20240830T115554Z
LAST-MODIFIED:20251009T144948Z
UID:10023369-1883465100-1883473200@stmaryparish.net
SUMMARY:Women's Faith Study Group
DESCRIPTION:The Women’s Faith Study Group will kick off the next session on  Sept. 5. The group meets from 8:45 am to 11 am at St. Anthony in the lower level of the St. Therese Formation Center (St. Joseph Adoration Chapel building). Child care is not currently offered.  For information\, email Mary Beth at marywitzlib@gmail.com
URL:https://stmaryparish.net/event/womens-faith-study-group-2-2-2/2029-09-07/
LOCATION:St. Therese Formation Center\, N74 W13604 Appleton Ave\, Menomonee Falls\, WI\, 53051
CATEGORIES:St. Anthony Parish,St. Mary Parish
END:VEVENT
BEGIN:VEVENT
DTSTART;TZID=America/New_York:20290907T120000
DTEND;TZID=America/New_York:20290907T123000
DTSTAMP:20260421T131437
CREATED:20241031T192332Z
LAST-MODIFIED:20241031T192350Z
UID:10021097-1883476800-1883478600@stmaryparish.net
SUMMARY:Confessions (St Mary)
DESCRIPTION:
URL:https://stmaryparish.net/event/confessions-st-mary-5/2029-09-07/
LOCATION:WI
END:VEVENT
BEGIN:VEVENT
DTSTART;TZID=America/New_York:20290907T170000
DTEND;TZID=America/New_York:20290907T173000
DTSTAMP:20260421T131437
CREATED:20240108T130904Z
LAST-MODIFIED:20250429T145934Z
UID:10010899-1883494800-1883496600@stmaryparish.net
SUMMARY:Confession (St. Anthony)
DESCRIPTION:The Sacrament of Reconciliation is offered daily during the week\, at 5 pm\, or by appointment\, at St. Anthony in the Church.
URL:https://stmaryparish.net/event/confessions-5-2/2029-09-07/
LOCATION:St. Anthony Church\, N74W13604 Appleton Avenue\, Menomonee Falls\,\, WI\, 53051\, United States
CATEGORIES:St. Anthony Parish
END:VEVENT
BEGIN:VEVENT
DTSTART;TZID=America/New_York:20290907T190000
DTEND;TZID=America/New_York:20290907T210000
DTSTAMP:20260421T131437
CREATED:20240830T122256Z
LAST-MODIFIED:20241217T175459Z
UID:10022055-1883502000-1883509200@stmaryparish.net
SUMMARY:Amici Dei Young Adult Group (First Friday)
DESCRIPTION:Men and women ages 18 to 32 from St. Anthony and St. Mary Parishes are invited to join Amici Dei\, a young adult group that meets at 7 pm on the first and third Fridays of the month in the lower level of the St. Therese Formation Center Building at St. Anthony campus. \nContact: Andrew Jordan\, amicidei20@gmail.com
URL:https://stmaryparish.net/event/ameci-dei-young-adult-group-first-friday/2029-09-07/
LOCATION:St. Therese Formation Center\, N74 W13604 Appleton Ave\, Menomonee Falls\, WI\, 53051
CATEGORIES:St. Anthony Parish,St. Mary Parish
END:VEVENT
BEGIN:VEVENT
DTSTART;TZID=America/New_York:20290908T080000
DTEND;TZID=America/New_York:20290908T083000
DTSTAMP:20260421T131437
CREATED:20241031T185838Z
LAST-MODIFIED:20241031T185838Z
UID:10020314-1883548800-1883550600@stmaryparish.net
SUMMARY:Mass (St Mary)
DESCRIPTION:
URL:https://stmaryparish.net/event/mass-st-mary-7/2029-09-08/
LOCATION:WI
END:VEVENT
BEGIN:VEVENT
DTSTART;TZID=America/New_York:20290908T163000
DTEND;TZID=America/New_York:20290908T173000
DTSTAMP:20260421T131437
CREATED:20241031T182115Z
LAST-MODIFIED:20241031T182115Z
UID:10016128-1883579400-1883583000@stmaryparish.net
SUMMARY:Mass (St Anthony)
DESCRIPTION:
URL:https://stmaryparish.net/event/mass-st-anthony-2/2029-09-08/
LOCATION:WI
END:VEVENT
BEGIN:VEVENT
DTSTART;TZID=America/New_York:20290908T170000
DTEND;TZID=America/New_York:20290908T180000
DTSTAMP:20260421T131437
CREATED:20241031T182149Z
LAST-MODIFIED:20241031T183232Z
UID:10017172-1883581200-1883584800@stmaryparish.net
SUMMARY:Mass (St Mary)
DESCRIPTION:
URL:https://stmaryparish.net/event/mass-st-mary/2029-09-08/
LOCATION:WI
END:VEVENT
BEGIN:VEVENT
DTSTART;TZID=America/New_York:20290909T073000
DTEND;TZID=America/New_York:20290909T083000
DTSTAMP:20260421T131437
CREATED:20241031T182247Z
LAST-MODIFIED:20241031T182247Z
UID:10016390-1883633400-1883637000@stmaryparish.net
SUMMARY:Mass (St Mary)
DESCRIPTION:
URL:https://stmaryparish.net/event/mass-st-mary-2/2029-09-09/
LOCATION:WI
END:VEVENT
BEGIN:VEVENT
DTSTART;TZID=America/New_York:20290909T093000
DTEND;TZID=America/New_York:20290909T103000
DTSTAMP:20260421T131437
CREATED:20241031T182419Z
LAST-MODIFIED:20241031T182915Z
UID:10016912-1883640600-1883644200@stmaryparish.net
SUMMARY:Mass (St Mary)
DESCRIPTION:
URL:https://stmaryparish.net/event/mass-st-mary-3/2029-09-09/
LOCATION:WI
END:VEVENT
BEGIN:VEVENT
DTSTART;TZID=America/New_York:20290909T103000
DTEND;TZID=America/New_York:20290909T113000
DTSTAMP:20260421T131437
CREATED:20241031T182523Z
LAST-MODIFIED:20241031T182523Z
UID:10016652-1883644200-1883647800@stmaryparish.net
SUMMARY:Mass (St Anthony)
DESCRIPTION:
URL:https://stmaryparish.net/event/mass-st-anthony-3/2029-09-09/
LOCATION:WI
END:VEVENT
BEGIN:VEVENT
DTSTART;TZID=America/New_York:20290910T080000
DTEND;TZID=America/New_York:20290910T083000
DTSTAMP:20260421T131437
CREATED:20241031T184422Z
LAST-MODIFIED:20241031T184422Z
UID:10017433-1883721600-1883723400@stmaryparish.net
SUMMARY:Mass (St Anthony)
DESCRIPTION:
URL:https://stmaryparish.net/event/mass-st-anthony-4/2029-09-10/
LOCATION:WI
END:VEVENT
BEGIN:VEVENT
DTSTART;TZID=America/New_York:20290910T120000
DTEND;TZID=America/New_York:20290910T123000
DTSTAMP:20260421T131437
CREATED:20241031T185431Z
LAST-MODIFIED:20241031T185431Z
UID:10019793-1883736000-1883737800@stmaryparish.net
SUMMARY:Confessions (St Mary)
DESCRIPTION:
URL:https://stmaryparish.net/event/confessions-st-mary/2029-09-10/
LOCATION:WI
END:VEVENT
BEGIN:VEVENT
DTSTART;TZID=America/New_York:20290910T170000
DTEND;TZID=America/New_York:20290910T173000
DTSTAMP:20260421T131437
CREATED:20240108T130904Z
LAST-MODIFIED:20250429T145934Z
UID:10010900-1883754000-1883755800@stmaryparish.net
SUMMARY:Confession (St. Anthony)
DESCRIPTION:The Sacrament of Reconciliation is offered daily during the week\, at 5 pm\, or by appointment\, at St. Anthony in the Church.
URL:https://stmaryparish.net/event/confessions-5-2/2029-09-10/
LOCATION:St. Anthony Church\, N74W13604 Appleton Avenue\, Menomonee Falls\,\, WI\, 53051\, United States
CATEGORIES:St. Anthony Parish
END:VEVENT
BEGIN:VEVENT
DTSTART;TZID=America/New_York:20290910T190000
DTEND;TZID=America/New_York:20290910T203000
DTSTAMP:20260421T131437
CREATED:20250905T185422Z
LAST-MODIFIED:20250905T185615Z
UID:10023108-1883761200-1883766600@stmaryparish.net
SUMMARY:Men's Group
DESCRIPTION:The Men’s Group meets Mondays from 7–8:30 pm (starting Sept. 15) at St. Anthony Parish. The Men’s group meets to strengthen each other to be Catholic men. We will launch our first meeting of the fall with a cookout behind St. Anthony Church.  All men are welcome. \nEmail Marty at martin.dybicz@gmail.com for details. \nMeetings take place at St. Anthony campus in the school building (Chesterton Academy — Commons)\, unless otherwise noted.
URL:https://stmaryparish.net/event/mens-group/2029-09-10/
LOCATION:St. Anthony Church\, N74W13604 Appleton Avenue\, Menomonee Falls\,\, WI\, 53051\, United States
END:VEVENT
BEGIN:VEVENT
DTSTART;TZID=America/New_York:20290911T063000
DTEND;TZID=America/New_York:20290911T070000
DTSTAMP:20260421T131437
CREATED:20241031T185031Z
LAST-MODIFIED:20241031T185031Z
UID:10018736-1883802600-1883804400@stmaryparish.net
SUMMARY:Mass (St Mary)
DESCRIPTION:
URL:https://stmaryparish.net/event/mass-st-mary-4/2029-09-11/
LOCATION:WI
END:VEVENT
BEGIN:VEVENT
DTSTART;TZID=America/New_York:20290911T080000
DTEND;TZID=America/New_York:20290911T083000
DTSTAMP:20260421T131437
CREATED:20241031T184517Z
LAST-MODIFIED:20241031T184517Z
UID:10017694-1883808000-1883809800@stmaryparish.net
SUMMARY:Mass (St Anthony)
DESCRIPTION:
URL:https://stmaryparish.net/event/mass-st-anthony-5/2029-09-11/
LOCATION:WI
END:VEVENT
BEGIN:VEVENT
DTSTART;TZID=America/New_York:20290911T120000
DTEND;TZID=America/New_York:20290911T123000
DTSTAMP:20260421T131437
CREATED:20241213T180235Z
LAST-MODIFIED:20241213T180235Z
UID:10020054-1883822400-1883824200@stmaryparish.net
SUMMARY:Confessions (St Mary)
DESCRIPTION:
URL:https://stmaryparish.net/event/confessions-st-mary-2-2/2029-09-11/
LOCATION:WI
END:VEVENT
BEGIN:VEVENT
DTSTART;TZID=America/New_York:20290911T170000
DTEND;TZID=America/New_York:20290911T173000
DTSTAMP:20260421T131437
CREATED:20241213T190819Z
LAST-MODIFIED:20250414T214653Z
UID:10021998-1883840400-1883842200@stmaryparish.net
SUMMARY:Confessions (St. Anthony)
DESCRIPTION:
URL:https://stmaryparish.net/event/confessions-st-anthony-9/2029-09-11/
LOCATION:WI
END:VEVENT
BEGIN:VEVENT
DTSTART;TZID=America/New_York:20290912T080000
DTEND;TZID=America/New_York:20290912T083000
DTSTAMP:20260421T131437
CREATED:20241031T184609Z
LAST-MODIFIED:20241031T184609Z
UID:10017955-1883894400-1883896200@stmaryparish.net
SUMMARY:Mass (St Anthony)
DESCRIPTION:
URL:https://stmaryparish.net/event/mass-st-anthony-6/2029-09-12/
LOCATION:WI
END:VEVENT
BEGIN:VEVENT
DTSTART;TZID=America/New_York:20290912T081000
DTEND;TZID=America/New_York:20290912T084500
DTSTAMP:20260421T131437
CREATED:20250428T205453Z
LAST-MODIFIED:20250428T205454Z
UID:10018997-1883895000-1883897100@stmaryparish.net
SUMMARY:Mass (St Mary)
DESCRIPTION:
URL:https://stmaryparish.net/event/mass-st-mary-5-2/2029-09-12/
LOCATION:WI
END:VEVENT
BEGIN:VEVENT
DTSTART;TZID=America/New_York:20290912T120000
DTEND;TZID=America/New_York:20290912T123000
DTSTAMP:20260421T131437
CREATED:20241031T185919Z
LAST-MODIFIED:20250304T204847Z
UID:10020575-1883908800-1883910600@stmaryparish.net
SUMMARY:Confessions (St Mary)
DESCRIPTION:
URL:https://stmaryparish.net/event/confessions-st-mary-3/2029-09-12/
LOCATION:WI
END:VEVENT
BEGIN:VEVENT
DTSTART;TZID=America/New_York:20290912T170000
DTEND;TZID=America/New_York:20290912T173000
DTSTAMP:20260421T131437
CREATED:20240312T141801Z
LAST-MODIFIED:20250304T205157Z
UID:10015546-1883926800-1883928600@stmaryparish.net
SUMMARY:Confessions (St. Anthony)
DESCRIPTION:
URL:https://stmaryparish.net/event/confessions-st-anthony-2/2029-09-12/
LOCATION:WI
END:VEVENT
BEGIN:VEVENT
DTSTART;TZID=America/New_York:20290913T080000
DTEND;TZID=America/New_York:20290913T083000
DTSTAMP:20260421T131437
CREATED:20250612T170511Z
LAST-MODIFIED:20250612T170512Z
UID:10018216-1883980800-1883982600@stmaryparish.net
SUMMARY:Mass (St Anthony)
DESCRIPTION:
URL:https://stmaryparish.net/event/mass-st-anthony-7-2-2/2029-09-13/
LOCATION:WI
END:VEVENT
BEGIN:VEVENT
DTSTART;TZID=America/New_York:20290913T121000
DTEND;TZID=America/New_York:20290913T124500
DTSTAMP:20260421T131437
CREATED:20241031T185234Z
LAST-MODIFIED:20241031T185234Z
UID:10019258-1883995800-1883997900@stmaryparish.net
SUMMARY:Mass (St Mary)
DESCRIPTION:
URL:https://stmaryparish.net/event/mass-st-mary-6/2029-09-13/
LOCATION:WI
END:VEVENT
BEGIN:VEVENT
DTSTART;TZID=America/New_York:20290913T170000
DTEND;TZID=America/New_York:20290913T173000
DTSTAMP:20260421T131437
CREATED:20240108T130904Z
LAST-MODIFIED:20250429T145934Z
UID:10010903-1884013200-1884015000@stmaryparish.net
SUMMARY:Confession (St. Anthony)
DESCRIPTION:The Sacrament of Reconciliation is offered daily during the week\, at 5 pm\, or by appointment\, at St. Anthony in the Church.
URL:https://stmaryparish.net/event/confessions-5-2/2029-09-13/
LOCATION:St. Anthony Church\, N74W13604 Appleton Avenue\, Menomonee Falls\,\, WI\, 53051\, United States
CATEGORIES:St. Anthony Parish
END:VEVENT
END:VCALENDAR