BEGIN:VCALENDAR
VERSION:2.0
PRODID:-//St. Anthony and St. Mary Parishes - ECPv6.15.20//NONSGML v1.0//EN
CALSCALE:GREGORIAN
METHOD:PUBLISH
X-ORIGINAL-URL:https://stmaryparish.net
X-WR-CALDESC:Events for St. Anthony and St. Mary Parishes
REFRESH-INTERVAL;VALUE=DURATION:PT1H
X-Robots-Tag:noindex
X-PUBLISHED-TTL:PT1H
BEGIN:VTIMEZONE
TZID:America/New_York
BEGIN:DAYLIGHT
TZOFFSETFROM:-0500
TZOFFSETTO:-0400
TZNAME:EDT
DTSTART:20250309T070000
END:DAYLIGHT
BEGIN:STANDARD
TZOFFSETFROM:-0400
TZOFFSETTO:-0500
TZNAME:EST
DTSTART:20251102T060000
END:STANDARD
BEGIN:DAYLIGHT
TZOFFSETFROM:-0500
TZOFFSETTO:-0400
TZNAME:EDT
DTSTART:20260308T070000
END:DAYLIGHT
BEGIN:STANDARD
TZOFFSETFROM:-0400
TZOFFSETTO:-0500
TZNAME:EST
DTSTART:20261101T060000
END:STANDARD
BEGIN:DAYLIGHT
TZOFFSETFROM:-0500
TZOFFSETTO:-0400
TZNAME:EDT
DTSTART:20270314T070000
END:DAYLIGHT
BEGIN:STANDARD
TZOFFSETFROM:-0400
TZOFFSETTO:-0500
TZNAME:EST
DTSTART:20271107T060000
END:STANDARD
END:VTIMEZONE
BEGIN:VTIMEZONE
TZID:America/New_York
BEGIN:DAYLIGHT
TZOFFSETFROM:-0500
TZOFFSETTO:-0400
TZNAME:EDT
DTSTART:20250309T070000
END:DAYLIGHT
BEGIN:STANDARD
TZOFFSETFROM:-0400
TZOFFSETTO:-0500
TZNAME:EST
DTSTART:20251102T060000
END:STANDARD
BEGIN:DAYLIGHT
TZOFFSETFROM:-0500
TZOFFSETTO:-0400
TZNAME:EDT
DTSTART:20260308T070000
END:DAYLIGHT
BEGIN:STANDARD
TZOFFSETFROM:-0400
TZOFFSETTO:-0500
TZNAME:EST
DTSTART:20261101T060000
END:STANDARD
BEGIN:DAYLIGHT
TZOFFSETFROM:-0500
TZOFFSETTO:-0400
TZNAME:EDT
DTSTART:20270314T070000
END:DAYLIGHT
BEGIN:STANDARD
TZOFFSETFROM:-0400
TZOFFSETTO:-0500
TZNAME:EST
DTSTART:20271107T060000
END:STANDARD
END:VTIMEZONE
BEGIN:VEVENT
DTSTART;TZID=America/New_York:20260520T080000
DTEND;TZID=America/New_York:20260520T083000
DTSTAMP:20260422T023724
CREATED:20241031T184609Z
LAST-MODIFIED:20241031T184609Z
UID:10017782-1779264000-1779265800@stmaryparish.net
SUMMARY:Mass (St Anthony)
DESCRIPTION:
URL:https://stmaryparish.net/event/mass-st-anthony-6/2026-05-20/
LOCATION:WI
END:VEVENT
BEGIN:VEVENT
DTSTART;TZID=America/New_York:20260520T081000
DTEND;TZID=America/New_York:20260520T084500
DTSTAMP:20260422T023724
CREATED:20250428T205453Z
LAST-MODIFIED:20250428T205454Z
UID:10018824-1779264600-1779266700@stmaryparish.net
SUMMARY:Mass (St Mary)
DESCRIPTION:
URL:https://stmaryparish.net/event/mass-st-mary-5-2/2026-05-20/
LOCATION:WI
END:VEVENT
BEGIN:VEVENT
DTSTART;TZID=America/New_York:20260520T113000
DTEND;TZID=America/New_York:20260520T133000
DTSTAMP:20260422T023724
CREATED:20240110T181601Z
LAST-MODIFIED:20240110T181601Z
UID:10013245-1779276600-1779283800@stmaryparish.net
SUMMARY:Grief Support Ministry Meeting
DESCRIPTION:Location: St. Anthony Parish – St. Therese Formation Center \nKitchen Area \n 
URL:https://stmaryparish.net/event/grief-support-ministry-meeting/2026-05-20/
LOCATION:WI
CATEGORIES:St. Anthony Parish,St. Mary Parish
END:VEVENT
BEGIN:VEVENT
DTSTART;TZID=America/New_York:20260520T120000
DTEND;TZID=America/New_York:20260520T123000
DTSTAMP:20260422T023724
CREATED:20241031T185919Z
LAST-MODIFIED:20250304T204847Z
UID:10020402-1779278400-1779280200@stmaryparish.net
SUMMARY:Confessions (St Mary)
DESCRIPTION:
URL:https://stmaryparish.net/event/confessions-st-mary-3/2026-05-20/
LOCATION:WI
END:VEVENT
BEGIN:VEVENT
DTSTART;TZID=America/New_York:20260520T170000
DTEND;TZID=America/New_York:20260520T173000
DTSTAMP:20260422T023724
CREATED:20240312T141801Z
LAST-MODIFIED:20250304T205157Z
UID:10014010-1779296400-1779298200@stmaryparish.net
SUMMARY:Confessions (St. Anthony)
DESCRIPTION:
URL:https://stmaryparish.net/event/confessions-st-anthony-2/2026-05-20/
LOCATION:WI
END:VEVENT
BEGIN:VEVENT
DTSTART;TZID=America/New_York:20260520T180000
DTEND;TZID=America/New_York:20260520T193000
DTSTAMP:20260422T023724
CREATED:20250304T215603Z
LAST-MODIFIED:20250304T215604Z
UID:10014836-1779300000-1779305400@stmaryparish.net
SUMMARY:St. Vincent de Paul Society Meetings (Wednesdays)
DESCRIPTION:The SVDP provides assistance to those in the community in need by helping with rent and utility payments\, store vouchers\, furniture\, gift cards\, and sometimes budget planning – any form of help that alleviates suffering or deprivation and promotes human dignity. Our conference meets on the 1st and 3rd Wednesday of the month (6:30-8 pm). Anyone over the age of 18 years is welcome. Vincentian members provide home visits to gather information for specific requests\, which are then discussed at meetings. Some training (about 6 hours) may be required. Volunteers are needed for home visits\, officer positions\, and special community projects such as the SVDP Truck Collection and the Giving Tree Program. \nContact: Ann Konop\, akonop@wi.rr.com \nLocation: St. Mary Parish Office Building – St. Elizabeth Conference Room on the Second Wednesday of each month \n  \n 
URL:https://stmaryparish.net/event/st-vincent-de-paul-society-meetings-wednesdays-2/2026-05-20/
LOCATION:St. Mary Parish Office\, n89W16297 Cleveland Ave.\, Menomonee Falls\, 53051\, United States
CATEGORIES:St. Mary Parish
END:VEVENT
BEGIN:VEVENT
DTSTART;TZID=America/New_York:20260521T080000
DTEND;TZID=America/New_York:20260521T083000
DTSTAMP:20260422T023724
CREATED:20250612T170511Z
LAST-MODIFIED:20250612T170512Z
UID:10018043-1779350400-1779352200@stmaryparish.net
SUMMARY:Mass (St Anthony)
DESCRIPTION:
URL:https://stmaryparish.net/event/mass-st-anthony-7-2-2/2026-05-21/
LOCATION:WI
END:VEVENT
BEGIN:VEVENT
DTSTART;TZID=America/New_York:20260521T121000
DTEND;TZID=America/New_York:20260521T124500
DTSTAMP:20260422T023724
CREATED:20241031T185234Z
LAST-MODIFIED:20241031T185234Z
UID:10019085-1779365400-1779367500@stmaryparish.net
SUMMARY:Mass (St Mary)
DESCRIPTION:
URL:https://stmaryparish.net/event/mass-st-mary-6/2026-05-21/
LOCATION:WI
END:VEVENT
BEGIN:VEVENT
DTSTART;TZID=America/New_York:20260521T170000
DTEND;TZID=America/New_York:20260521T173000
DTSTAMP:20260422T023724
CREATED:20240108T130904Z
LAST-MODIFIED:20250429T145934Z
UID:10010038-1779382800-1779384600@stmaryparish.net
SUMMARY:Confession (St. Anthony)
DESCRIPTION:The Sacrament of Reconciliation is offered daily during the week\, at 5 pm\, or by appointment\, at St. Anthony in the Church.
URL:https://stmaryparish.net/event/confessions-5-2/2026-05-21/
LOCATION:St. Anthony Church\, N74W13604 Appleton Avenue\, Menomonee Falls\,\, WI\, 53051\, United States
CATEGORIES:St. Anthony Parish
END:VEVENT
BEGIN:VEVENT
DTSTART;TZID=America/New_York:20260522T080000
DTEND;TZID=America/New_York:20260522T083000
DTSTAMP:20260422T023724
CREATED:20241031T184838Z
LAST-MODIFIED:20241031T184838Z
UID:10018303-1779436800-1779438600@stmaryparish.net
SUMMARY:Mass (St Anthony)
DESCRIPTION:
URL:https://stmaryparish.net/event/mass-st-anthony-8/2026-05-22/
LOCATION:WI
END:VEVENT
BEGIN:VEVENT
DTSTART;TZID=America/New_York:20260522T081000
DTEND;TZID=America/New_York:20260522T084000
DTSTAMP:20260422T023724
CREATED:20241031T191510Z
LAST-MODIFIED:20241031T191852Z
UID:10020664-1779437400-1779439200@stmaryparish.net
SUMMARY:Mass (St Mary)
DESCRIPTION:
URL:https://stmaryparish.net/event/mass-st-mary-8/2026-05-22/
LOCATION:WI
END:VEVENT
BEGIN:VEVENT
DTSTART;TZID=America/New_York:20260522T084500
DTEND;TZID=America/New_York:20260522T110000
DTSTAMP:20260422T023724
CREATED:20240830T115554Z
LAST-MODIFIED:20251009T144948Z
UID:10023197-1779439500-1779447600@stmaryparish.net
SUMMARY:Women's Faith Study Group
DESCRIPTION:The Women’s Faith Study Group will kick off the next session on  Sept. 5. The group meets from 8:45 am to 11 am at St. Anthony in the lower level of the St. Therese Formation Center (St. Joseph Adoration Chapel building). Child care is not currently offered.  For information\, email Mary Beth at marywitzlib@gmail.com
URL:https://stmaryparish.net/event/womens-faith-study-group-2-2-2/2026-05-22/
LOCATION:St. Therese Formation Center\, N74 W13604 Appleton Ave\, Menomonee Falls\, WI\, 53051
CATEGORIES:St. Anthony Parish,St. Mary Parish
END:VEVENT
BEGIN:VEVENT
DTSTART;TZID=America/New_York:20260522T120000
DTEND;TZID=America/New_York:20260522T123000
DTSTAMP:20260422T023724
CREATED:20241031T192332Z
LAST-MODIFIED:20241031T192350Z
UID:10020925-1779451200-1779453000@stmaryparish.net
SUMMARY:Confessions (St Mary)
DESCRIPTION:
URL:https://stmaryparish.net/event/confessions-st-mary-5/2026-05-22/
LOCATION:WI
END:VEVENT
BEGIN:VEVENT
DTSTART;TZID=America/New_York:20260522T170000
DTEND;TZID=America/New_York:20260522T173000
DTSTAMP:20260422T023724
CREATED:20240108T130904Z
LAST-MODIFIED:20250429T145934Z
UID:10010039-1779469200-1779471000@stmaryparish.net
SUMMARY:Confession (St. Anthony)
DESCRIPTION:The Sacrament of Reconciliation is offered daily during the week\, at 5 pm\, or by appointment\, at St. Anthony in the Church.
URL:https://stmaryparish.net/event/confessions-5-2/2026-05-22/
LOCATION:St. Anthony Church\, N74W13604 Appleton Avenue\, Menomonee Falls\,\, WI\, 53051\, United States
CATEGORIES:St. Anthony Parish
END:VEVENT
BEGIN:VEVENT
DTSTART;TZID=America/New_York:20260523T080000
DTEND;TZID=America/New_York:20260523T083000
DTSTAMP:20260422T023724
CREATED:20241031T185838Z
LAST-MODIFIED:20241031T185838Z
UID:10020142-1779523200-1779525000@stmaryparish.net
SUMMARY:Mass (St Mary)
DESCRIPTION:
URL:https://stmaryparish.net/event/mass-st-mary-7/2026-05-23/
LOCATION:WI
END:VEVENT
BEGIN:VEVENT
DTSTART;TZID=America/New_York:20260523T163000
DTEND;TZID=America/New_York:20260523T173000
DTSTAMP:20260422T023724
CREATED:20241031T182115Z
LAST-MODIFIED:20241031T182115Z
UID:10015956-1779553800-1779557400@stmaryparish.net
SUMMARY:Mass (St Anthony)
DESCRIPTION:
URL:https://stmaryparish.net/event/mass-st-anthony-2/2026-05-23/
LOCATION:WI
END:VEVENT
BEGIN:VEVENT
DTSTART;TZID=America/New_York:20260523T170000
DTEND;TZID=America/New_York:20260523T180000
DTSTAMP:20260422T023724
CREATED:20241031T182149Z
LAST-MODIFIED:20241031T183232Z
UID:10017000-1779555600-1779559200@stmaryparish.net
SUMMARY:Mass (St Mary)
DESCRIPTION:
URL:https://stmaryparish.net/event/mass-st-mary/2026-05-23/
LOCATION:WI
END:VEVENT
BEGIN:VEVENT
DTSTART;TZID=America/New_York:20260524T073000
DTEND;TZID=America/New_York:20260524T083000
DTSTAMP:20260422T023724
CREATED:20241031T182247Z
LAST-MODIFIED:20241031T182247Z
UID:10016218-1779607800-1779611400@stmaryparish.net
SUMMARY:Mass (St Mary)
DESCRIPTION:
URL:https://stmaryparish.net/event/mass-st-mary-2/2026-05-24/
LOCATION:WI
END:VEVENT
BEGIN:VEVENT
DTSTART;TZID=America/New_York:20260524T083000
DTEND;TZID=America/New_York:20260524T093000
DTSTAMP:20260422T023724
CREATED:20240327T154544Z
LAST-MODIFIED:20240327T154544Z
UID:10014465-1779611400-1779615000@stmaryparish.net
SUMMARY:Mass (St. Anthony)
DESCRIPTION:
URL:https://stmaryparish.net/event/mass-st-anthony/2026-05-24/
LOCATION:WI
END:VEVENT
BEGIN:VEVENT
DTSTART;TZID=America/New_York:20260524T093000
DTEND;TZID=America/New_York:20260524T103000
DTSTAMP:20260422T023724
CREATED:20241031T182419Z
LAST-MODIFIED:20241031T182915Z
UID:10016740-1779615000-1779618600@stmaryparish.net
SUMMARY:Mass (St Mary)
DESCRIPTION:
URL:https://stmaryparish.net/event/mass-st-mary-3/2026-05-24/
LOCATION:WI
END:VEVENT
BEGIN:VEVENT
DTSTART;TZID=America/New_York:20260524T103000
DTEND;TZID=America/New_York:20260524T113000
DTSTAMP:20260422T023724
CREATED:20241031T182523Z
LAST-MODIFIED:20241031T182523Z
UID:10016480-1779618600-1779622200@stmaryparish.net
SUMMARY:Mass (St Anthony)
DESCRIPTION:
URL:https://stmaryparish.net/event/mass-st-anthony-3/2026-05-24/
LOCATION:WI
END:VEVENT
BEGIN:VEVENT
DTSTART;TZID=America/New_York:20260525T080000
DTEND;TZID=America/New_York:20260525T083000
DTSTAMP:20260422T023724
CREATED:20241031T184422Z
LAST-MODIFIED:20241031T184422Z
UID:10017261-1779696000-1779697800@stmaryparish.net
SUMMARY:Mass (St Anthony)
DESCRIPTION:
URL:https://stmaryparish.net/event/mass-st-anthony-4/2026-05-25/
LOCATION:WI
END:VEVENT
BEGIN:VEVENT
DTSTART;TZID=America/New_York:20260525T120000
DTEND;TZID=America/New_York:20260525T123000
DTSTAMP:20260422T023724
CREATED:20241031T185431Z
LAST-MODIFIED:20241031T185431Z
UID:10019621-1779710400-1779712200@stmaryparish.net
SUMMARY:Confessions (St Mary)
DESCRIPTION:
URL:https://stmaryparish.net/event/confessions-st-mary/2026-05-25/
LOCATION:WI
END:VEVENT
BEGIN:VEVENT
DTSTART;TZID=America/New_York:20260525T170000
DTEND;TZID=America/New_York:20260525T173000
DTSTAMP:20260422T023724
CREATED:20240108T130904Z
LAST-MODIFIED:20250429T145934Z
UID:10010040-1779728400-1779730200@stmaryparish.net
SUMMARY:Confession (St. Anthony)
DESCRIPTION:The Sacrament of Reconciliation is offered daily during the week\, at 5 pm\, or by appointment\, at St. Anthony in the Church.
URL:https://stmaryparish.net/event/confessions-5-2/2026-05-25/
LOCATION:St. Anthony Church\, N74W13604 Appleton Avenue\, Menomonee Falls\,\, WI\, 53051\, United States
CATEGORIES:St. Anthony Parish
END:VEVENT
BEGIN:VEVENT
DTSTART;TZID=America/New_York:20260525T170000
DTEND;TZID=America/New_York:20260525T180000
DTSTAMP:20260422T023724
CREATED:20250103T192523Z
LAST-MODIFIED:20250103T192524Z
UID:10015498-1779728400-1779732000@stmaryparish.net
SUMMARY:Streetlife Ministry: Meals for the Homeless
DESCRIPTION:Drop off in kitchen in the St. Therese Formation Center (formerly CFC building) \nContact for more information: StAnthonyServes2023@gmail.com \nLunches are collected every 4th Monday of the month. \nStreet Life has requested that lunches be assembled this way:\n\nPlastic grocery bag containing 1 juice box or drink\, 1 bag of chips\, 1 dessert or sweet treat\nKeep these items SEPARATE from the plastic bag – 1 peanut butter and jelly sandwich\, 1 fruit (we have bins to put them in)\n\nMeals for the Homeless: Parishioners from St. Anthony and St. Mary make lunches once a month to support the StreetLife homeless outreach programs in Milwaukee. They also collect other items as requested. \n 
URL:https://stmaryparish.net/event/st-anthony-serves-cfc-kitchen-3-2/2026-05-25/
LOCATION:St. Therese Formation Center\, N74 W13604 Appleton Ave\, Menomonee Falls\, WI\, 53051
CATEGORIES:St. Anthony Parish
ORGANIZER;CN="Jenell Krause":MAILTO:stanthonyserves2023@gmail.com
END:VEVENT
BEGIN:VEVENT
DTSTART;TZID=America/New_York:20260525T190000
DTEND;TZID=America/New_York:20260525T203000
DTSTAMP:20260422T023724
CREATED:20250905T185422Z
LAST-MODIFIED:20250905T185615Z
UID:10022936-1779735600-1779741000@stmaryparish.net
SUMMARY:Men's Group
DESCRIPTION:The Men’s Group meets Mondays from 7–8:30 pm (starting Sept. 15) at St. Anthony Parish. The Men’s group meets to strengthen each other to be Catholic men. We will launch our first meeting of the fall with a cookout behind St. Anthony Church.  All men are welcome. \nEmail Marty at martin.dybicz@gmail.com for details. \nMeetings take place at St. Anthony campus in the school building (Chesterton Academy — Commons)\, unless otherwise noted.
URL:https://stmaryparish.net/event/mens-group/2026-05-25/
LOCATION:St. Anthony Church\, N74W13604 Appleton Avenue\, Menomonee Falls\,\, WI\, 53051\, United States
END:VEVENT
BEGIN:VEVENT
DTSTART;TZID=America/New_York:20260526T063000
DTEND;TZID=America/New_York:20260526T070000
DTSTAMP:20260422T023724
CREATED:20241031T185031Z
LAST-MODIFIED:20241031T185031Z
UID:10018564-1779777000-1779778800@stmaryparish.net
SUMMARY:Mass (St Mary)
DESCRIPTION:
URL:https://stmaryparish.net/event/mass-st-mary-4/2026-05-26/
LOCATION:WI
END:VEVENT
BEGIN:VEVENT
DTSTART;TZID=America/New_York:20260526T080000
DTEND;TZID=America/New_York:20260526T083000
DTSTAMP:20260422T023724
CREATED:20241031T184517Z
LAST-MODIFIED:20241031T184517Z
UID:10017522-1779782400-1779784200@stmaryparish.net
SUMMARY:Mass (St Anthony)
DESCRIPTION:
URL:https://stmaryparish.net/event/mass-st-anthony-5/2026-05-26/
LOCATION:WI
END:VEVENT
BEGIN:VEVENT
DTSTART;TZID=America/New_York:20260526T120000
DTEND;TZID=America/New_York:20260526T123000
DTSTAMP:20260422T023724
CREATED:20241213T180235Z
LAST-MODIFIED:20241213T180235Z
UID:10019882-1779796800-1779798600@stmaryparish.net
SUMMARY:Confessions (St Mary)
DESCRIPTION:
URL:https://stmaryparish.net/event/confessions-st-mary-2-2/2026-05-26/
LOCATION:WI
END:VEVENT
BEGIN:VEVENT
DTSTART;TZID=America/New_York:20260526T170000
DTEND;TZID=America/New_York:20260526T173000
DTSTAMP:20260422T023724
CREATED:20241213T190819Z
LAST-MODIFIED:20250414T214653Z
UID:10013752-1779814800-1779816600@stmaryparish.net
SUMMARY:Confessions (St. Anthony)
DESCRIPTION:
URL:https://stmaryparish.net/event/confessions-st-anthony-9/2026-05-26/
LOCATION:WI
END:VEVENT
END:VCALENDAR