BEGIN:VCALENDAR
VERSION:2.0
PRODID:-//St. Anthony and St. Mary Parishes - ECPv6.15.20//NONSGML v1.0//EN
CALSCALE:GREGORIAN
METHOD:PUBLISH
X-ORIGINAL-URL:https://stmaryparish.net
X-WR-CALDESC:Events for St. Anthony and St. Mary Parishes
REFRESH-INTERVAL;VALUE=DURATION:PT1H
X-Robots-Tag:noindex
X-PUBLISHED-TTL:PT1H
BEGIN:VTIMEZONE
TZID:America/New_York
BEGIN:DAYLIGHT
TZOFFSETFROM:-0500
TZOFFSETTO:-0400
TZNAME:EDT
DTSTART:20300310T070000
END:DAYLIGHT
BEGIN:STANDARD
TZOFFSETFROM:-0400
TZOFFSETTO:-0500
TZNAME:EST
DTSTART:20301103T060000
END:STANDARD
BEGIN:DAYLIGHT
TZOFFSETFROM:-0500
TZOFFSETTO:-0400
TZNAME:EDT
DTSTART:20310309T070000
END:DAYLIGHT
BEGIN:STANDARD
TZOFFSETFROM:-0400
TZOFFSETTO:-0500
TZNAME:EST
DTSTART:20311102T060000
END:STANDARD
BEGIN:DAYLIGHT
TZOFFSETFROM:-0500
TZOFFSETTO:-0400
TZNAME:EDT
DTSTART:20320314T070000
END:DAYLIGHT
BEGIN:STANDARD
TZOFFSETFROM:-0400
TZOFFSETTO:-0500
TZNAME:EST
DTSTART:20321107T060000
END:STANDARD
END:VTIMEZONE
BEGIN:VTIMEZONE
TZID:America/New_York
BEGIN:DAYLIGHT
TZOFFSETFROM:-0500
TZOFFSETTO:-0400
TZNAME:EDT
DTSTART:20300310T070000
END:DAYLIGHT
BEGIN:STANDARD
TZOFFSETFROM:-0400
TZOFFSETTO:-0500
TZNAME:EST
DTSTART:20301103T060000
END:STANDARD
BEGIN:DAYLIGHT
TZOFFSETFROM:-0500
TZOFFSETTO:-0400
TZNAME:EDT
DTSTART:20310309T070000
END:DAYLIGHT
BEGIN:STANDARD
TZOFFSETFROM:-0400
TZOFFSETTO:-0500
TZNAME:EST
DTSTART:20311102T060000
END:STANDARD
BEGIN:DAYLIGHT
TZOFFSETFROM:-0500
TZOFFSETTO:-0400
TZNAME:EDT
DTSTART:20320314T070000
END:DAYLIGHT
BEGIN:STANDARD
TZOFFSETFROM:-0400
TZOFFSETTO:-0500
TZNAME:EST
DTSTART:20321107T060000
END:STANDARD
END:VTIMEZONE
BEGIN:VEVENT
DTSTART;TZID=America/New_York:20310219T170000
DTEND;TZID=America/New_York:20310219T173000
DTSTAMP:20260423T010458
CREATED:20240312T141801Z
LAST-MODIFIED:20250304T205157Z
UID:10024141-1929286800-1929288600@stmaryparish.net
SUMMARY:Confessions (St. Anthony)
DESCRIPTION:
URL:https://stmaryparish.net/event/confessions-st-anthony-2/2031-02-19/
END:VEVENT
BEGIN:VEVENT
DTSTART;TZID=America/New_York:20310220T080000
DTEND;TZID=America/New_York:20310220T083000
DTSTAMP:20260423T010458
CREATED:20250612T170511Z
LAST-MODIFIED:20250612T170512Z
UID:10023782-1929340800-1929342600@stmaryparish.net
SUMMARY:Mass (St Anthony)
DESCRIPTION:
URL:https://stmaryparish.net/event/mass-st-anthony-7-2-2/2031-02-20/
END:VEVENT
BEGIN:VEVENT
DTSTART;TZID=America/New_York:20310220T121000
DTEND;TZID=America/New_York:20310220T124500
DTSTAMP:20260423T010458
CREATED:20241031T185234Z
LAST-MODIFIED:20241031T185234Z
UID:10023799-1929355800-1929357900@stmaryparish.net
SUMMARY:Mass (St Mary)
DESCRIPTION:
URL:https://stmaryparish.net/event/mass-st-mary-6/2031-02-20/
END:VEVENT
BEGIN:VEVENT
DTSTART;TZID=America/New_York:20310221T080000
DTEND;TZID=America/New_York:20310221T083000
DTSTAMP:20260423T010458
CREATED:20241031T184838Z
LAST-MODIFIED:20241031T184838Z
UID:10023838-1929427200-1929429000@stmaryparish.net
SUMMARY:Mass (St Anthony)
DESCRIPTION:
URL:https://stmaryparish.net/event/mass-st-anthony-8/2031-02-21/
END:VEVENT
BEGIN:VEVENT
DTSTART;TZID=America/New_York:20310221T081000
DTEND;TZID=America/New_York:20310221T084000
DTSTAMP:20260423T010458
CREATED:20241031T191510Z
LAST-MODIFIED:20241031T191852Z
UID:10023879-1929427800-1929429600@stmaryparish.net
SUMMARY:Mass (St Mary)
DESCRIPTION:
URL:https://stmaryparish.net/event/mass-st-mary-8/2031-02-21/
END:VEVENT
BEGIN:VEVENT
DTSTART;TZID=America/New_York:20310221T084500
DTEND;TZID=America/New_York:20310221T110000
DTSTAMP:20260423T010458
CREATED:20240830T115554Z
LAST-MODIFIED:20251009T144948Z
UID:10023894-1929429900-1929438000@stmaryparish.net
SUMMARY:Women's Faith Study Group
DESCRIPTION:The Women’s Faith Study Group will kick off the next session on  Sept. 5. The group meets from 8:45 am to 11 am at St. Anthony in the lower level of the St. Therese Formation Center (St. Joseph Adoration Chapel building). Child care is not currently offered.  For information\, email Mary Beth at marywitzlib@gmail.com
URL:https://stmaryparish.net/event/womens-faith-study-group-2-2-2/2031-02-21/
LOCATION:St. Therese Formation Center\, N74 W13604 Appleton Ave\, Menomonee Falls\, WI\, 53051
CATEGORIES:St. Anthony Parish,St. Mary Parish
END:VEVENT
BEGIN:VEVENT
DTSTART;TZID=America/New_York:20310221T120000
DTEND;TZID=America/New_York:20310221T123000
DTSTAMP:20260423T010458
CREATED:20241031T192332Z
LAST-MODIFIED:20241031T192350Z
UID:10023909-1929441600-1929443400@stmaryparish.net
SUMMARY:Confessions (St Mary)
DESCRIPTION:
URL:https://stmaryparish.net/event/confessions-st-mary-5/2031-02-21/
END:VEVENT
BEGIN:VEVENT
DTSTART;TZID=America/New_York:20310222T080000
DTEND;TZID=America/New_York:20310222T083000
DTSTAMP:20260423T010458
CREATED:20241031T185838Z
LAST-MODIFIED:20241031T185838Z
UID:10023964-1929513600-1929515400@stmaryparish.net
SUMMARY:Mass (St Mary)
DESCRIPTION:
URL:https://stmaryparish.net/event/mass-st-mary-7/2031-02-22/
END:VEVENT
BEGIN:VEVENT
DTSTART;TZID=America/New_York:20310222T163000
DTEND;TZID=America/New_York:20310222T173000
DTSTAMP:20260423T010458
CREATED:20241031T182115Z
LAST-MODIFIED:20241031T182115Z
UID:10024056-1929544200-1929547800@stmaryparish.net
SUMMARY:Mass (St Anthony)
DESCRIPTION:
URL:https://stmaryparish.net/event/mass-st-anthony-2/2031-02-22/
END:VEVENT
BEGIN:VEVENT
DTSTART;TZID=America/New_York:20310222T170000
DTEND;TZID=America/New_York:20310222T180000
DTSTAMP:20260423T010458
CREATED:20241031T182149Z
LAST-MODIFIED:20241031T183232Z
UID:10024010-1929546000-1929549600@stmaryparish.net
SUMMARY:Mass (St Mary)
DESCRIPTION:
URL:https://stmaryparish.net/event/mass-st-mary/2031-02-22/
END:VEVENT
BEGIN:VEVENT
DTSTART;TZID=America/New_York:20310224T190000
DTEND;TZID=America/New_York:20310224T203000
DTSTAMP:20260423T010458
CREATED:20250905T185422Z
LAST-MODIFIED:20250905T185615Z
UID:10024083-1929726000-1929731400@stmaryparish.net
SUMMARY:Men's Group
DESCRIPTION:The Men’s Group meets Mondays from 7–8:30 pm (starting Sept. 15) at St. Anthony Parish. The Men’s group meets to strengthen each other to be Catholic men. We will launch our first meeting of the fall with a cookout behind St. Anthony Church.  All men are welcome. \nEmail Marty at martin.dybicz@gmail.com for details. \nMeetings take place at St. Anthony campus in the school building (Chesterton Academy — Commons)\, unless otherwise noted.
URL:https://stmaryparish.net/event/mens-group/2031-02-24/
LOCATION:St. Anthony Church\, N74W13604 Appleton Avenue\, Menomonee Falls\,\, WI\, 53051\, United States
END:VEVENT
BEGIN:VEVENT
DTSTART;TZID=America/New_York:20310226T120000
DTEND;TZID=America/New_York:20310226T123000
DTSTAMP:20260423T010458
CREATED:20241031T185919Z
LAST-MODIFIED:20250304T204847Z
UID:10024147-1929873600-1929875400@stmaryparish.net
SUMMARY:Confessions (St Mary)
DESCRIPTION:
URL:https://stmaryparish.net/event/confessions-st-mary-3/2031-02-26/
END:VEVENT
BEGIN:VEVENT
DTSTART;TZID=America/New_York:20310226T170000
DTEND;TZID=America/New_York:20310226T173000
DTSTAMP:20260423T010458
CREATED:20240312T141801Z
LAST-MODIFIED:20250304T205157Z
UID:10024142-1929891600-1929893400@stmaryparish.net
SUMMARY:Confessions (St. Anthony)
DESCRIPTION:
URL:https://stmaryparish.net/event/confessions-st-anthony-2/2031-02-26/
END:VEVENT
BEGIN:VEVENT
DTSTART;TZID=America/New_York:20310227T080000
DTEND;TZID=America/New_York:20310227T083000
DTSTAMP:20260423T010458
CREATED:20250612T170511Z
LAST-MODIFIED:20250612T170512Z
UID:10023783-1929945600-1929947400@stmaryparish.net
SUMMARY:Mass (St Anthony)
DESCRIPTION:
URL:https://stmaryparish.net/event/mass-st-anthony-7-2-2/2031-02-27/
END:VEVENT
BEGIN:VEVENT
DTSTART;TZID=America/New_York:20310227T121000
DTEND;TZID=America/New_York:20310227T124500
DTSTAMP:20260423T010458
CREATED:20241031T185234Z
LAST-MODIFIED:20241031T185234Z
UID:10023800-1929960600-1929962700@stmaryparish.net
SUMMARY:Mass (St Mary)
DESCRIPTION:
URL:https://stmaryparish.net/event/mass-st-mary-6/2031-02-27/
END:VEVENT
BEGIN:VEVENT
DTSTART;TZID=America/New_York:20310228T080000
DTEND;TZID=America/New_York:20310228T083000
DTSTAMP:20260423T010458
CREATED:20241031T184838Z
LAST-MODIFIED:20241031T184838Z
UID:10023839-1930032000-1930033800@stmaryparish.net
SUMMARY:Mass (St Anthony)
DESCRIPTION:
URL:https://stmaryparish.net/event/mass-st-anthony-8/2031-02-28/
END:VEVENT
BEGIN:VEVENT
DTSTART;TZID=America/New_York:20310228T081000
DTEND;TZID=America/New_York:20310228T084000
DTSTAMP:20260423T010458
CREATED:20241031T191510Z
LAST-MODIFIED:20241031T191852Z
UID:10023880-1930032600-1930034400@stmaryparish.net
SUMMARY:Mass (St Mary)
DESCRIPTION:
URL:https://stmaryparish.net/event/mass-st-mary-8/2031-02-28/
END:VEVENT
BEGIN:VEVENT
DTSTART;TZID=America/New_York:20310228T084500
DTEND;TZID=America/New_York:20310228T110000
DTSTAMP:20260423T010458
CREATED:20240830T115554Z
LAST-MODIFIED:20251009T144948Z
UID:10023895-1930034700-1930042800@stmaryparish.net
SUMMARY:Women's Faith Study Group
DESCRIPTION:The Women’s Faith Study Group will kick off the next session on  Sept. 5. The group meets from 8:45 am to 11 am at St. Anthony in the lower level of the St. Therese Formation Center (St. Joseph Adoration Chapel building). Child care is not currently offered.  For information\, email Mary Beth at marywitzlib@gmail.com
URL:https://stmaryparish.net/event/womens-faith-study-group-2-2-2/2031-02-28/
LOCATION:St. Therese Formation Center\, N74 W13604 Appleton Ave\, Menomonee Falls\, WI\, 53051
CATEGORIES:St. Anthony Parish,St. Mary Parish
END:VEVENT
BEGIN:VEVENT
DTSTART;TZID=America/New_York:20310228T120000
DTEND;TZID=America/New_York:20310228T123000
DTSTAMP:20260423T010458
CREATED:20241031T192332Z
LAST-MODIFIED:20241031T192350Z
UID:10023910-1930046400-1930048200@stmaryparish.net
SUMMARY:Confessions (St Mary)
DESCRIPTION:
URL:https://stmaryparish.net/event/confessions-st-mary-5/2031-02-28/
END:VEVENT
BEGIN:VEVENT
DTSTART;TZID=America/New_York:20310301T080000
DTEND;TZID=America/New_York:20310301T083000
DTSTAMP:20260423T010458
CREATED:20241031T185838Z
LAST-MODIFIED:20241031T185838Z
UID:10023965-1930118400-1930120200@stmaryparish.net
SUMMARY:Mass (St Mary)
DESCRIPTION:
URL:https://stmaryparish.net/event/mass-st-mary-7/2031-03-01/
END:VEVENT
BEGIN:VEVENT
DTSTART;TZID=America/New_York:20310301T163000
DTEND;TZID=America/New_York:20310301T173000
DTSTAMP:20260423T010458
CREATED:20241031T182115Z
LAST-MODIFIED:20241031T182115Z
UID:10024057-1930149000-1930152600@stmaryparish.net
SUMMARY:Mass (St Anthony)
DESCRIPTION:
URL:https://stmaryparish.net/event/mass-st-anthony-2/2031-03-01/
END:VEVENT
BEGIN:VEVENT
DTSTART;TZID=America/New_York:20310301T170000
DTEND;TZID=America/New_York:20310301T180000
DTSTAMP:20260423T010458
CREATED:20241031T182149Z
LAST-MODIFIED:20241031T183232Z
UID:10024011-1930150800-1930154400@stmaryparish.net
SUMMARY:Mass (St Mary)
DESCRIPTION:
URL:https://stmaryparish.net/event/mass-st-mary/2031-03-01/
END:VEVENT
BEGIN:VEVENT
DTSTART;TZID=America/New_York:20310303T190000
DTEND;TZID=America/New_York:20310303T203000
DTSTAMP:20260423T010458
CREATED:20250905T185422Z
LAST-MODIFIED:20250905T185615Z
UID:10024084-1930330800-1930336200@stmaryparish.net
SUMMARY:Men's Group
DESCRIPTION:The Men’s Group meets Mondays from 7–8:30 pm (starting Sept. 15) at St. Anthony Parish. The Men’s group meets to strengthen each other to be Catholic men. We will launch our first meeting of the fall with a cookout behind St. Anthony Church.  All men are welcome. \nEmail Marty at martin.dybicz@gmail.com for details. \nMeetings take place at St. Anthony campus in the school building (Chesterton Academy — Commons)\, unless otherwise noted.
URL:https://stmaryparish.net/event/mens-group/2031-03-03/
LOCATION:St. Anthony Church\, N74W13604 Appleton Avenue\, Menomonee Falls\,\, WI\, 53051\, United States
END:VEVENT
BEGIN:VEVENT
DTSTART;TZID=America/New_York:20310305T120000
DTEND;TZID=America/New_York:20310305T123000
DTSTAMP:20260423T010458
CREATED:20241031T185919Z
LAST-MODIFIED:20250304T204847Z
UID:10024148-1930478400-1930480200@stmaryparish.net
SUMMARY:Confessions (St Mary)
DESCRIPTION:
URL:https://stmaryparish.net/event/confessions-st-mary-3/2031-03-05/
END:VEVENT
BEGIN:VEVENT
DTSTART;TZID=America/New_York:20310305T170000
DTEND;TZID=America/New_York:20310305T173000
DTSTAMP:20260423T010458
CREATED:20240312T141801Z
LAST-MODIFIED:20250304T205157Z
UID:10024143-1930496400-1930498200@stmaryparish.net
SUMMARY:Confessions (St. Anthony)
DESCRIPTION:
URL:https://stmaryparish.net/event/confessions-st-anthony-2/2031-03-05/
END:VEVENT
BEGIN:VEVENT
DTSTART;TZID=America/New_York:20310305T190000
DTEND;TZID=America/New_York:20310305T200000
DTSTAMP:20260423T010458
CREATED:20240201T163527Z
LAST-MODIFIED:20250905T191233Z
UID:10023768-1930503600-1930507200@stmaryparish.net
SUMMARY:Human Concerns (St. Anthony)
DESCRIPTION:Human Concerns Committee: The Human Concerns Committee meets monthly to facilitate the outreach ministries of the parish by addressing social justice issues and increasing charity and stewardship awareness through support of emergency shelters\, pro-life non-profits\, and others as designated. HCC also organizes the Christmas Giving Tree and Easter Food Baskets. We meet on the first Wednesday of the month. \nContact: Nancy Schroeder\, nancys0615@gmail.com \nLocation: St. Therese Formation Center – Library
URL:https://stmaryparish.net/event/human-concerns-4/2031-03-05/
LOCATION:St. Therese Formation Center\, N74 W13604 Appleton Ave\, Menomonee Falls\, WI\, 53051
CATEGORIES:St. Anthony Parish
END:VEVENT
BEGIN:VEVENT
DTSTART;TZID=America/New_York:20310306T080000
DTEND;TZID=America/New_York:20310306T083000
DTSTAMP:20260423T010458
CREATED:20250612T170511Z
LAST-MODIFIED:20250612T170512Z
UID:10023784-1930550400-1930552200@stmaryparish.net
SUMMARY:Mass (St Anthony)
DESCRIPTION:
URL:https://stmaryparish.net/event/mass-st-anthony-7-2-2/2031-03-06/
END:VEVENT
BEGIN:VEVENT
DTSTART;TZID=America/New_York:20310306T121000
DTEND;TZID=America/New_York:20310306T124500
DTSTAMP:20260423T010458
CREATED:20241031T185234Z
LAST-MODIFIED:20241031T185234Z
UID:10023801-1930565400-1930567500@stmaryparish.net
SUMMARY:Mass (St Mary)
DESCRIPTION:
URL:https://stmaryparish.net/event/mass-st-mary-6/2031-03-06/
END:VEVENT
BEGIN:VEVENT
DTSTART;TZID=America/New_York:20310312T120000
DTEND;TZID=America/New_York:20310312T123000
DTSTAMP:20260423T010458
CREATED:20241031T185919Z
LAST-MODIFIED:20250304T204847Z
UID:10024149-1931083200-1931085000@stmaryparish.net
SUMMARY:Confessions (St Mary)
DESCRIPTION:
URL:https://stmaryparish.net/event/confessions-st-mary-3/2031-03-12/
END:VEVENT
BEGIN:VEVENT
DTSTART;TZID=America/New_York:20310312T170000
DTEND;TZID=America/New_York:20310312T173000
DTSTAMP:20260423T010458
CREATED:20240312T141801Z
LAST-MODIFIED:20250304T205157Z
UID:10024144-1931101200-1931103000@stmaryparish.net
SUMMARY:Confessions (St. Anthony)
DESCRIPTION:
URL:https://stmaryparish.net/event/confessions-st-anthony-2/2031-03-12/
END:VEVENT
END:VCALENDAR