BEGIN:VCALENDAR
VERSION:2.0
PRODID:-//St. Anthony and St. Mary Parishes - ECPv6.15.20//NONSGML v1.0//EN
CALSCALE:GREGORIAN
METHOD:PUBLISH
X-ORIGINAL-URL:https://stmaryparish.net
X-WR-CALDESC:Events for St. Anthony and St. Mary Parishes
REFRESH-INTERVAL;VALUE=DURATION:PT1H
X-Robots-Tag:noindex
X-PUBLISHED-TTL:PT1H
BEGIN:VTIMEZONE
TZID:America/New_York
BEGIN:DAYLIGHT
TZOFFSETFROM:-0500
TZOFFSETTO:-0400
TZNAME:EDT
DTSTART:20290311T070000
END:DAYLIGHT
BEGIN:STANDARD
TZOFFSETFROM:-0400
TZOFFSETTO:-0500
TZNAME:EST
DTSTART:20291104T060000
END:STANDARD
BEGIN:DAYLIGHT
TZOFFSETFROM:-0500
TZOFFSETTO:-0400
TZNAME:EDT
DTSTART:20300310T070000
END:DAYLIGHT
BEGIN:STANDARD
TZOFFSETFROM:-0400
TZOFFSETTO:-0500
TZNAME:EST
DTSTART:20301103T060000
END:STANDARD
BEGIN:DAYLIGHT
TZOFFSETFROM:-0500
TZOFFSETTO:-0400
TZNAME:EDT
DTSTART:20310309T070000
END:DAYLIGHT
BEGIN:STANDARD
TZOFFSETFROM:-0400
TZOFFSETTO:-0500
TZNAME:EST
DTSTART:20311102T060000
END:STANDARD
END:VTIMEZONE
BEGIN:VTIMEZONE
TZID:America/New_York
BEGIN:DAYLIGHT
TZOFFSETFROM:-0500
TZOFFSETTO:-0400
TZNAME:EDT
DTSTART:20290311T070000
END:DAYLIGHT
BEGIN:STANDARD
TZOFFSETFROM:-0400
TZOFFSETTO:-0500
TZNAME:EST
DTSTART:20291104T060000
END:STANDARD
BEGIN:DAYLIGHT
TZOFFSETFROM:-0500
TZOFFSETTO:-0400
TZNAME:EDT
DTSTART:20300310T070000
END:DAYLIGHT
BEGIN:STANDARD
TZOFFSETFROM:-0400
TZOFFSETTO:-0500
TZNAME:EST
DTSTART:20301103T060000
END:STANDARD
BEGIN:DAYLIGHT
TZOFFSETFROM:-0500
TZOFFSETTO:-0400
TZNAME:EDT
DTSTART:20310309T070000
END:DAYLIGHT
BEGIN:STANDARD
TZOFFSETFROM:-0400
TZOFFSETTO:-0500
TZNAME:EST
DTSTART:20311102T060000
END:STANDARD
END:VTIMEZONE
BEGIN:VEVENT
DTSTART;TZID=America/New_York:20300823T120000
DTEND;TZID=America/New_York:20300823T123000
DTSTAMP:20260422T183751
CREATED:20241031T192332Z
LAST-MODIFIED:20241031T192350Z
UID:10023513-1913716800-1913718600@stmaryparish.net
SUMMARY:Confessions (St Mary)
DESCRIPTION:
URL:https://stmaryparish.net/event/confessions-st-mary-5/2030-08-23/
END:VEVENT
BEGIN:VEVENT
DTSTART;TZID=America/New_York:20300823T170000
DTEND;TZID=America/New_York:20300823T173000
DTSTAMP:20260422T183751
CREATED:20240108T130904Z
LAST-MODIFIED:20250429T145934Z
UID:10011149-1913734800-1913736600@stmaryparish.net
SUMMARY:Confession (St. Anthony)
DESCRIPTION:The Sacrament of Reconciliation is offered daily during the week\, at 5 pm\, or by appointment\, at St. Anthony in the Church.
URL:https://stmaryparish.net/event/confessions-5-2/2030-08-23/
LOCATION:St. Anthony Church\, N74W13604 Appleton Avenue\, Menomonee Falls\,\, WI\, 53051\, United States
CATEGORIES:St. Anthony Parish
END:VEVENT
BEGIN:VEVENT
DTSTART;TZID=America/New_York:20300824T080000
DTEND;TZID=America/New_York:20300824T083000
DTSTAMP:20260422T183751
CREATED:20241031T185838Z
LAST-MODIFIED:20241031T185838Z
UID:10023938-1913788800-1913790600@stmaryparish.net
SUMMARY:Mass (St Mary)
DESCRIPTION:
URL:https://stmaryparish.net/event/mass-st-mary-7/2030-08-24/
END:VEVENT
BEGIN:VEVENT
DTSTART;TZID=America/New_York:20300824T163000
DTEND;TZID=America/New_York:20300824T173000
DTSTAMP:20260422T183751
CREATED:20241031T182115Z
LAST-MODIFIED:20241031T182115Z
UID:10024030-1913819400-1913823000@stmaryparish.net
SUMMARY:Mass (St Anthony)
DESCRIPTION:
URL:https://stmaryparish.net/event/mass-st-anthony-2/2030-08-24/
END:VEVENT
BEGIN:VEVENT
DTSTART;TZID=America/New_York:20300824T170000
DTEND;TZID=America/New_York:20300824T180000
DTSTAMP:20260422T183751
CREATED:20241031T182149Z
LAST-MODIFIED:20241031T183232Z
UID:10023984-1913821200-1913824800@stmaryparish.net
SUMMARY:Mass (St Mary)
DESCRIPTION:
URL:https://stmaryparish.net/event/mass-st-mary/2030-08-24/
END:VEVENT
BEGIN:VEVENT
DTSTART;TZID=America/New_York:20300826T080000
DTEND;TZID=America/New_York:20300826T083000
DTSTAMP:20260422T183751
CREATED:20241031T184422Z
LAST-MODIFIED:20241031T184422Z
UID:10022893-1913961600-1913963400@stmaryparish.net
SUMMARY:Mass (St Anthony)
DESCRIPTION:
URL:https://stmaryparish.net/event/mass-st-anthony-4/2030-08-26/
END:VEVENT
BEGIN:VEVENT
DTSTART;TZID=America/New_York:20300826T120000
DTEND;TZID=America/New_York:20300826T123000
DTSTAMP:20260422T183751
CREATED:20241031T185431Z
LAST-MODIFIED:20241031T185431Z
UID:10022897-1913976000-1913977800@stmaryparish.net
SUMMARY:Confessions (St Mary)
DESCRIPTION:
URL:https://stmaryparish.net/event/confessions-st-mary/2030-08-26/
END:VEVENT
BEGIN:VEVENT
DTSTART;TZID=America/New_York:20300826T170000
DTEND;TZID=America/New_York:20300826T173000
DTSTAMP:20260422T183751
CREATED:20240108T130904Z
LAST-MODIFIED:20250429T145934Z
UID:10011150-1913994000-1913995800@stmaryparish.net
SUMMARY:Confession (St. Anthony)
DESCRIPTION:The Sacrament of Reconciliation is offered daily during the week\, at 5 pm\, or by appointment\, at St. Anthony in the Church.
URL:https://stmaryparish.net/event/confessions-5-2/2030-08-26/
LOCATION:St. Anthony Church\, N74W13604 Appleton Avenue\, Menomonee Falls\,\, WI\, 53051\, United States
CATEGORIES:St. Anthony Parish
END:VEVENT
BEGIN:VEVENT
DTSTART;TZID=America/New_York:20300826T190000
DTEND;TZID=America/New_York:20300826T203000
DTSTAMP:20260422T183751
CREATED:20250905T185422Z
LAST-MODIFIED:20250905T185615Z
UID:10023158-1914001200-1914006600@stmaryparish.net
SUMMARY:Men's Group
DESCRIPTION:The Men’s Group meets Mondays from 7–8:30 pm (starting Sept. 15) at St. Anthony Parish. The Men’s group meets to strengthen each other to be Catholic men. We will launch our first meeting of the fall with a cookout behind St. Anthony Church.  All men are welcome. \nEmail Marty at martin.dybicz@gmail.com for details. \nMeetings take place at St. Anthony campus in the school building (Chesterton Academy — Commons)\, unless otherwise noted.
URL:https://stmaryparish.net/event/mens-group/2030-08-26/
LOCATION:St. Anthony Church\, N74W13604 Appleton Avenue\, Menomonee Falls\,\, WI\, 53051\, United States
END:VEVENT
BEGIN:VEVENT
DTSTART;TZID=America/New_York:20300827T170000
DTEND;TZID=America/New_York:20300827T173000
DTSTAMP:20260422T183751
CREATED:20241213T190819Z
LAST-MODIFIED:20250414T214653Z
UID:10023643-1914080400-1914082200@stmaryparish.net
SUMMARY:Confessions (St. Anthony)
DESCRIPTION:
URL:https://stmaryparish.net/event/confessions-st-anthony-9/2030-08-27/
END:VEVENT
BEGIN:VEVENT
DTSTART;TZID=America/New_York:20300827T170000
DTEND;TZID=America/New_York:20300827T180000
DTSTAMP:20260422T183751
CREATED:20250415T140218Z
LAST-MODIFIED:20251118T160533Z
UID:10023530-1914080400-1914084000@stmaryparish.net
SUMMARY:StA Pastoral Council
DESCRIPTION:Pastoral Council: The Pastoral Council strives to build a community of disciples who recognize their baptismal lives of holiness and service\, taking into account all the needs and priorities of the parishioners.Parishioners are welcome to attend and observe. Meeting dates and times are on the parish calendar.   \nLocation: Lower level of the St. Therese Formation Center \nContact: Gail Shinkle\, shinkleg@stam.church \n 
URL:https://stmaryparish.net/event/pastoral-council-3/2030-08-27/
LOCATION:St. Therese Formation Center\, N74 W13604 Appleton Ave\, Menomonee Falls\, WI\, 53051
CATEGORIES:St. Anthony Parish
END:VEVENT
BEGIN:VEVENT
DTSTART;TZID=America/New_York:20300828T120000
DTEND;TZID=America/New_York:20300828T123000
DTSTAMP:20260422T183751
CREATED:20241031T185919Z
LAST-MODIFIED:20250304T204847Z
UID:10023678-1914148800-1914150600@stmaryparish.net
SUMMARY:Confessions (St Mary)
DESCRIPTION:
URL:https://stmaryparish.net/event/confessions-st-mary-3/2030-08-28/
END:VEVENT
BEGIN:VEVENT
DTSTART;TZID=America/New_York:20300828T170000
DTEND;TZID=America/New_York:20300828T173000
DTSTAMP:20260422T183751
CREATED:20240312T141801Z
LAST-MODIFIED:20250304T205157Z
UID:10024116-1914166800-1914168600@stmaryparish.net
SUMMARY:Confessions (St. Anthony)
DESCRIPTION:
URL:https://stmaryparish.net/event/confessions-st-anthony-2/2030-08-28/
END:VEVENT
BEGIN:VEVENT
DTSTART;TZID=America/New_York:20300829T080000
DTEND;TZID=America/New_York:20300829T083000
DTSTAMP:20260422T183751
CREATED:20250612T170511Z
LAST-MODIFIED:20250612T170512Z
UID:10023451-1914220800-1914222600@stmaryparish.net
SUMMARY:Mass (St Anthony)
DESCRIPTION:
URL:https://stmaryparish.net/event/mass-st-anthony-7-2-2/2030-08-29/
END:VEVENT
BEGIN:VEVENT
DTSTART;TZID=America/New_York:20300829T121000
DTEND;TZID=America/New_York:20300829T124500
DTSTAMP:20260422T183751
CREATED:20241031T185234Z
LAST-MODIFIED:20241031T185234Z
UID:10023482-1914235800-1914237900@stmaryparish.net
SUMMARY:Mass (St Mary)
DESCRIPTION:
URL:https://stmaryparish.net/event/mass-st-mary-6/2030-08-29/
END:VEVENT
BEGIN:VEVENT
DTSTART;TZID=America/New_York:20300829T170000
DTEND;TZID=America/New_York:20300829T173000
DTSTAMP:20260422T183751
CREATED:20240108T130904Z
LAST-MODIFIED:20250429T145934Z
UID:10011153-1914253200-1914255000@stmaryparish.net
SUMMARY:Confession (St. Anthony)
DESCRIPTION:The Sacrament of Reconciliation is offered daily during the week\, at 5 pm\, or by appointment\, at St. Anthony in the Church.
URL:https://stmaryparish.net/event/confessions-5-2/2030-08-29/
LOCATION:St. Anthony Church\, N74W13604 Appleton Avenue\, Menomonee Falls\,\, WI\, 53051\, United States
CATEGORIES:St. Anthony Parish
END:VEVENT
BEGIN:VEVENT
DTSTART;TZID=America/New_York:20300830T080000
DTEND;TZID=America/New_York:20300830T083000
DTSTAMP:20260422T183751
CREATED:20241031T184838Z
LAST-MODIFIED:20241031T184838Z
UID:10023813-1914307200-1914309000@stmaryparish.net
SUMMARY:Mass (St Anthony)
DESCRIPTION:
URL:https://stmaryparish.net/event/mass-st-anthony-8/2030-08-30/
END:VEVENT
BEGIN:VEVENT
DTSTART;TZID=America/New_York:20300830T081000
DTEND;TZID=America/New_York:20300830T084000
DTSTAMP:20260422T183751
CREATED:20241031T191510Z
LAST-MODIFIED:20241031T191852Z
UID:10023854-1914307800-1914309600@stmaryparish.net
SUMMARY:Mass (St Mary)
DESCRIPTION:
URL:https://stmaryparish.net/event/mass-st-mary-8/2030-08-30/
END:VEVENT
BEGIN:VEVENT
DTSTART;TZID=America/New_York:20300830T084500
DTEND;TZID=America/New_York:20300830T110000
DTSTAMP:20260422T183751
CREATED:20240830T115554Z
LAST-MODIFIED:20251009T144948Z
UID:10023420-1914309900-1914318000@stmaryparish.net
SUMMARY:Women's Faith Study Group
DESCRIPTION:The Women’s Faith Study Group will kick off the next session on  Sept. 5. The group meets from 8:45 am to 11 am at St. Anthony in the lower level of the St. Therese Formation Center (St. Joseph Adoration Chapel building). Child care is not currently offered.  For information\, email Mary Beth at marywitzlib@gmail.com
URL:https://stmaryparish.net/event/womens-faith-study-group-2-2-2/2030-08-30/
LOCATION:St. Therese Formation Center\, N74 W13604 Appleton Ave\, Menomonee Falls\, WI\, 53051
CATEGORIES:St. Anthony Parish,St. Mary Parish
END:VEVENT
BEGIN:VEVENT
DTSTART;TZID=America/New_York:20300830T120000
DTEND;TZID=America/New_York:20300830T123000
DTSTAMP:20260422T183751
CREATED:20241031T192332Z
LAST-MODIFIED:20241031T192350Z
UID:10023514-1914321600-1914323400@stmaryparish.net
SUMMARY:Confessions (St Mary)
DESCRIPTION:
URL:https://stmaryparish.net/event/confessions-st-mary-5/2030-08-30/
END:VEVENT
BEGIN:VEVENT
DTSTART;TZID=America/New_York:20300830T170000
DTEND;TZID=America/New_York:20300830T173000
DTSTAMP:20260422T183751
CREATED:20240108T130904Z
LAST-MODIFIED:20250429T145934Z
UID:10011154-1914339600-1914341400@stmaryparish.net
SUMMARY:Confession (St. Anthony)
DESCRIPTION:The Sacrament of Reconciliation is offered daily during the week\, at 5 pm\, or by appointment\, at St. Anthony in the Church.
URL:https://stmaryparish.net/event/confessions-5-2/2030-08-30/
LOCATION:St. Anthony Church\, N74W13604 Appleton Avenue\, Menomonee Falls\,\, WI\, 53051\, United States
CATEGORIES:St. Anthony Parish
END:VEVENT
BEGIN:VEVENT
DTSTART;TZID=America/New_York:20300831T080000
DTEND;TZID=America/New_York:20300831T083000
DTSTAMP:20260422T183751
CREATED:20241031T185838Z
LAST-MODIFIED:20241031T185838Z
UID:10023939-1914393600-1914395400@stmaryparish.net
SUMMARY:Mass (St Mary)
DESCRIPTION:
URL:https://stmaryparish.net/event/mass-st-mary-7/2030-08-31/
END:VEVENT
BEGIN:VEVENT
DTSTART;TZID=America/New_York:20300831T163000
DTEND;TZID=America/New_York:20300831T173000
DTSTAMP:20260422T183751
CREATED:20241031T182115Z
LAST-MODIFIED:20241031T182115Z
UID:10024031-1914424200-1914427800@stmaryparish.net
SUMMARY:Mass (St Anthony)
DESCRIPTION:
URL:https://stmaryparish.net/event/mass-st-anthony-2/2030-08-31/
END:VEVENT
BEGIN:VEVENT
DTSTART;TZID=America/New_York:20300831T170000
DTEND;TZID=America/New_York:20300831T180000
DTSTAMP:20260422T183751
CREATED:20241031T182149Z
LAST-MODIFIED:20241031T183232Z
UID:10023985-1914426000-1914429600@stmaryparish.net
SUMMARY:Mass (St Mary)
DESCRIPTION:
URL:https://stmaryparish.net/event/mass-st-mary/2030-08-31/
END:VEVENT
BEGIN:VEVENT
DTSTART;TZID=America/New_York:20300902T120000
DTEND;TZID=America/New_York:20300902T123000
DTSTAMP:20260422T183751
CREATED:20241031T185431Z
LAST-MODIFIED:20241031T185431Z
UID:10023537-1914580800-1914582600@stmaryparish.net
SUMMARY:Confessions (St Mary)
DESCRIPTION:
URL:https://stmaryparish.net/event/confessions-st-mary/2030-09-02/
END:VEVENT
BEGIN:VEVENT
DTSTART;TZID=America/New_York:20300902T170000
DTEND;TZID=America/New_York:20300902T173000
DTSTAMP:20260422T183751
CREATED:20240108T130904Z
LAST-MODIFIED:20250429T145934Z
UID:10011155-1914598800-1914600600@stmaryparish.net
SUMMARY:Confession (St. Anthony)
DESCRIPTION:The Sacrament of Reconciliation is offered daily during the week\, at 5 pm\, or by appointment\, at St. Anthony in the Church.
URL:https://stmaryparish.net/event/confessions-5-2/2030-09-02/
LOCATION:St. Anthony Church\, N74W13604 Appleton Avenue\, Menomonee Falls\,\, WI\, 53051\, United States
CATEGORIES:St. Anthony Parish
END:VEVENT
BEGIN:VEVENT
DTSTART;TZID=America/New_York:20300902T190000
DTEND;TZID=America/New_York:20300902T203000
DTSTAMP:20260422T183751
CREATED:20250905T185422Z
LAST-MODIFIED:20250905T185615Z
UID:10023159-1914606000-1914611400@stmaryparish.net
SUMMARY:Men's Group
DESCRIPTION:The Men’s Group meets Mondays from 7–8:30 pm (starting Sept. 15) at St. Anthony Parish. The Men’s group meets to strengthen each other to be Catholic men. We will launch our first meeting of the fall with a cookout behind St. Anthony Church.  All men are welcome. \nEmail Marty at martin.dybicz@gmail.com for details. \nMeetings take place at St. Anthony campus in the school building (Chesterton Academy — Commons)\, unless otherwise noted.
URL:https://stmaryparish.net/event/mens-group/2030-09-02/
LOCATION:St. Anthony Church\, N74W13604 Appleton Avenue\, Menomonee Falls\,\, WI\, 53051\, United States
END:VEVENT
BEGIN:VEVENT
DTSTART;TZID=America/New_York:20300903T170000
DTEND;TZID=America/New_York:20300903T173000
DTSTAMP:20260422T183751
CREATED:20241213T190819Z
LAST-MODIFIED:20250414T214653Z
UID:10023644-1914685200-1914687000@stmaryparish.net
SUMMARY:Confessions (St. Anthony)
DESCRIPTION:
URL:https://stmaryparish.net/event/confessions-st-anthony-9/2030-09-03/
END:VEVENT
BEGIN:VEVENT
DTSTART;TZID=America/New_York:20300904T120000
DTEND;TZID=America/New_York:20300904T123000
DTSTAMP:20260422T183751
CREATED:20241031T185919Z
LAST-MODIFIED:20250304T204847Z
UID:10023679-1914753600-1914755400@stmaryparish.net
SUMMARY:Confessions (St Mary)
DESCRIPTION:
URL:https://stmaryparish.net/event/confessions-st-mary-3/2030-09-04/
END:VEVENT
BEGIN:VEVENT
DTSTART;TZID=America/New_York:20300904T170000
DTEND;TZID=America/New_York:20300904T173000
DTSTAMP:20260422T183751
CREATED:20240312T141801Z
LAST-MODIFIED:20250304T205157Z
UID:10024117-1914771600-1914773400@stmaryparish.net
SUMMARY:Confessions (St. Anthony)
DESCRIPTION:
URL:https://stmaryparish.net/event/confessions-st-anthony-2/2030-09-04/
END:VEVENT
END:VCALENDAR