BEGIN:VCALENDAR
VERSION:2.0
PRODID:-//St. Anthony and St. Mary Parishes - ECPv6.15.20//NONSGML v1.0//EN
CALSCALE:GREGORIAN
METHOD:PUBLISH
X-WR-CALNAME:St. Anthony and St. Mary Parishes
X-ORIGINAL-URL:https://stmaryparish.net
X-WR-CALDESC:Events for St. Anthony and St. Mary Parishes
REFRESH-INTERVAL;VALUE=DURATION:PT1H
X-Robots-Tag:noindex
X-PUBLISHED-TTL:PT1H
BEGIN:VTIMEZONE
TZID:America/New_York
BEGIN:DAYLIGHT
TZOFFSETFROM:-0500
TZOFFSETTO:-0400
TZNAME:EDT
DTSTART:20290311T070000
END:DAYLIGHT
BEGIN:STANDARD
TZOFFSETFROM:-0400
TZOFFSETTO:-0500
TZNAME:EST
DTSTART:20291104T060000
END:STANDARD
BEGIN:DAYLIGHT
TZOFFSETFROM:-0500
TZOFFSETTO:-0400
TZNAME:EDT
DTSTART:20300310T070000
END:DAYLIGHT
BEGIN:STANDARD
TZOFFSETFROM:-0400
TZOFFSETTO:-0500
TZNAME:EST
DTSTART:20301103T060000
END:STANDARD
BEGIN:DAYLIGHT
TZOFFSETFROM:-0500
TZOFFSETTO:-0400
TZNAME:EDT
DTSTART:20310309T070000
END:DAYLIGHT
BEGIN:STANDARD
TZOFFSETFROM:-0400
TZOFFSETTO:-0500
TZNAME:EST
DTSTART:20311102T060000
END:STANDARD
END:VTIMEZONE
BEGIN:VTIMEZONE
TZID:America/New_York
BEGIN:DAYLIGHT
TZOFFSETFROM:-0500
TZOFFSETTO:-0400
TZNAME:EDT
DTSTART:20290311T070000
END:DAYLIGHT
BEGIN:STANDARD
TZOFFSETFROM:-0400
TZOFFSETTO:-0500
TZNAME:EST
DTSTART:20291104T060000
END:STANDARD
BEGIN:DAYLIGHT
TZOFFSETFROM:-0500
TZOFFSETTO:-0400
TZNAME:EDT
DTSTART:20300310T070000
END:DAYLIGHT
BEGIN:STANDARD
TZOFFSETFROM:-0400
TZOFFSETTO:-0500
TZNAME:EST
DTSTART:20301103T060000
END:STANDARD
BEGIN:DAYLIGHT
TZOFFSETFROM:-0500
TZOFFSETTO:-0400
TZNAME:EDT
DTSTART:20310309T070000
END:DAYLIGHT
BEGIN:STANDARD
TZOFFSETFROM:-0400
TZOFFSETTO:-0500
TZNAME:EST
DTSTART:20311102T060000
END:STANDARD
END:VTIMEZONE
BEGIN:VEVENT
DTSTART;TZID=America/New_York:20300809T170000
DTEND;TZID=America/New_York:20300809T173000
DTSTAMP:20260422T183532
CREATED:20240108T130904Z
LAST-MODIFIED:20250429T145934Z
UID:10011139-1912525200-1912527000@stmaryparish.net
SUMMARY:Confession (St. Anthony)
DESCRIPTION:The Sacrament of Reconciliation is offered daily during the week\, at 5 pm\, or by appointment\, at St. Anthony in the Church.
URL:https://stmaryparish.net/event/confessions-5-2/2030-08-09/
LOCATION:St. Anthony Church\, N74W13604 Appleton Avenue\, Menomonee Falls\,\, WI\, 53051\, United States
CATEGORIES:St. Anthony Parish
END:VEVENT
BEGIN:VEVENT
DTSTART;TZID=America/New_York:20300810T080000
DTEND;TZID=America/New_York:20300810T083000
DTSTAMP:20260422T183532
CREATED:20241031T185838Z
LAST-MODIFIED:20241031T185838Z
UID:10023936-1912579200-1912581000@stmaryparish.net
SUMMARY:Mass (St Mary)
DESCRIPTION:
URL:https://stmaryparish.net/event/mass-st-mary-7/2030-08-10/
END:VEVENT
BEGIN:VEVENT
DTSTART;TZID=America/New_York:20300810T163000
DTEND;TZID=America/New_York:20300810T173000
DTSTAMP:20260422T183532
CREATED:20241031T182115Z
LAST-MODIFIED:20241031T182115Z
UID:10024028-1912609800-1912613400@stmaryparish.net
SUMMARY:Mass (St Anthony)
DESCRIPTION:
URL:https://stmaryparish.net/event/mass-st-anthony-2/2030-08-10/
END:VEVENT
BEGIN:VEVENT
DTSTART;TZID=America/New_York:20300810T170000
DTEND;TZID=America/New_York:20300810T180000
DTSTAMP:20260422T183532
CREATED:20241031T182149Z
LAST-MODIFIED:20241031T183232Z
UID:10023982-1912611600-1912615200@stmaryparish.net
SUMMARY:Mass (St Mary)
DESCRIPTION:
URL:https://stmaryparish.net/event/mass-st-mary/2030-08-10/
END:VEVENT
BEGIN:VEVENT
DTSTART;TZID=America/New_York:20300812T080000
DTEND;TZID=America/New_York:20300812T083000
DTSTAMP:20260422T183532
CREATED:20241031T184422Z
LAST-MODIFIED:20241031T184422Z
UID:10022891-1912752000-1912753800@stmaryparish.net
SUMMARY:Mass (St Anthony)
DESCRIPTION:
URL:https://stmaryparish.net/event/mass-st-anthony-4/2030-08-12/
END:VEVENT
BEGIN:VEVENT
DTSTART;TZID=America/New_York:20300812T120000
DTEND;TZID=America/New_York:20300812T123000
DTSTAMP:20260422T183532
CREATED:20241031T185431Z
LAST-MODIFIED:20241031T185431Z
UID:10022895-1912766400-1912768200@stmaryparish.net
SUMMARY:Confessions (St Mary)
DESCRIPTION:
URL:https://stmaryparish.net/event/confessions-st-mary/2030-08-12/
END:VEVENT
BEGIN:VEVENT
DTSTART;TZID=America/New_York:20300812T170000
DTEND;TZID=America/New_York:20300812T173000
DTSTAMP:20260422T183532
CREATED:20240108T130904Z
LAST-MODIFIED:20250429T145934Z
UID:10011140-1912784400-1912786200@stmaryparish.net
SUMMARY:Confession (St. Anthony)
DESCRIPTION:The Sacrament of Reconciliation is offered daily during the week\, at 5 pm\, or by appointment\, at St. Anthony in the Church.
URL:https://stmaryparish.net/event/confessions-5-2/2030-08-12/
LOCATION:St. Anthony Church\, N74W13604 Appleton Avenue\, Menomonee Falls\,\, WI\, 53051\, United States
CATEGORIES:St. Anthony Parish
END:VEVENT
BEGIN:VEVENT
DTSTART;TZID=America/New_York:20300812T190000
DTEND;TZID=America/New_York:20300812T203000
DTSTAMP:20260422T183532
CREATED:20250905T185422Z
LAST-MODIFIED:20250905T185615Z
UID:10023156-1912791600-1912797000@stmaryparish.net
SUMMARY:Men's Group
DESCRIPTION:The Men’s Group meets Mondays from 7–8:30 pm (starting Sept. 15) at St. Anthony Parish. The Men’s group meets to strengthen each other to be Catholic men. We will launch our first meeting of the fall with a cookout behind St. Anthony Church.  All men are welcome. \nEmail Marty at martin.dybicz@gmail.com for details. \nMeetings take place at St. Anthony campus in the school building (Chesterton Academy — Commons)\, unless otherwise noted.
URL:https://stmaryparish.net/event/mens-group/2030-08-12/
LOCATION:St. Anthony Church\, N74W13604 Appleton Avenue\, Menomonee Falls\,\, WI\, 53051\, United States
END:VEVENT
BEGIN:VEVENT
DTSTART;TZID=America/New_York:20300813T170000
DTEND;TZID=America/New_York:20300813T173000
DTSTAMP:20260422T183532
CREATED:20241213T190819Z
LAST-MODIFIED:20250414T214653Z
UID:10023641-1912870800-1912872600@stmaryparish.net
SUMMARY:Confessions (St. Anthony)
DESCRIPTION:
URL:https://stmaryparish.net/event/confessions-st-anthony-9/2030-08-13/
END:VEVENT
BEGIN:VEVENT
DTSTART;TZID=America/New_York:20300814T120000
DTEND;TZID=America/New_York:20300814T123000
DTSTAMP:20260422T183532
CREATED:20241031T185919Z
LAST-MODIFIED:20250304T204847Z
UID:10023676-1912939200-1912941000@stmaryparish.net
SUMMARY:Confessions (St Mary)
DESCRIPTION:
URL:https://stmaryparish.net/event/confessions-st-mary-3/2030-08-14/
END:VEVENT
BEGIN:VEVENT
DTSTART;TZID=America/New_York:20300814T170000
DTEND;TZID=America/New_York:20300814T173000
DTSTAMP:20260422T183532
CREATED:20240312T141801Z
LAST-MODIFIED:20250304T205157Z
UID:10024114-1912957200-1912959000@stmaryparish.net
SUMMARY:Confessions (St. Anthony)
DESCRIPTION:
URL:https://stmaryparish.net/event/confessions-st-anthony-2/2030-08-14/
END:VEVENT
BEGIN:VEVENT
DTSTART;TZID=America/New_York:20300815T080000
DTEND;TZID=America/New_York:20300815T083000
DTSTAMP:20260422T183532
CREATED:20250612T170511Z
LAST-MODIFIED:20250612T170512Z
UID:10023449-1913011200-1913013000@stmaryparish.net
SUMMARY:Mass (St Anthony)
DESCRIPTION:
URL:https://stmaryparish.net/event/mass-st-anthony-7-2-2/2030-08-15/
END:VEVENT
BEGIN:VEVENT
DTSTART;TZID=America/New_York:20300815T121000
DTEND;TZID=America/New_York:20300815T124500
DTSTAMP:20260422T183532
CREATED:20241031T185234Z
LAST-MODIFIED:20241031T185234Z
UID:10023480-1913026200-1913028300@stmaryparish.net
SUMMARY:Mass (St Mary)
DESCRIPTION:
URL:https://stmaryparish.net/event/mass-st-mary-6/2030-08-15/
END:VEVENT
BEGIN:VEVENT
DTSTART;TZID=America/New_York:20300815T170000
DTEND;TZID=America/New_York:20300815T173000
DTSTAMP:20260422T183532
CREATED:20240108T130904Z
LAST-MODIFIED:20250429T145934Z
UID:10011143-1913043600-1913045400@stmaryparish.net
SUMMARY:Confession (St. Anthony)
DESCRIPTION:The Sacrament of Reconciliation is offered daily during the week\, at 5 pm\, or by appointment\, at St. Anthony in the Church.
URL:https://stmaryparish.net/event/confessions-5-2/2030-08-15/
LOCATION:St. Anthony Church\, N74W13604 Appleton Avenue\, Menomonee Falls\,\, WI\, 53051\, United States
CATEGORIES:St. Anthony Parish
END:VEVENT
BEGIN:VEVENT
DTSTART;TZID=America/New_York:20300816T080000
DTEND;TZID=America/New_York:20300816T083000
DTSTAMP:20260422T183532
CREATED:20241031T184838Z
LAST-MODIFIED:20241031T184838Z
UID:10023811-1913097600-1913099400@stmaryparish.net
SUMMARY:Mass (St Anthony)
DESCRIPTION:
URL:https://stmaryparish.net/event/mass-st-anthony-8/2030-08-16/
END:VEVENT
BEGIN:VEVENT
DTSTART;TZID=America/New_York:20300816T081000
DTEND;TZID=America/New_York:20300816T084000
DTSTAMP:20260422T183532
CREATED:20241031T191510Z
LAST-MODIFIED:20241031T191852Z
UID:10023852-1913098200-1913100000@stmaryparish.net
SUMMARY:Mass (St Mary)
DESCRIPTION:
URL:https://stmaryparish.net/event/mass-st-mary-8/2030-08-16/
END:VEVENT
BEGIN:VEVENT
DTSTART;TZID=America/New_York:20300816T084500
DTEND;TZID=America/New_York:20300816T110000
DTSTAMP:20260422T183532
CREATED:20240830T115554Z
LAST-MODIFIED:20251009T144948Z
UID:10023418-1913100300-1913108400@stmaryparish.net
SUMMARY:Women's Faith Study Group
DESCRIPTION:The Women’s Faith Study Group will kick off the next session on  Sept. 5. The group meets from 8:45 am to 11 am at St. Anthony in the lower level of the St. Therese Formation Center (St. Joseph Adoration Chapel building). Child care is not currently offered.  For information\, email Mary Beth at marywitzlib@gmail.com
URL:https://stmaryparish.net/event/womens-faith-study-group-2-2-2/2030-08-16/
LOCATION:St. Therese Formation Center\, N74 W13604 Appleton Ave\, Menomonee Falls\, WI\, 53051
CATEGORIES:St. Anthony Parish,St. Mary Parish
END:VEVENT
BEGIN:VEVENT
DTSTART;TZID=America/New_York:20300816T120000
DTEND;TZID=America/New_York:20300816T123000
DTSTAMP:20260422T183532
CREATED:20241031T192332Z
LAST-MODIFIED:20241031T192350Z
UID:10023512-1913112000-1913113800@stmaryparish.net
SUMMARY:Confessions (St Mary)
DESCRIPTION:
URL:https://stmaryparish.net/event/confessions-st-mary-5/2030-08-16/
END:VEVENT
BEGIN:VEVENT
DTSTART;TZID=America/New_York:20300816T170000
DTEND;TZID=America/New_York:20300816T173000
DTSTAMP:20260422T183532
CREATED:20240108T130904Z
LAST-MODIFIED:20250429T145934Z
UID:10011144-1913130000-1913131800@stmaryparish.net
SUMMARY:Confession (St. Anthony)
DESCRIPTION:The Sacrament of Reconciliation is offered daily during the week\, at 5 pm\, or by appointment\, at St. Anthony in the Church.
URL:https://stmaryparish.net/event/confessions-5-2/2030-08-16/
LOCATION:St. Anthony Church\, N74W13604 Appleton Avenue\, Menomonee Falls\,\, WI\, 53051\, United States
CATEGORIES:St. Anthony Parish
END:VEVENT
BEGIN:VEVENT
DTSTART;TZID=America/New_York:20300817T080000
DTEND;TZID=America/New_York:20300817T083000
DTSTAMP:20260422T183532
CREATED:20241031T185838Z
LAST-MODIFIED:20241031T185838Z
UID:10023937-1913184000-1913185800@stmaryparish.net
SUMMARY:Mass (St Mary)
DESCRIPTION:
URL:https://stmaryparish.net/event/mass-st-mary-7/2030-08-17/
END:VEVENT
BEGIN:VEVENT
DTSTART;TZID=America/New_York:20300817T163000
DTEND;TZID=America/New_York:20300817T173000
DTSTAMP:20260422T183532
CREATED:20241031T182115Z
LAST-MODIFIED:20241031T182115Z
UID:10024029-1913214600-1913218200@stmaryparish.net
SUMMARY:Mass (St Anthony)
DESCRIPTION:
URL:https://stmaryparish.net/event/mass-st-anthony-2/2030-08-17/
END:VEVENT
BEGIN:VEVENT
DTSTART;TZID=America/New_York:20300817T170000
DTEND;TZID=America/New_York:20300817T180000
DTSTAMP:20260422T183532
CREATED:20241031T182149Z
LAST-MODIFIED:20241031T183232Z
UID:10023983-1913216400-1913220000@stmaryparish.net
SUMMARY:Mass (St Mary)
DESCRIPTION:
URL:https://stmaryparish.net/event/mass-st-mary/2030-08-17/
END:VEVENT
BEGIN:VEVENT
DTSTART;TZID=America/New_York:20300819T080000
DTEND;TZID=America/New_York:20300819T083000
DTSTAMP:20260422T183532
CREATED:20241031T184422Z
LAST-MODIFIED:20241031T184422Z
UID:10022892-1913356800-1913358600@stmaryparish.net
SUMMARY:Mass (St Anthony)
DESCRIPTION:
URL:https://stmaryparish.net/event/mass-st-anthony-4/2030-08-19/
END:VEVENT
BEGIN:VEVENT
DTSTART;TZID=America/New_York:20300819T120000
DTEND;TZID=America/New_York:20300819T123000
DTSTAMP:20260422T183532
CREATED:20241031T185431Z
LAST-MODIFIED:20241031T185431Z
UID:10022896-1913371200-1913373000@stmaryparish.net
SUMMARY:Confessions (St Mary)
DESCRIPTION:
URL:https://stmaryparish.net/event/confessions-st-mary/2030-08-19/
END:VEVENT
BEGIN:VEVENT
DTSTART;TZID=America/New_York:20300819T170000
DTEND;TZID=America/New_York:20300819T173000
DTSTAMP:20260422T183532
CREATED:20240108T130904Z
LAST-MODIFIED:20250429T145934Z
UID:10011145-1913389200-1913391000@stmaryparish.net
SUMMARY:Confession (St. Anthony)
DESCRIPTION:The Sacrament of Reconciliation is offered daily during the week\, at 5 pm\, or by appointment\, at St. Anthony in the Church.
URL:https://stmaryparish.net/event/confessions-5-2/2030-08-19/
LOCATION:St. Anthony Church\, N74W13604 Appleton Avenue\, Menomonee Falls\,\, WI\, 53051\, United States
CATEGORIES:St. Anthony Parish
END:VEVENT
BEGIN:VEVENT
DTSTART;TZID=America/New_York:20300819T190000
DTEND;TZID=America/New_York:20300819T203000
DTSTAMP:20260422T183532
CREATED:20250905T185422Z
LAST-MODIFIED:20250905T185615Z
UID:10023157-1913396400-1913401800@stmaryparish.net
SUMMARY:Men's Group
DESCRIPTION:The Men’s Group meets Mondays from 7–8:30 pm (starting Sept. 15) at St. Anthony Parish. The Men’s group meets to strengthen each other to be Catholic men. We will launch our first meeting of the fall with a cookout behind St. Anthony Church.  All men are welcome. \nEmail Marty at martin.dybicz@gmail.com for details. \nMeetings take place at St. Anthony campus in the school building (Chesterton Academy — Commons)\, unless otherwise noted.
URL:https://stmaryparish.net/event/mens-group/2030-08-19/
LOCATION:St. Anthony Church\, N74W13604 Appleton Avenue\, Menomonee Falls\,\, WI\, 53051\, United States
END:VEVENT
BEGIN:VEVENT
DTSTART;TZID=America/New_York:20300820T170000
DTEND;TZID=America/New_York:20300820T173000
DTSTAMP:20260422T183532
CREATED:20241213T190819Z
LAST-MODIFIED:20250414T214653Z
UID:10023642-1913475600-1913477400@stmaryparish.net
SUMMARY:Confessions (St. Anthony)
DESCRIPTION:
URL:https://stmaryparish.net/event/confessions-st-anthony-9/2030-08-20/
END:VEVENT
BEGIN:VEVENT
DTSTART;TZID=America/New_York:20300820T183000
DTEND;TZID=America/New_York:20300820T200000
DTSTAMP:20260422T183532
CREATED:20250304T210741Z
LAST-MODIFIED:20250905T191308Z
UID:10023425-1913481000-1913486400@stmaryparish.net
SUMMARY:Human Concerns (St. Mary)
DESCRIPTION:St Mary Human Concerns Committee meets monthly to facilitate the outreach ministries of the parish by addressing social justice issues and increasing charity and stewardship awareness through support of emergency shelters\, pro-life non-profits\, and others as designated. \nContact: Bob Jung\, bobjung@ritehite.com \n 
URL:https://stmaryparish.net/event/human-concerns-5-2/2030-08-20/
LOCATION:St. Mary Parish Office\, n89W16297 Cleveland Ave.\, Menomonee Falls\, 53051\, United States
CATEGORIES:St. Mary Parish
END:VEVENT
BEGIN:VEVENT
DTSTART;TZID=America/New_York:20300820T200000
DTEND;TZID=America/New_York:20300820T213000
DTSTAMP:20260422T183532
CREATED:20240830T130531Z
LAST-MODIFIED:20251118T165858Z
UID:10023620-1913486400-1913491800@stmaryparish.net
SUMMARY:ADAM (St. Mary)
DESCRIPTION:A.D.A.M\, (Addressing Domestic Abuse Ministry) is an advocacy group that addresses the nature of domestic violence through education\, supportive connections\, and prayer in collaboration with community resources.  The goal of the ministry is to promote healthy relationships in the body of Christ\, remaining faithful to the Catholic Church teachings and pastoral directives. We meet monthly on the third Tuesday. \nLocation: St. Mary Church\, St. Therese room \nContact: Monika Wiese\, monika-wiese@wi.rr.com \n 
URL:https://stmaryparish.net/event/6429/2030-08-20/
LOCATION:St. Mary Church\, N89W16297 Cleveland Avenue\, Menomonee Falls\,\, WI\, 53051\, United States
CATEGORIES:St. Anthony Parish,St. Mary Parish
END:VEVENT
BEGIN:VEVENT
DTSTART;TZID=America/New_York:20300821T120000
DTEND;TZID=America/New_York:20300821T123000
DTSTAMP:20260422T183532
CREATED:20241031T185919Z
LAST-MODIFIED:20250304T204847Z
UID:10023677-1913544000-1913545800@stmaryparish.net
SUMMARY:Confessions (St Mary)
DESCRIPTION:
URL:https://stmaryparish.net/event/confessions-st-mary-3/2030-08-21/
END:VEVENT
END:VCALENDAR