BEGIN:VCALENDAR
VERSION:2.0
PRODID:-//St. Anthony and St. Mary Parishes - ECPv6.15.20//NONSGML v1.0//EN
CALSCALE:GREGORIAN
METHOD:PUBLISH
X-ORIGINAL-URL:https://stmaryparish.net
X-WR-CALDESC:Events for St. Anthony and St. Mary Parishes
REFRESH-INTERVAL;VALUE=DURATION:PT1H
X-Robots-Tag:noindex
X-PUBLISHED-TTL:PT1H
BEGIN:VTIMEZONE
TZID:America/New_York
BEGIN:DAYLIGHT
TZOFFSETFROM:-0500
TZOFFSETTO:-0400
TZNAME:EDT
DTSTART:20280312T070000
END:DAYLIGHT
BEGIN:STANDARD
TZOFFSETFROM:-0400
TZOFFSETTO:-0500
TZNAME:EST
DTSTART:20281105T060000
END:STANDARD
BEGIN:DAYLIGHT
TZOFFSETFROM:-0500
TZOFFSETTO:-0400
TZNAME:EDT
DTSTART:20290311T070000
END:DAYLIGHT
BEGIN:STANDARD
TZOFFSETFROM:-0400
TZOFFSETTO:-0500
TZNAME:EST
DTSTART:20291104T060000
END:STANDARD
BEGIN:DAYLIGHT
TZOFFSETFROM:-0500
TZOFFSETTO:-0400
TZNAME:EDT
DTSTART:20300310T070000
END:DAYLIGHT
BEGIN:STANDARD
TZOFFSETFROM:-0400
TZOFFSETTO:-0500
TZNAME:EST
DTSTART:20301103T060000
END:STANDARD
END:VTIMEZONE
BEGIN:VTIMEZONE
TZID:America/New_York
BEGIN:DAYLIGHT
TZOFFSETFROM:-0500
TZOFFSETTO:-0400
TZNAME:EDT
DTSTART:20280312T070000
END:DAYLIGHT
BEGIN:STANDARD
TZOFFSETFROM:-0400
TZOFFSETTO:-0500
TZNAME:EST
DTSTART:20281105T060000
END:STANDARD
BEGIN:DAYLIGHT
TZOFFSETFROM:-0500
TZOFFSETTO:-0400
TZNAME:EDT
DTSTART:20290311T070000
END:DAYLIGHT
BEGIN:STANDARD
TZOFFSETFROM:-0400
TZOFFSETTO:-0500
TZNAME:EST
DTSTART:20291104T060000
END:STANDARD
BEGIN:DAYLIGHT
TZOFFSETFROM:-0500
TZOFFSETTO:-0400
TZNAME:EDT
DTSTART:20300310T070000
END:DAYLIGHT
BEGIN:STANDARD
TZOFFSETFROM:-0400
TZOFFSETTO:-0500
TZNAME:EST
DTSTART:20301103T060000
END:STANDARD
END:VTIMEZONE
BEGIN:VEVENT
DTSTART;TZID=America/New_York:20290829T080000
DTEND;TZID=America/New_York:20290829T083000
DTSTAMP:20260423T105243
CREATED:20241031T184609Z
LAST-MODIFIED:20241031T184609Z
UID:10017953-1882684800-1882686600@stmaryparish.net
SUMMARY:Mass (St Anthony)
DESCRIPTION:
URL:https://stmaryparish.net/event/mass-st-anthony-6/2029-08-29/
END:VEVENT
BEGIN:VEVENT
DTSTART;TZID=America/New_York:20290829T081000
DTEND;TZID=America/New_York:20290829T084500
DTSTAMP:20260423T105243
CREATED:20250428T205453Z
LAST-MODIFIED:20250428T205454Z
UID:10018995-1882685400-1882687500@stmaryparish.net
SUMMARY:Mass (St Mary)
DESCRIPTION:
URL:https://stmaryparish.net/event/mass-st-mary-5-2/2029-08-29/
END:VEVENT
BEGIN:VEVENT
DTSTART;TZID=America/New_York:20290829T120000
DTEND;TZID=America/New_York:20290829T123000
DTSTAMP:20260423T105243
CREATED:20241031T185919Z
LAST-MODIFIED:20250304T204847Z
UID:10020573-1882699200-1882701000@stmaryparish.net
SUMMARY:Confessions (St Mary)
DESCRIPTION:
URL:https://stmaryparish.net/event/confessions-st-mary-3/2029-08-29/
END:VEVENT
BEGIN:VEVENT
DTSTART;TZID=America/New_York:20290829T170000
DTEND;TZID=America/New_York:20290829T173000
DTSTAMP:20260423T105243
CREATED:20240312T141801Z
LAST-MODIFIED:20250304T205157Z
UID:10015544-1882717200-1882719000@stmaryparish.net
SUMMARY:Confessions (St. Anthony)
DESCRIPTION:
URL:https://stmaryparish.net/event/confessions-st-anthony-2/2029-08-29/
END:VEVENT
BEGIN:VEVENT
DTSTART;TZID=America/New_York:20290830T080000
DTEND;TZID=America/New_York:20290830T083000
DTSTAMP:20260423T105243
CREATED:20250612T170511Z
LAST-MODIFIED:20250612T170512Z
UID:10018214-1882771200-1882773000@stmaryparish.net
SUMMARY:Mass (St Anthony)
DESCRIPTION:
URL:https://stmaryparish.net/event/mass-st-anthony-7-2-2/2029-08-30/
END:VEVENT
BEGIN:VEVENT
DTSTART;TZID=America/New_York:20290830T121000
DTEND;TZID=America/New_York:20290830T124500
DTSTAMP:20260423T105243
CREATED:20241031T185234Z
LAST-MODIFIED:20241031T185234Z
UID:10019256-1882786200-1882788300@stmaryparish.net
SUMMARY:Mass (St Mary)
DESCRIPTION:
URL:https://stmaryparish.net/event/mass-st-mary-6/2029-08-30/
END:VEVENT
BEGIN:VEVENT
DTSTART;TZID=America/New_York:20290830T170000
DTEND;TZID=America/New_York:20290830T173000
DTSTAMP:20260423T105243
CREATED:20240108T130904Z
LAST-MODIFIED:20250429T145934Z
UID:10010893-1882803600-1882805400@stmaryparish.net
SUMMARY:Confession (St. Anthony)
DESCRIPTION:The Sacrament of Reconciliation is offered daily during the week\, at 5 pm\, or by appointment\, at St. Anthony in the Church.
URL:https://stmaryparish.net/event/confessions-5-2/2029-08-30/
LOCATION:St. Anthony Church\, N74W13604 Appleton Avenue\, Menomonee Falls\,\, WI\, 53051\, United States
CATEGORIES:St. Anthony Parish
END:VEVENT
BEGIN:VEVENT
DTSTART;TZID=America/New_York:20290831T080000
DTEND;TZID=America/New_York:20290831T083000
DTSTAMP:20260423T105243
CREATED:20241031T184838Z
LAST-MODIFIED:20241031T184838Z
UID:10018474-1882857600-1882859400@stmaryparish.net
SUMMARY:Mass (St Anthony)
DESCRIPTION:
URL:https://stmaryparish.net/event/mass-st-anthony-8/2029-08-31/
END:VEVENT
BEGIN:VEVENT
DTSTART;TZID=America/New_York:20290831T081000
DTEND;TZID=America/New_York:20290831T084000
DTSTAMP:20260423T105243
CREATED:20241031T191510Z
LAST-MODIFIED:20241031T191852Z
UID:10020835-1882858200-1882860000@stmaryparish.net
SUMMARY:Mass (St Mary)
DESCRIPTION:
URL:https://stmaryparish.net/event/mass-st-mary-8/2029-08-31/
END:VEVENT
BEGIN:VEVENT
DTSTART;TZID=America/New_York:20290831T084500
DTEND;TZID=America/New_York:20290831T110000
DTSTAMP:20260423T105243
CREATED:20240830T115554Z
LAST-MODIFIED:20251009T144948Z
UID:10023368-1882860300-1882868400@stmaryparish.net
SUMMARY:Women's Faith Study Group
DESCRIPTION:The Women’s Faith Study Group will kick off the next session on  Sept. 5. The group meets from 8:45 am to 11 am at St. Anthony in the lower level of the St. Therese Formation Center (St. Joseph Adoration Chapel building). Child care is not currently offered.  For information\, email Mary Beth at marywitzlib@gmail.com
URL:https://stmaryparish.net/event/womens-faith-study-group-2-2-2/2029-08-31/
LOCATION:St. Therese Formation Center\, N74 W13604 Appleton Ave\, Menomonee Falls\, WI\, 53051
CATEGORIES:St. Anthony Parish,St. Mary Parish
END:VEVENT
BEGIN:VEVENT
DTSTART;TZID=America/New_York:20290831T120000
DTEND;TZID=America/New_York:20290831T123000
DTSTAMP:20260423T105243
CREATED:20241031T192332Z
LAST-MODIFIED:20241031T192350Z
UID:10021096-1882872000-1882873800@stmaryparish.net
SUMMARY:Confessions (St Mary)
DESCRIPTION:
URL:https://stmaryparish.net/event/confessions-st-mary-5/2029-08-31/
END:VEVENT
BEGIN:VEVENT
DTSTART;TZID=America/New_York:20290831T170000
DTEND;TZID=America/New_York:20290831T173000
DTSTAMP:20260423T105243
CREATED:20240108T130904Z
LAST-MODIFIED:20250429T145934Z
UID:10010894-1882890000-1882891800@stmaryparish.net
SUMMARY:Confession (St. Anthony)
DESCRIPTION:The Sacrament of Reconciliation is offered daily during the week\, at 5 pm\, or by appointment\, at St. Anthony in the Church.
URL:https://stmaryparish.net/event/confessions-5-2/2029-08-31/
LOCATION:St. Anthony Church\, N74W13604 Appleton Avenue\, Menomonee Falls\,\, WI\, 53051\, United States
CATEGORIES:St. Anthony Parish
END:VEVENT
BEGIN:VEVENT
DTSTART;TZID=America/New_York:20290901T080000
DTEND;TZID=America/New_York:20290901T083000
DTSTAMP:20260423T105243
CREATED:20241031T185838Z
LAST-MODIFIED:20241031T185838Z
UID:10020313-1882944000-1882945800@stmaryparish.net
SUMMARY:Mass (St Mary)
DESCRIPTION:
URL:https://stmaryparish.net/event/mass-st-mary-7/2029-09-01/
END:VEVENT
BEGIN:VEVENT
DTSTART;TZID=America/New_York:20290901T163000
DTEND;TZID=America/New_York:20290901T173000
DTSTAMP:20260423T105243
CREATED:20241031T182115Z
LAST-MODIFIED:20241031T182115Z
UID:10016127-1882974600-1882978200@stmaryparish.net
SUMMARY:Mass (St Anthony)
DESCRIPTION:
URL:https://stmaryparish.net/event/mass-st-anthony-2/2029-09-01/
END:VEVENT
BEGIN:VEVENT
DTSTART;TZID=America/New_York:20290901T170000
DTEND;TZID=America/New_York:20290901T180000
DTSTAMP:20260423T105243
CREATED:20241031T182149Z
LAST-MODIFIED:20241031T183232Z
UID:10017171-1882976400-1882980000@stmaryparish.net
SUMMARY:Mass (St Mary)
DESCRIPTION:
URL:https://stmaryparish.net/event/mass-st-mary/2029-09-01/
END:VEVENT
BEGIN:VEVENT
DTSTART;TZID=America/New_York:20290902T073000
DTEND;TZID=America/New_York:20290902T083000
DTSTAMP:20260423T105243
CREATED:20241031T182247Z
LAST-MODIFIED:20241031T182247Z
UID:10016389-1883028600-1883032200@stmaryparish.net
SUMMARY:Mass (St Mary)
DESCRIPTION:
URL:https://stmaryparish.net/event/mass-st-mary-2/2029-09-02/
END:VEVENT
BEGIN:VEVENT
DTSTART;TZID=America/New_York:20290902T093000
DTEND;TZID=America/New_York:20290902T103000
DTSTAMP:20260423T105243
CREATED:20241031T182419Z
LAST-MODIFIED:20241031T182915Z
UID:10016911-1883035800-1883039400@stmaryparish.net
SUMMARY:Mass (St Mary)
DESCRIPTION:
URL:https://stmaryparish.net/event/mass-st-mary-3/2029-09-02/
END:VEVENT
BEGIN:VEVENT
DTSTART;TZID=America/New_York:20290902T103000
DTEND;TZID=America/New_York:20290902T113000
DTSTAMP:20260423T105243
CREATED:20241031T182523Z
LAST-MODIFIED:20241031T182523Z
UID:10016651-1883039400-1883043000@stmaryparish.net
SUMMARY:Mass (St Anthony)
DESCRIPTION:
URL:https://stmaryparish.net/event/mass-st-anthony-3/2029-09-02/
END:VEVENT
BEGIN:VEVENT
DTSTART;TZID=America/New_York:20290903T080000
DTEND;TZID=America/New_York:20290903T083000
DTSTAMP:20260423T105243
CREATED:20241031T184422Z
LAST-MODIFIED:20241031T184422Z
UID:10017432-1883116800-1883118600@stmaryparish.net
SUMMARY:Mass (St Anthony)
DESCRIPTION:
URL:https://stmaryparish.net/event/mass-st-anthony-4/2029-09-03/
END:VEVENT
BEGIN:VEVENT
DTSTART;TZID=America/New_York:20290903T120000
DTEND;TZID=America/New_York:20290903T123000
DTSTAMP:20260423T105243
CREATED:20241031T185431Z
LAST-MODIFIED:20241031T185431Z
UID:10019792-1883131200-1883133000@stmaryparish.net
SUMMARY:Confessions (St Mary)
DESCRIPTION:
URL:https://stmaryparish.net/event/confessions-st-mary/2029-09-03/
END:VEVENT
BEGIN:VEVENT
DTSTART;TZID=America/New_York:20290903T170000
DTEND;TZID=America/New_York:20290903T173000
DTSTAMP:20260423T105243
CREATED:20240108T130904Z
LAST-MODIFIED:20250429T145934Z
UID:10010895-1883149200-1883151000@stmaryparish.net
SUMMARY:Confession (St. Anthony)
DESCRIPTION:The Sacrament of Reconciliation is offered daily during the week\, at 5 pm\, or by appointment\, at St. Anthony in the Church.
URL:https://stmaryparish.net/event/confessions-5-2/2029-09-03/
LOCATION:St. Anthony Church\, N74W13604 Appleton Avenue\, Menomonee Falls\,\, WI\, 53051\, United States
CATEGORIES:St. Anthony Parish
END:VEVENT
BEGIN:VEVENT
DTSTART;TZID=America/New_York:20290903T190000
DTEND;TZID=America/New_York:20290903T203000
DTSTAMP:20260423T105243
CREATED:20250905T185422Z
LAST-MODIFIED:20250905T185615Z
UID:10023107-1883156400-1883161800@stmaryparish.net
SUMMARY:Men's Group
DESCRIPTION:The Men’s Group meets Mondays from 7–8:30 pm (starting Sept. 15) at St. Anthony Parish. The Men’s group meets to strengthen each other to be Catholic men. We will launch our first meeting of the fall with a cookout behind St. Anthony Church.  All men are welcome. \nEmail Marty at martin.dybicz@gmail.com for details. \nMeetings take place at St. Anthony campus in the school building (Chesterton Academy — Commons)\, unless otherwise noted.
URL:https://stmaryparish.net/event/mens-group/2029-09-03/
LOCATION:St. Anthony Church\, N74W13604 Appleton Avenue\, Menomonee Falls\,\, WI\, 53051\, United States
END:VEVENT
BEGIN:VEVENT
DTSTART;TZID=America/New_York:20290904T063000
DTEND;TZID=America/New_York:20290904T070000
DTSTAMP:20260423T105243
CREATED:20241031T185031Z
LAST-MODIFIED:20241031T185031Z
UID:10018735-1883197800-1883199600@stmaryparish.net
SUMMARY:Mass (St Mary)
DESCRIPTION:
URL:https://stmaryparish.net/event/mass-st-mary-4/2029-09-04/
END:VEVENT
BEGIN:VEVENT
DTSTART;TZID=America/New_York:20290904T080000
DTEND;TZID=America/New_York:20290904T083000
DTSTAMP:20260423T105243
CREATED:20241031T184517Z
LAST-MODIFIED:20241031T184517Z
UID:10017693-1883203200-1883205000@stmaryparish.net
SUMMARY:Mass (St Anthony)
DESCRIPTION:
URL:https://stmaryparish.net/event/mass-st-anthony-5/2029-09-04/
END:VEVENT
BEGIN:VEVENT
DTSTART;TZID=America/New_York:20290904T120000
DTEND;TZID=America/New_York:20290904T123000
DTSTAMP:20260423T105243
CREATED:20241213T180235Z
LAST-MODIFIED:20241213T180235Z
UID:10020053-1883217600-1883219400@stmaryparish.net
SUMMARY:Confessions (St Mary)
DESCRIPTION:
URL:https://stmaryparish.net/event/confessions-st-mary-2-2/2029-09-04/
END:VEVENT
BEGIN:VEVENT
DTSTART;TZID=America/New_York:20290904T170000
DTEND;TZID=America/New_York:20290904T173000
DTSTAMP:20260423T105243
CREATED:20241213T190819Z
LAST-MODIFIED:20250414T214653Z
UID:10021997-1883235600-1883237400@stmaryparish.net
SUMMARY:Confessions (St. Anthony)
DESCRIPTION:
URL:https://stmaryparish.net/event/confessions-st-anthony-9/2029-09-04/
END:VEVENT
BEGIN:VEVENT
DTSTART;TZID=America/New_York:20290905T080000
DTEND;TZID=America/New_York:20290905T083000
DTSTAMP:20260423T105243
CREATED:20241031T184609Z
LAST-MODIFIED:20241031T184609Z
UID:10017954-1883289600-1883291400@stmaryparish.net
SUMMARY:Mass (St Anthony)
DESCRIPTION:
URL:https://stmaryparish.net/event/mass-st-anthony-6/2029-09-05/
END:VEVENT
BEGIN:VEVENT
DTSTART;TZID=America/New_York:20290905T081000
DTEND;TZID=America/New_York:20290905T084500
DTSTAMP:20260423T105243
CREATED:20250428T205453Z
LAST-MODIFIED:20250428T205454Z
UID:10018996-1883290200-1883292300@stmaryparish.net
SUMMARY:Mass (St Mary)
DESCRIPTION:
URL:https://stmaryparish.net/event/mass-st-mary-5-2/2029-09-05/
END:VEVENT
BEGIN:VEVENT
DTSTART;TZID=America/New_York:20290905T120000
DTEND;TZID=America/New_York:20290905T123000
DTSTAMP:20260423T105243
CREATED:20241031T185919Z
LAST-MODIFIED:20250304T204847Z
UID:10020574-1883304000-1883305800@stmaryparish.net
SUMMARY:Confessions (St Mary)
DESCRIPTION:
URL:https://stmaryparish.net/event/confessions-st-mary-3/2029-09-05/
END:VEVENT
BEGIN:VEVENT
DTSTART;TZID=America/New_York:20290905T170000
DTEND;TZID=America/New_York:20290905T173000
DTSTAMP:20260423T105243
CREATED:20240312T141801Z
LAST-MODIFIED:20250304T205157Z
UID:10015545-1883322000-1883323800@stmaryparish.net
SUMMARY:Confessions (St. Anthony)
DESCRIPTION:
URL:https://stmaryparish.net/event/confessions-st-anthony-2/2029-09-05/
END:VEVENT
END:VCALENDAR