BEGIN:VCALENDAR
VERSION:2.0
PRODID:-//St. Anthony and St. Mary Parishes - ECPv6.15.20//NONSGML v1.0//EN
CALSCALE:GREGORIAN
METHOD:PUBLISH
X-ORIGINAL-URL:https://stmaryparish.net
X-WR-CALDESC:Events for St. Anthony and St. Mary Parishes
REFRESH-INTERVAL;VALUE=DURATION:PT1H
X-Robots-Tag:noindex
X-PUBLISHED-TTL:PT1H
BEGIN:VTIMEZONE
TZID:America/New_York
BEGIN:DAYLIGHT
TZOFFSETFROM:-0500
TZOFFSETTO:-0400
TZNAME:EDT
DTSTART:20230312T070000
END:DAYLIGHT
BEGIN:STANDARD
TZOFFSETFROM:-0400
TZOFFSETTO:-0500
TZNAME:EST
DTSTART:20231105T060000
END:STANDARD
BEGIN:DAYLIGHT
TZOFFSETFROM:-0500
TZOFFSETTO:-0400
TZNAME:EDT
DTSTART:20240310T070000
END:DAYLIGHT
BEGIN:STANDARD
TZOFFSETFROM:-0400
TZOFFSETTO:-0500
TZNAME:EST
DTSTART:20241103T060000
END:STANDARD
BEGIN:DAYLIGHT
TZOFFSETFROM:-0500
TZOFFSETTO:-0400
TZNAME:EDT
DTSTART:20250309T070000
END:DAYLIGHT
BEGIN:STANDARD
TZOFFSETFROM:-0400
TZOFFSETTO:-0500
TZNAME:EST
DTSTART:20251102T060000
END:STANDARD
END:VTIMEZONE
BEGIN:VTIMEZONE
TZID:America/New_York
BEGIN:DAYLIGHT
TZOFFSETFROM:-0500
TZOFFSETTO:-0400
TZNAME:EDT
DTSTART:20230312T070000
END:DAYLIGHT
BEGIN:STANDARD
TZOFFSETFROM:-0400
TZOFFSETTO:-0500
TZNAME:EST
DTSTART:20231105T060000
END:STANDARD
BEGIN:DAYLIGHT
TZOFFSETFROM:-0500
TZOFFSETTO:-0400
TZNAME:EDT
DTSTART:20240310T070000
END:DAYLIGHT
BEGIN:STANDARD
TZOFFSETFROM:-0400
TZOFFSETTO:-0500
TZNAME:EST
DTSTART:20241103T060000
END:STANDARD
BEGIN:DAYLIGHT
TZOFFSETFROM:-0500
TZOFFSETTO:-0400
TZNAME:EDT
DTSTART:20250309T070000
END:DAYLIGHT
BEGIN:STANDARD
TZOFFSETFROM:-0400
TZOFFSETTO:-0500
TZNAME:EST
DTSTART:20251102T060000
END:STANDARD
END:VTIMEZONE
BEGIN:VEVENT
DTSTART;TZID=America/New_York:20240110T080000
DTEND;TZID=America/New_York:20240110T083000
DTSTAMP:20260421T155008
CREATED:20231221T071652Z
LAST-MODIFIED:20240108T193733Z
UID:10007938-1704873600-1704875400@stmaryparish.net
SUMMARY:Daily Mass (St. Anthony)
DESCRIPTION:St. Anthony Parish
URL:https://stmaryparish.net/event/daily-mass-5/2024-01-10/
CATEGORIES:St. Anthony Parish
END:VEVENT
BEGIN:VEVENT
DTSTART;TZID=America/New_York:20240110T110000
DTEND;TZID=America/New_York:20240110T120000
DTSTAMP:20260421T155008
CREATED:20240108T203740Z
LAST-MODIFIED:20240108T203740Z
UID:10012688-1704884400-1704888000@stmaryparish.net
SUMMARY:Funeral Mass - Ruth DeLonay
DESCRIPTION:Visitation: Tuesday\, January 9th at 4:00pm to 6:30pm at Schramka Funeral Home.
URL:https://stmaryparish.net/event/funeral-mass-ruth-delonay/
LOCATION:St. Anthony Church\, N74W13604 Appleton Avenue\, Menomonee Falls\,\, WI\, 53051\, United States
CATEGORIES:St. Anthony Parish
END:VEVENT
BEGIN:VEVENT
DTSTART;TZID=America/New_York:20240110T110000
DTEND;TZID=America/New_York:20240110T133000
DTSTAMP:20260421T155008
CREATED:20240110T182757Z
LAST-MODIFIED:20240110T182757Z
UID:10013279-1704884400-1704893400@stmaryparish.net
SUMMARY:Senior Social & Luncheon
DESCRIPTION:Seniors\, join us for some good food & fellowship at our senior social luncheons. (September – May) \nLunch served at 11:30am with cards and bingo after lunch.  Cost is $6. \nLocation: St. Mary School Lower level conference rooms. (Handicap accessible via Hayes Avenue.) \nReservations & Information: Karen Z. at (414) 355-1074 \n  \n 
URL:https://stmaryparish.net/event/senior-social-luncheon/2024-01-10/
LOCATION:St. Mary Parish School\, N89W16215 Cleveland Avenue\, Menomonee Falls\,\, WI\, 53051\, United States
CATEGORIES:St. Mary Parish
END:VEVENT
BEGIN:VEVENT
DTSTART;TZID=America/New_York:20240110T120000
DTEND;TZID=America/New_York:20240110T123000
DTSTAMP:20260421T155008
CREATED:20240108T143452Z
LAST-MODIFIED:20240108T194853Z
UID:10009357-1704888000-1704889800@stmaryparish.net
SUMMARY:Confession (St. Mary)
DESCRIPTION:St. Mary Parish
URL:https://stmaryparish.net/event/confessions-4-2/2024-01-10/
CATEGORIES:St. Mary Parish
END:VEVENT
BEGIN:VEVENT
DTSTART;TZID=America/New_York:20240110T180000
DTEND;TZID=America/New_York:20240110T193000
DTSTAMP:20260421T155008
CREATED:20240108T205149Z
LAST-MODIFIED:20240108T205318Z
UID:10012691-1704909600-1704915000@stmaryparish.net
SUMMARY:St. Vincent de Paul Society Meeting
DESCRIPTION:St. Mary Parish Building: St. Elizabeth Conference Room
URL:https://stmaryparish.net/event/st-vincent-de-paul-society-conference-meeting/
CATEGORIES:St. Mary Parish
END:VEVENT
BEGIN:VEVENT
DTSTART;TZID=America/New_York:20240111T000000
DTEND;TZID=America/New_York:20240111T235900
DTSTAMP:20260421T155008
CREATED:20231221T072426Z
LAST-MODIFIED:20240115T182444Z
UID:10008580-1704931200-1705017540@stmaryparish.net
SUMMARY:Adoration
DESCRIPTION:St. Anthony Parish
URL:https://stmaryparish.net/event/adoration-6/2024-01-11/
CATEGORIES:St. Anthony Parish
END:VEVENT
BEGIN:VEVENT
DTSTART;TZID=America/New_York:20240111T080000
DTEND;TZID=America/New_York:20240111T083000
DTSTAMP:20260421T155008
CREATED:20231221T071652Z
LAST-MODIFIED:20240108T193733Z
UID:10007939-1704960000-1704961800@stmaryparish.net
SUMMARY:Daily Mass (St. Anthony)
DESCRIPTION:St. Anthony Parish
URL:https://stmaryparish.net/event/daily-mass-5/2024-01-11/
CATEGORIES:St. Anthony Parish
END:VEVENT
BEGIN:VEVENT
DTSTART;TZID=America/New_York:20240111T121000
DTEND;TZID=America/New_York:20240111T123000
DTSTAMP:20260421T155008
CREATED:20231221T073321Z
LAST-MODIFIED:20240115T182214Z
UID:10008951-1704975000-1704976200@stmaryparish.net
SUMMARY:Daily Mass (St. Mary)
DESCRIPTION:St. Mary Parish – AO – Masses are celebrated ad orientem
URL:https://stmaryparish.net/event/daily-mass-9/2024-01-11/
CATEGORIES:St. Mary Parish
END:VEVENT
BEGIN:VEVENT
DTSTART;TZID=America/New_York:20240111T170000
DTEND;TZID=America/New_York:20240111T173000
DTSTAMP:20260421T155008
CREATED:20240108T130904Z
LAST-MODIFIED:20250429T145934Z
UID:10008202-1704992400-1704994200@stmaryparish.net
SUMMARY:Confession (St. Anthony)
DESCRIPTION:The Sacrament of Reconciliation is offered daily during the week\, at 5 pm\, or by appointment\, at St. Anthony in the Church.
URL:https://stmaryparish.net/event/confessions-5-2/2024-01-11/
LOCATION:St. Anthony Church\, N74W13604 Appleton Avenue\, Menomonee Falls\,\, WI\, 53051\, United States
CATEGORIES:St. Anthony Parish
END:VEVENT
BEGIN:VEVENT
DTSTART;TZID=America/New_York:20240112T000000
DTEND;TZID=America/New_York:20240112T170000
DTSTAMP:20260421T155008
CREATED:20231221T072511Z
LAST-MODIFIED:20231221T072511Z
UID:10008633-1705017600-1705078800@stmaryparish.net
SUMMARY:Adoration
DESCRIPTION:St. Anthony Parish at St. Joseph Chapel
URL:https://stmaryparish.net/event/adoration-7/2024-01-12/
CATEGORIES:St. Anthony Parish
END:VEVENT
BEGIN:VEVENT
DTSTART;TZID=America/New_York:20240112T080000
DTEND;TZID=America/New_York:20240112T083000
DTSTAMP:20260421T155008
CREATED:20231221T071652Z
LAST-MODIFIED:20240108T193733Z
UID:10007940-1705046400-1705048200@stmaryparish.net
SUMMARY:Daily Mass (St. Anthony)
DESCRIPTION:St. Anthony Parish
URL:https://stmaryparish.net/event/daily-mass-5/2024-01-12/
CATEGORIES:St. Anthony Parish
END:VEVENT
BEGIN:VEVENT
DTSTART;TZID=America/New_York:20240112T084500
DTEND;TZID=America/New_York:20240112T110000
DTSTAMP:20260421T155008
CREATED:20240108T131311Z
LAST-MODIFIED:20240108T131553Z
UID:10007455-1705049100-1705057200@stmaryparish.net
SUMMARY:Women's Faith Study Group
DESCRIPTION:The Women’s Faith Study Group will kick off the next session on Jan. 12 with “Beginning Apologetics 3: How to Explain & Defend the Real Presence of Christ in the Eucharist.”  You do not need to have completed sessions 1 and 2 to participate. Books are $7 and can be ordered at  www.CatholicApologetics.com or Amazon. \nThe group meets from 8:45 am to 11 am at\nSt. Anthony in the lower level of the St. Therese Formation Center (St. Joseph Adoration Chapel building). Child care is not currently offered.  Sign up online at bit.ly/2024wfsg \nSt. Anthony Parish: Meet in the St. Therese Formation Center/St. Joseph Adoration building.
URL:https://stmaryparish.net/event/womens-faith-study-group-2-2/2024-01-12/
LOCATION:Knights of Columbus Hall\, W164N9161 Water St\, Menomonee Falls\, 53051\, United States
CATEGORIES:St. Anthony Parish,St. Mary Parish
END:VEVENT
BEGIN:VEVENT
DTSTART;TZID=America/New_York:20240112T100000
DTEND;TZID=America/New_York:20240112T110000
DTSTAMP:20260421T155008
CREATED:20240108T204529Z
LAST-MODIFIED:20240108T204529Z
UID:10012689-1705053600-1705057200@stmaryparish.net
SUMMARY:Funeral Mass - Irene Blau
DESCRIPTION:
URL:https://stmaryparish.net/event/funeral-mass-irene-blau/
LOCATION:St. Mary Church\, N89W16297 Cleveland Avenue\, Menomonee Falls\,\, WI\, 53051\, United States
CATEGORIES:St. Mary Parish
END:VEVENT
BEGIN:VEVENT
DTSTART;TZID=America/New_York:20240112T120000
DTEND;TZID=America/New_York:20240112T123000
DTSTAMP:20260421T155008
CREATED:20240108T143452Z
LAST-MODIFIED:20240108T194853Z
UID:10009358-1705060800-1705062600@stmaryparish.net
SUMMARY:Confession (St. Mary)
DESCRIPTION:St. Mary Parish
URL:https://stmaryparish.net/event/confessions-4-2/2024-01-12/
CATEGORIES:St. Mary Parish
END:VEVENT
BEGIN:VEVENT
DTSTART;TZID=America/New_York:20240112T170000
DTEND;TZID=America/New_York:20240112T173000
DTSTAMP:20260421T155009
CREATED:20240108T130904Z
LAST-MODIFIED:20250429T145934Z
UID:10008203-1705078800-1705080600@stmaryparish.net
SUMMARY:Confession (St. Anthony)
DESCRIPTION:The Sacrament of Reconciliation is offered daily during the week\, at 5 pm\, or by appointment\, at St. Anthony in the Church.
URL:https://stmaryparish.net/event/confessions-5-2/2024-01-12/
LOCATION:St. Anthony Church\, N74W13604 Appleton Avenue\, Menomonee Falls\,\, WI\, 53051\, United States
CATEGORIES:St. Anthony Parish
END:VEVENT
BEGIN:VEVENT
DTSTART;TZID=America/New_York:20240113T080000
DTEND;TZID=America/New_York:20240113T090000
DTSTAMP:20260421T155009
CREATED:20231221T073439Z
LAST-MODIFIED:20240108T141228Z
UID:10009057-1705132800-1705136400@stmaryparish.net
SUMMARY:Daily Mass (St. Mary)
DESCRIPTION:St. Mary Parish – AO – Masses are celebrated ad orientem
URL:https://stmaryparish.net/event/daily-mass-11/2024-01-13/
CATEGORIES:St. Mary Parish
END:VEVENT
BEGIN:VEVENT
DTSTART;TZID=America/New_York:20240113T163000
DTEND;TZID=America/New_York:20240113T173000
DTSTAMP:20260421T155009
CREATED:20231221T072746Z
LAST-MODIFIED:20240108T135824Z
UID:10008739-1705163400-1705167000@stmaryparish.net
SUMMARY:Vigil Mass (St. Anthony)
DESCRIPTION:St. Anthony Parish
URL:https://stmaryparish.net/event/mass-430-pm-3/2024-01-13/
CATEGORIES:St. Anthony Parish
END:VEVENT
BEGIN:VEVENT
DTSTART;TZID=America/New_York:20240113T170000
DTEND;TZID=America/New_York:20240113T180000
DTSTAMP:20260421T155009
CREATED:20231221T073520Z
LAST-MODIFIED:20240108T135730Z
UID:10009110-1705165200-1705168800@stmaryparish.net
SUMMARY:Vigil Mass (St. Mary)
DESCRIPTION:St. Mary Parish
URL:https://stmaryparish.net/event/mass-500pm/2024-01-13/
CATEGORIES:St. Mary Parish
END:VEVENT
BEGIN:VEVENT
DTSTART;TZID=America/New_York:20240114T073000
DTEND;TZID=America/New_York:20240114T083000
DTSTAMP:20260421T155009
CREATED:20231221T073603Z
LAST-MODIFIED:20240108T135653Z
UID:10009163-1705217400-1705221000@stmaryparish.net
SUMMARY:Mass (St. Mary)
DESCRIPTION:St. Mary Parish
URL:https://stmaryparish.net/event/mass-730-am/2024-01-14/
CATEGORIES:St. Mary Parish
END:VEVENT
BEGIN:VEVENT
DTSTART;TZID=America/New_York:20240114T093000
DTEND;TZID=America/New_York:20240114T103000
DTSTAMP:20260421T155009
CREATED:20231221T073652Z
LAST-MODIFIED:20240108T135124Z
UID:10009216-1705224600-1705228200@stmaryparish.net
SUMMARY:Mass (St. Mary)
DESCRIPTION:St. Mary Parish
URL:https://stmaryparish.net/event/mass-930-am-3/2024-01-14/
CATEGORIES:St. Mary Parish
END:VEVENT
BEGIN:VEVENT
DTSTART;TZID=America/New_York:20240114T103000
DTEND;TZID=America/New_York:20240114T113000
DTSTAMP:20260421T155009
CREATED:20231221T072840Z
LAST-MODIFIED:20240108T135210Z
UID:10008792-1705228200-1705231800@stmaryparish.net
SUMMARY:Mass (St. Anthony)
DESCRIPTION:St. Anthony Parish
URL:https://stmaryparish.net/event/mass-1030-am-2/2024-01-14/
CATEGORIES:St. Anthony Parish
END:VEVENT
BEGIN:VEVENT
DTSTART;TZID=America/New_York:20240114T104500
DTEND;TZID=America/New_York:20240114T120000
DTSTAMP:20260421T155009
CREATED:20231221T073733Z
LAST-MODIFIED:20240110T181749Z
UID:10009269-1705229100-1705233600@stmaryparish.net
SUMMARY:Religious Education Classes
DESCRIPTION:St. Mary School – Classrooms & Conference Rooms
URL:https://stmaryparish.net/event/religious-education-classes/2024-01-14/
CATEGORIES:St. Anthony Parish,St. Mary Parish
END:VEVENT
BEGIN:VEVENT
DTSTART;TZID=America/New_York:20240114T120000
DTEND;TZID=America/New_York:20240114T170000
DTSTAMP:20260421T155009
CREATED:20231221T074051Z
LAST-MODIFIED:20231221T074051Z
UID:10009586-1705233600-1705251600@stmaryparish.net
SUMMARY:Adoration
DESCRIPTION:St. Mary Parish
URL:https://stmaryparish.net/event/adoration-9/2024-01-14/
CATEGORIES:St. Mary Parish
END:VEVENT
BEGIN:VEVENT
DTSTART;TZID=America/New_York:20240115T080000
DTEND;TZID=America/New_York:20240115T083000
DTSTAMP:20260421T155009
CREATED:20231221T071652Z
LAST-MODIFIED:20240108T193733Z
UID:10007941-1705305600-1705307400@stmaryparish.net
SUMMARY:Daily Mass (St. Anthony)
DESCRIPTION:St. Anthony Parish
URL:https://stmaryparish.net/event/daily-mass-5/2024-01-15/
CATEGORIES:St. Anthony Parish
END:VEVENT
BEGIN:VEVENT
DTSTART;TZID=America/New_York:20240115T090000
DTEND;TZID=America/New_York:20240115T190000
DTSTAMP:20260421T155009
CREATED:20231221T073958Z
LAST-MODIFIED:20231221T073958Z
UID:10009534-1705309200-1705345200@stmaryparish.net
SUMMARY:Adoration
DESCRIPTION:St. Mary Parish
URL:https://stmaryparish.net/event/adoration-8/2024-01-15/
CATEGORIES:St. Mary Parish
END:VEVENT
BEGIN:VEVENT
DTSTART;TZID=America/New_York:20240115T120000
DTEND;TZID=America/New_York:20240115T123000
DTSTAMP:20260421T155009
CREATED:20240108T143452Z
LAST-MODIFIED:20240108T194853Z
UID:10009359-1705320000-1705321800@stmaryparish.net
SUMMARY:Confession (St. Mary)
DESCRIPTION:St. Mary Parish
URL:https://stmaryparish.net/event/confessions-4-2/2024-01-15/
CATEGORIES:St. Mary Parish
END:VEVENT
BEGIN:VEVENT
DTSTART;TZID=America/New_York:20240115T170000
DTEND;TZID=America/New_York:20240115T173000
DTSTAMP:20260421T155009
CREATED:20240108T130904Z
LAST-MODIFIED:20250429T145934Z
UID:10008204-1705338000-1705339800@stmaryparish.net
SUMMARY:Confession (St. Anthony)
DESCRIPTION:The Sacrament of Reconciliation is offered daily during the week\, at 5 pm\, or by appointment\, at St. Anthony in the Church.
URL:https://stmaryparish.net/event/confessions-5-2/2024-01-15/
LOCATION:St. Anthony Church\, N74W13604 Appleton Avenue\, Menomonee Falls\,\, WI\, 53051\, United States
CATEGORIES:St. Anthony Parish
END:VEVENT
BEGIN:VEVENT
DTSTART;TZID=America/New_York:20240115T193000
DTEND;TZID=America/New_York:20240115T210000
DTSTAMP:20260421T155009
CREATED:20240108T150636Z
LAST-MODIFIED:20240529T172428Z
UID:10007839-1705347000-1705352400@stmaryparish.net
SUMMARY:Men's Group
DESCRIPTION:Men’s Group | 7:30-9 PM on Mondays\nJoin the Men of St. Anthony and St. Mary parish community for a beer\, formation and friendship. No preparation is needed and there is no cost – just come with an open heart. The group meets on Mondays from 7:30-9 pm at St. Anthony Parish in the school building (Chesterton Academy Commons). This session we are discussing\, “That Man is You!” a program that harmonizes current social and medical science with the teachings of the Church and the wisdom of the saints to develop the vision of man fully alive!
URL:https://stmaryparish.net/event/mens-group-sta-stm-4-2/2024-01-15/
CATEGORIES:St. Anthony Parish,St. Mary Parish
END:VEVENT
BEGIN:VEVENT
DTSTART;TZID=America/New_York:20240116T063000
DTEND;TZID=America/New_York:20240116T070000
DTSTAMP:20260421T155009
CREATED:20231221T073158Z
LAST-MODIFIED:20240108T142411Z
UID:10008846-1705386600-1705388400@stmaryparish.net
SUMMARY:Daily Mass (St. Mary)
DESCRIPTION:St. Mary Parish
URL:https://stmaryparish.net/event/daily-mass-6/2024-01-16/
CATEGORIES:St. Mary Parish
END:VEVENT
BEGIN:VEVENT
DTSTART;TZID=America/New_York:20240116T080000
DTEND;TZID=America/New_York:20240116T083000
DTSTAMP:20260421T155009
CREATED:20231221T071652Z
LAST-MODIFIED:20240108T193733Z
UID:10007942-1705392000-1705393800@stmaryparish.net
SUMMARY:Daily Mass (St. Anthony)
DESCRIPTION:St. Anthony Parish
URL:https://stmaryparish.net/event/daily-mass-5/2024-01-16/
CATEGORIES:St. Anthony Parish
END:VEVENT
END:VCALENDAR