BEGIN:VCALENDAR
VERSION:2.0
PRODID:-//St. Anthony and St. Mary Parishes - ECPv6.15.20//NONSGML v1.0//EN
CALSCALE:GREGORIAN
METHOD:PUBLISH
X-WR-CALNAME:St. Anthony and St. Mary Parishes
X-ORIGINAL-URL:https://stmaryparish.net
X-WR-CALDESC:Events for St. Anthony and St. Mary Parishes
REFRESH-INTERVAL;VALUE=DURATION:PT1H
X-Robots-Tag:noindex
X-PUBLISHED-TTL:PT1H
BEGIN:VTIMEZONE
TZID:America/New_York
BEGIN:DAYLIGHT
TZOFFSETFROM:-0500
TZOFFSETTO:-0400
TZNAME:EDT
DTSTART:20290311T070000
END:DAYLIGHT
BEGIN:STANDARD
TZOFFSETFROM:-0400
TZOFFSETTO:-0500
TZNAME:EST
DTSTART:20291104T060000
END:STANDARD
BEGIN:DAYLIGHT
TZOFFSETFROM:-0500
TZOFFSETTO:-0400
TZNAME:EDT
DTSTART:20300310T070000
END:DAYLIGHT
BEGIN:STANDARD
TZOFFSETFROM:-0400
TZOFFSETTO:-0500
TZNAME:EST
DTSTART:20301103T060000
END:STANDARD
BEGIN:DAYLIGHT
TZOFFSETFROM:-0500
TZOFFSETTO:-0400
TZNAME:EDT
DTSTART:20310309T070000
END:DAYLIGHT
BEGIN:STANDARD
TZOFFSETFROM:-0400
TZOFFSETTO:-0500
TZNAME:EST
DTSTART:20311102T060000
END:STANDARD
END:VTIMEZONE
BEGIN:VTIMEZONE
TZID:America/New_York
BEGIN:DAYLIGHT
TZOFFSETFROM:-0500
TZOFFSETTO:-0400
TZNAME:EDT
DTSTART:20290311T070000
END:DAYLIGHT
BEGIN:STANDARD
TZOFFSETFROM:-0400
TZOFFSETTO:-0500
TZNAME:EST
DTSTART:20291104T060000
END:STANDARD
BEGIN:DAYLIGHT
TZOFFSETFROM:-0500
TZOFFSETTO:-0400
TZNAME:EDT
DTSTART:20300310T070000
END:DAYLIGHT
BEGIN:STANDARD
TZOFFSETFROM:-0400
TZOFFSETTO:-0500
TZNAME:EST
DTSTART:20301103T060000
END:STANDARD
BEGIN:DAYLIGHT
TZOFFSETFROM:-0500
TZOFFSETTO:-0400
TZNAME:EDT
DTSTART:20310309T070000
END:DAYLIGHT
BEGIN:STANDARD
TZOFFSETFROM:-0400
TZOFFSETTO:-0500
TZNAME:EST
DTSTART:20311102T060000
END:STANDARD
END:VTIMEZONE
BEGIN:VEVENT
DTSTART;TZID=America/New_York:20301004T080000
DTEND;TZID=America/New_York:20301004T083000
DTSTAMP:20260422T183656
CREATED:20241031T184838Z
LAST-MODIFIED:20241031T184838Z
UID:10023818-1917331200-1917333000@stmaryparish.net
SUMMARY:Mass (St Anthony)
DESCRIPTION:
URL:https://stmaryparish.net/event/mass-st-anthony-8/2030-10-04/
END:VEVENT
BEGIN:VEVENT
DTSTART;TZID=America/New_York:20301004T081000
DTEND;TZID=America/New_York:20301004T084000
DTSTAMP:20260422T183656
CREATED:20241031T191510Z
LAST-MODIFIED:20241031T191852Z
UID:10023859-1917331800-1917333600@stmaryparish.net
SUMMARY:Mass (St Mary)
DESCRIPTION:
URL:https://stmaryparish.net/event/mass-st-mary-8/2030-10-04/
END:VEVENT
BEGIN:VEVENT
DTSTART;TZID=America/New_York:20301004T084500
DTEND;TZID=America/New_York:20301004T110000
DTSTAMP:20260422T183656
CREATED:20240830T115554Z
LAST-MODIFIED:20251009T144948Z
UID:10023439-1917333900-1917342000@stmaryparish.net
SUMMARY:Women's Faith Study Group
DESCRIPTION:The Women’s Faith Study Group will kick off the next session on  Sept. 5. The group meets from 8:45 am to 11 am at St. Anthony in the lower level of the St. Therese Formation Center (St. Joseph Adoration Chapel building). Child care is not currently offered.  For information\, email Mary Beth at marywitzlib@gmail.com
URL:https://stmaryparish.net/event/womens-faith-study-group-2-2-2/2030-10-04/
LOCATION:St. Therese Formation Center\, N74 W13604 Appleton Ave\, Menomonee Falls\, WI\, 53051
CATEGORIES:St. Anthony Parish,St. Mary Parish
END:VEVENT
BEGIN:VEVENT
DTSTART;TZID=America/New_York:20301004T120000
DTEND;TZID=America/New_York:20301004T123000
DTSTAMP:20260422T183656
CREATED:20241031T192332Z
LAST-MODIFIED:20241031T192350Z
UID:10023519-1917345600-1917347400@stmaryparish.net
SUMMARY:Confessions (St Mary)
DESCRIPTION:
URL:https://stmaryparish.net/event/confessions-st-mary-5/2030-10-04/
END:VEVENT
BEGIN:VEVENT
DTSTART;TZID=America/New_York:20301004T170000
DTEND;TZID=America/New_York:20301004T173000
DTSTAMP:20260422T183656
CREATED:20240108T130904Z
LAST-MODIFIED:20250429T145934Z
UID:10011179-1917363600-1917365400@stmaryparish.net
SUMMARY:Confession (St. Anthony)
DESCRIPTION:The Sacrament of Reconciliation is offered daily during the week\, at 5 pm\, or by appointment\, at St. Anthony in the Church.
URL:https://stmaryparish.net/event/confessions-5-2/2030-10-04/
LOCATION:St. Anthony Church\, N74W13604 Appleton Avenue\, Menomonee Falls\,\, WI\, 53051\, United States
CATEGORIES:St. Anthony Parish
END:VEVENT
BEGIN:VEVENT
DTSTART;TZID=America/New_York:20301004T190000
DTEND;TZID=America/New_York:20301004T210000
DTSTAMP:20260422T183656
CREATED:20240830T122256Z
LAST-MODIFIED:20241217T175459Z
UID:10023915-1917370800-1917378000@stmaryparish.net
SUMMARY:Amici Dei Young Adult Group (First Friday)
DESCRIPTION:Men and women ages 18 to 32 from St. Anthony and St. Mary Parishes are invited to join Amici Dei\, a young adult group that meets at 7 pm on the first and third Fridays of the month in the lower level of the St. Therese Formation Center Building at St. Anthony campus. \nContact: Andrew Jordan\, amicidei20@gmail.com
URL:https://stmaryparish.net/event/ameci-dei-young-adult-group-first-friday/2030-10-04/
LOCATION:St. Therese Formation Center\, N74 W13604 Appleton Ave\, Menomonee Falls\, WI\, 53051
CATEGORIES:St. Anthony Parish,St. Mary Parish
END:VEVENT
BEGIN:VEVENT
DTSTART;TZID=America/New_York:20301005T080000
DTEND;TZID=America/New_York:20301005T083000
DTSTAMP:20260422T183656
CREATED:20241031T185838Z
LAST-MODIFIED:20241031T185838Z
UID:10023944-1917417600-1917419400@stmaryparish.net
SUMMARY:Mass (St Mary)
DESCRIPTION:
URL:https://stmaryparish.net/event/mass-st-mary-7/2030-10-05/
END:VEVENT
BEGIN:VEVENT
DTSTART;TZID=America/New_York:20301005T163000
DTEND;TZID=America/New_York:20301005T173000
DTSTAMP:20260422T183656
CREATED:20241031T182115Z
LAST-MODIFIED:20241031T182115Z
UID:10024036-1917448200-1917451800@stmaryparish.net
SUMMARY:Mass (St Anthony)
DESCRIPTION:
URL:https://stmaryparish.net/event/mass-st-anthony-2/2030-10-05/
END:VEVENT
BEGIN:VEVENT
DTSTART;TZID=America/New_York:20301005T170000
DTEND;TZID=America/New_York:20301005T180000
DTSTAMP:20260422T183656
CREATED:20241031T182149Z
LAST-MODIFIED:20241031T183232Z
UID:10023990-1917450000-1917453600@stmaryparish.net
SUMMARY:Mass (St Mary)
DESCRIPTION:
URL:https://stmaryparish.net/event/mass-st-mary/2030-10-05/
END:VEVENT
BEGIN:VEVENT
DTSTART;TZID=America/New_York:20301007T120000
DTEND;TZID=America/New_York:20301007T123000
DTSTAMP:20260422T183656
CREATED:20241031T185431Z
LAST-MODIFIED:20241031T185431Z
UID:10023542-1917604800-1917606600@stmaryparish.net
SUMMARY:Confessions (St Mary)
DESCRIPTION:
URL:https://stmaryparish.net/event/confessions-st-mary/2030-10-07/
END:VEVENT
BEGIN:VEVENT
DTSTART;TZID=America/New_York:20301007T170000
DTEND;TZID=America/New_York:20301007T173000
DTSTAMP:20260422T183656
CREATED:20240108T130904Z
LAST-MODIFIED:20250429T145934Z
UID:10011180-1917622800-1917624600@stmaryparish.net
SUMMARY:Confession (St. Anthony)
DESCRIPTION:The Sacrament of Reconciliation is offered daily during the week\, at 5 pm\, or by appointment\, at St. Anthony in the Church.
URL:https://stmaryparish.net/event/confessions-5-2/2030-10-07/
LOCATION:St. Anthony Church\, N74W13604 Appleton Avenue\, Menomonee Falls\,\, WI\, 53051\, United States
CATEGORIES:St. Anthony Parish
END:VEVENT
BEGIN:VEVENT
DTSTART;TZID=America/New_York:20301007T190000
DTEND;TZID=America/New_York:20301007T203000
DTSTAMP:20260422T183656
CREATED:20250905T185422Z
LAST-MODIFIED:20250905T185615Z
UID:10024063-1917630000-1917635400@stmaryparish.net
SUMMARY:Men's Group
DESCRIPTION:The Men’s Group meets Mondays from 7–8:30 pm (starting Sept. 15) at St. Anthony Parish. The Men’s group meets to strengthen each other to be Catholic men. We will launch our first meeting of the fall with a cookout behind St. Anthony Church.  All men are welcome. \nEmail Marty at martin.dybicz@gmail.com for details. \nMeetings take place at St. Anthony campus in the school building (Chesterton Academy — Commons)\, unless otherwise noted.
URL:https://stmaryparish.net/event/mens-group/2030-10-07/
LOCATION:St. Anthony Church\, N74W13604 Appleton Avenue\, Menomonee Falls\,\, WI\, 53051\, United States
END:VEVENT
BEGIN:VEVENT
DTSTART;TZID=America/New_York:20301008T170000
DTEND;TZID=America/New_York:20301008T173000
DTSTAMP:20260422T183656
CREATED:20241213T190819Z
LAST-MODIFIED:20250414T214653Z
UID:10023649-1917709200-1917711000@stmaryparish.net
SUMMARY:Confessions (St. Anthony)
DESCRIPTION:
URL:https://stmaryparish.net/event/confessions-st-anthony-9/2030-10-08/
END:VEVENT
BEGIN:VEVENT
DTSTART;TZID=America/New_York:20301009T120000
DTEND;TZID=America/New_York:20301009T123000
DTSTAMP:20260422T183656
CREATED:20241031T185919Z
LAST-MODIFIED:20250304T204847Z
UID:10023684-1917777600-1917779400@stmaryparish.net
SUMMARY:Confessions (St Mary)
DESCRIPTION:
URL:https://stmaryparish.net/event/confessions-st-mary-3/2030-10-09/
END:VEVENT
BEGIN:VEVENT
DTSTART;TZID=America/New_York:20301009T170000
DTEND;TZID=America/New_York:20301009T173000
DTSTAMP:20260422T183656
CREATED:20240312T141801Z
LAST-MODIFIED:20250304T205157Z
UID:10024122-1917795600-1917797400@stmaryparish.net
SUMMARY:Confessions (St. Anthony)
DESCRIPTION:
URL:https://stmaryparish.net/event/confessions-st-anthony-2/2030-10-09/
END:VEVENT
BEGIN:VEVENT
DTSTART;TZID=America/New_York:20301010T080000
DTEND;TZID=America/New_York:20301010T083000
DTSTAMP:20260422T183656
CREATED:20250612T170511Z
LAST-MODIFIED:20250612T170512Z
UID:10023457-1917849600-1917851400@stmaryparish.net
SUMMARY:Mass (St Anthony)
DESCRIPTION:
URL:https://stmaryparish.net/event/mass-st-anthony-7-2-2/2030-10-10/
END:VEVENT
BEGIN:VEVENT
DTSTART;TZID=America/New_York:20301010T121000
DTEND;TZID=America/New_York:20301010T124500
DTSTAMP:20260422T183656
CREATED:20241031T185234Z
LAST-MODIFIED:20241031T185234Z
UID:10023488-1917864600-1917866700@stmaryparish.net
SUMMARY:Mass (St Mary)
DESCRIPTION:
URL:https://stmaryparish.net/event/mass-st-mary-6/2030-10-10/
END:VEVENT
BEGIN:VEVENT
DTSTART;TZID=America/New_York:20301010T170000
DTEND;TZID=America/New_York:20301010T173000
DTSTAMP:20260422T183656
CREATED:20240108T130904Z
LAST-MODIFIED:20250429T145934Z
UID:10011183-1917882000-1917883800@stmaryparish.net
SUMMARY:Confession (St. Anthony)
DESCRIPTION:The Sacrament of Reconciliation is offered daily during the week\, at 5 pm\, or by appointment\, at St. Anthony in the Church.
URL:https://stmaryparish.net/event/confessions-5-2/2030-10-10/
LOCATION:St. Anthony Church\, N74W13604 Appleton Avenue\, Menomonee Falls\,\, WI\, 53051\, United States
CATEGORIES:St. Anthony Parish
END:VEVENT
BEGIN:VEVENT
DTSTART;TZID=America/New_York:20301011T080000
DTEND;TZID=America/New_York:20301011T083000
DTSTAMP:20260422T183656
CREATED:20241031T184838Z
LAST-MODIFIED:20241031T184838Z
UID:10023819-1917936000-1917937800@stmaryparish.net
SUMMARY:Mass (St Anthony)
DESCRIPTION:
URL:https://stmaryparish.net/event/mass-st-anthony-8/2030-10-11/
END:VEVENT
BEGIN:VEVENT
DTSTART;TZID=America/New_York:20301011T081000
DTEND;TZID=America/New_York:20301011T084000
DTSTAMP:20260422T183656
CREATED:20241031T191510Z
LAST-MODIFIED:20241031T191852Z
UID:10023860-1917936600-1917938400@stmaryparish.net
SUMMARY:Mass (St Mary)
DESCRIPTION:
URL:https://stmaryparish.net/event/mass-st-mary-8/2030-10-11/
END:VEVENT
BEGIN:VEVENT
DTSTART;TZID=America/New_York:20301011T084500
DTEND;TZID=America/New_York:20301011T110000
DTSTAMP:20260422T183656
CREATED:20240830T115554Z
LAST-MODIFIED:20251009T144948Z
UID:10023494-1917938700-1917946800@stmaryparish.net
SUMMARY:Women's Faith Study Group
DESCRIPTION:The Women’s Faith Study Group will kick off the next session on  Sept. 5. The group meets from 8:45 am to 11 am at St. Anthony in the lower level of the St. Therese Formation Center (St. Joseph Adoration Chapel building). Child care is not currently offered.  For information\, email Mary Beth at marywitzlib@gmail.com
URL:https://stmaryparish.net/event/womens-faith-study-group-2-2-2/2030-10-11/
LOCATION:St. Therese Formation Center\, N74 W13604 Appleton Ave\, Menomonee Falls\, WI\, 53051
CATEGORIES:St. Anthony Parish,St. Mary Parish
END:VEVENT
BEGIN:VEVENT
DTSTART;TZID=America/New_York:20301011T120000
DTEND;TZID=America/New_York:20301011T123000
DTSTAMP:20260422T183656
CREATED:20241031T192332Z
LAST-MODIFIED:20241031T192350Z
UID:10023520-1917950400-1917952200@stmaryparish.net
SUMMARY:Confessions (St Mary)
DESCRIPTION:
URL:https://stmaryparish.net/event/confessions-st-mary-5/2030-10-11/
END:VEVENT
BEGIN:VEVENT
DTSTART;TZID=America/New_York:20301011T170000
DTEND;TZID=America/New_York:20301011T173000
DTSTAMP:20260422T183656
CREATED:20240108T130904Z
LAST-MODIFIED:20250429T145934Z
UID:10011184-1917968400-1917970200@stmaryparish.net
SUMMARY:Confession (St. Anthony)
DESCRIPTION:The Sacrament of Reconciliation is offered daily during the week\, at 5 pm\, or by appointment\, at St. Anthony in the Church.
URL:https://stmaryparish.net/event/confessions-5-2/2030-10-11/
LOCATION:St. Anthony Church\, N74W13604 Appleton Avenue\, Menomonee Falls\,\, WI\, 53051\, United States
CATEGORIES:St. Anthony Parish
END:VEVENT
BEGIN:VEVENT
DTSTART;TZID=America/New_York:20301012T080000
DTEND;TZID=America/New_York:20301012T083000
DTSTAMP:20260422T183656
CREATED:20241031T185838Z
LAST-MODIFIED:20241031T185838Z
UID:10023945-1918022400-1918024200@stmaryparish.net
SUMMARY:Mass (St Mary)
DESCRIPTION:
URL:https://stmaryparish.net/event/mass-st-mary-7/2030-10-12/
END:VEVENT
BEGIN:VEVENT
DTSTART;TZID=America/New_York:20301012T163000
DTEND;TZID=America/New_York:20301012T173000
DTSTAMP:20260422T183656
CREATED:20241031T182115Z
LAST-MODIFIED:20241031T182115Z
UID:10024037-1918053000-1918056600@stmaryparish.net
SUMMARY:Mass (St Anthony)
DESCRIPTION:
URL:https://stmaryparish.net/event/mass-st-anthony-2/2030-10-12/
END:VEVENT
BEGIN:VEVENT
DTSTART;TZID=America/New_York:20301012T170000
DTEND;TZID=America/New_York:20301012T180000
DTSTAMP:20260422T183656
CREATED:20241031T182149Z
LAST-MODIFIED:20241031T183232Z
UID:10023991-1918054800-1918058400@stmaryparish.net
SUMMARY:Mass (St Mary)
DESCRIPTION:
URL:https://stmaryparish.net/event/mass-st-mary/2030-10-12/
END:VEVENT
BEGIN:VEVENT
DTSTART;TZID=America/New_York:20301014T120000
DTEND;TZID=America/New_York:20301014T123000
DTSTAMP:20260422T183656
CREATED:20241031T185431Z
LAST-MODIFIED:20241031T185431Z
UID:10023543-1918209600-1918211400@stmaryparish.net
SUMMARY:Confessions (St Mary)
DESCRIPTION:
URL:https://stmaryparish.net/event/confessions-st-mary/2030-10-14/
END:VEVENT
BEGIN:VEVENT
DTSTART;TZID=America/New_York:20301014T170000
DTEND;TZID=America/New_York:20301014T173000
DTSTAMP:20260422T183656
CREATED:20240108T130904Z
LAST-MODIFIED:20250429T145934Z
UID:10011185-1918227600-1918229400@stmaryparish.net
SUMMARY:Confession (St. Anthony)
DESCRIPTION:The Sacrament of Reconciliation is offered daily during the week\, at 5 pm\, or by appointment\, at St. Anthony in the Church.
URL:https://stmaryparish.net/event/confessions-5-2/2030-10-14/
LOCATION:St. Anthony Church\, N74W13604 Appleton Avenue\, Menomonee Falls\,\, WI\, 53051\, United States
CATEGORIES:St. Anthony Parish
END:VEVENT
BEGIN:VEVENT
DTSTART;TZID=America/New_York:20301014T190000
DTEND;TZID=America/New_York:20301014T203000
DTSTAMP:20260422T183656
CREATED:20250905T185422Z
LAST-MODIFIED:20250905T185615Z
UID:10024064-1918234800-1918240200@stmaryparish.net
SUMMARY:Men's Group
DESCRIPTION:The Men’s Group meets Mondays from 7–8:30 pm (starting Sept. 15) at St. Anthony Parish. The Men’s group meets to strengthen each other to be Catholic men. We will launch our first meeting of the fall with a cookout behind St. Anthony Church.  All men are welcome. \nEmail Marty at martin.dybicz@gmail.com for details. \nMeetings take place at St. Anthony campus in the school building (Chesterton Academy — Commons)\, unless otherwise noted.
URL:https://stmaryparish.net/event/mens-group/2030-10-14/
LOCATION:St. Anthony Church\, N74W13604 Appleton Avenue\, Menomonee Falls\,\, WI\, 53051\, United States
END:VEVENT
BEGIN:VEVENT
DTSTART;TZID=America/New_York:20301015T170000
DTEND;TZID=America/New_York:20301015T173000
DTSTAMP:20260422T183656
CREATED:20241213T190819Z
LAST-MODIFIED:20250414T214653Z
UID:10023650-1918314000-1918315800@stmaryparish.net
SUMMARY:Confessions (St. Anthony)
DESCRIPTION:
URL:https://stmaryparish.net/event/confessions-st-anthony-9/2030-10-15/
END:VEVENT
END:VCALENDAR