BEGIN:VCALENDAR
VERSION:2.0
PRODID:-//St. Anthony and St. Mary Parishes - ECPv6.15.20//NONSGML v1.0//EN
CALSCALE:GREGORIAN
METHOD:PUBLISH
X-WR-CALNAME:St. Anthony and St. Mary Parishes
X-ORIGINAL-URL:https://stmaryparish.net
X-WR-CALDESC:Events for St. Anthony and St. Mary Parishes
REFRESH-INTERVAL;VALUE=DURATION:PT1H
X-Robots-Tag:noindex
X-PUBLISHED-TTL:PT1H
BEGIN:VTIMEZONE
TZID:America/New_York
BEGIN:DAYLIGHT
TZOFFSETFROM:-0500
TZOFFSETTO:-0400
TZNAME:EDT
DTSTART:20290311T070000
END:DAYLIGHT
BEGIN:STANDARD
TZOFFSETFROM:-0400
TZOFFSETTO:-0500
TZNAME:EST
DTSTART:20291104T060000
END:STANDARD
BEGIN:DAYLIGHT
TZOFFSETFROM:-0500
TZOFFSETTO:-0400
TZNAME:EDT
DTSTART:20300310T070000
END:DAYLIGHT
BEGIN:STANDARD
TZOFFSETFROM:-0400
TZOFFSETTO:-0500
TZNAME:EST
DTSTART:20301103T060000
END:STANDARD
BEGIN:DAYLIGHT
TZOFFSETFROM:-0500
TZOFFSETTO:-0400
TZNAME:EDT
DTSTART:20310309T070000
END:DAYLIGHT
BEGIN:STANDARD
TZOFFSETFROM:-0400
TZOFFSETTO:-0500
TZNAME:EST
DTSTART:20311102T060000
END:STANDARD
END:VTIMEZONE
BEGIN:VTIMEZONE
TZID:America/New_York
BEGIN:DAYLIGHT
TZOFFSETFROM:-0500
TZOFFSETTO:-0400
TZNAME:EDT
DTSTART:20290311T070000
END:DAYLIGHT
BEGIN:STANDARD
TZOFFSETFROM:-0400
TZOFFSETTO:-0500
TZNAME:EST
DTSTART:20291104T060000
END:STANDARD
BEGIN:DAYLIGHT
TZOFFSETFROM:-0500
TZOFFSETTO:-0400
TZNAME:EDT
DTSTART:20300310T070000
END:DAYLIGHT
BEGIN:STANDARD
TZOFFSETFROM:-0400
TZOFFSETTO:-0500
TZNAME:EST
DTSTART:20301103T060000
END:STANDARD
BEGIN:DAYLIGHT
TZOFFSETFROM:-0500
TZOFFSETTO:-0400
TZNAME:EDT
DTSTART:20310309T070000
END:DAYLIGHT
BEGIN:STANDARD
TZOFFSETFROM:-0400
TZOFFSETTO:-0500
TZNAME:EST
DTSTART:20311102T060000
END:STANDARD
END:VTIMEZONE
BEGIN:VEVENT
DTSTART;TZID=America/New_York:20300102T190000
DTEND;TZID=America/New_York:20300102T200000
DTSTAMP:20260420T032448
CREATED:20240201T163527Z
LAST-MODIFIED:20250905T191233Z
UID:10022819-1893610800-1893614400@stmaryparish.net
SUMMARY:Human Concerns (St. Anthony)
DESCRIPTION:Human Concerns Committee: The Human Concerns Committee meets monthly to facilitate the outreach ministries of the parish by addressing social justice issues and increasing charity and stewardship awareness through support of emergency shelters\, pro-life non-profits\, and others as designated. HCC also organizes the Christmas Giving Tree and Easter Food Baskets. We meet on the first Wednesday of the month. \nContact: Nancy Schroeder\, nancys0615@gmail.com \nLocation: St. Therese Formation Center – Library
URL:https://stmaryparish.net/event/human-concerns-4/2030-01-02/
LOCATION:St. Therese Formation Center\, N74 W13604 Appleton Ave\, Menomonee Falls\, WI\, 53051
CATEGORIES:St. Anthony Parish
END:VEVENT
BEGIN:VEVENT
DTSTART;TZID=America/New_York:20300103T080000
DTEND;TZID=America/New_York:20300103T083000
DTSTAMP:20260420T032448
CREATED:20250612T170511Z
LAST-MODIFIED:20250612T170512Z
UID:10022355-1893657600-1893659400@stmaryparish.net
SUMMARY:Mass (St Anthony)
DESCRIPTION:
URL:https://stmaryparish.net/event/mass-st-anthony-7-2-2/2030-01-03/
END:VEVENT
BEGIN:VEVENT
DTSTART;TZID=America/New_York:20300103T121000
DTEND;TZID=America/New_York:20300103T124500
DTSTAMP:20260420T032448
CREATED:20241031T185234Z
LAST-MODIFIED:20241031T185234Z
UID:10022402-1893672600-1893674700@stmaryparish.net
SUMMARY:Mass (St Mary)
DESCRIPTION:
URL:https://stmaryparish.net/event/mass-st-mary-6/2030-01-03/
END:VEVENT
BEGIN:VEVENT
DTSTART;TZID=America/New_York:20300103T170000
DTEND;TZID=America/New_York:20300103T173000
DTSTAMP:20260420T032448
CREATED:20240108T130904Z
LAST-MODIFIED:20250429T145934Z
UID:10010983-1893690000-1893691800@stmaryparish.net
SUMMARY:Confession (St. Anthony)
DESCRIPTION:The Sacrament of Reconciliation is offered daily during the week\, at 5 pm\, or by appointment\, at St. Anthony in the Church.
URL:https://stmaryparish.net/event/confessions-5-2/2030-01-03/
LOCATION:St. Anthony Church\, N74W13604 Appleton Avenue\, Menomonee Falls\,\, WI\, 53051\, United States
CATEGORIES:St. Anthony Parish
END:VEVENT
BEGIN:VEVENT
DTSTART;TZID=America/New_York:20300104T080000
DTEND;TZID=America/New_York:20300104T083000
DTSTAMP:20260420T032448
CREATED:20241031T184838Z
LAST-MODIFIED:20241031T184838Z
UID:10022426-1893744000-1893745800@stmaryparish.net
SUMMARY:Mass (St Anthony)
DESCRIPTION:
URL:https://stmaryparish.net/event/mass-st-anthony-8/2030-01-04/
END:VEVENT
BEGIN:VEVENT
DTSTART;TZID=America/New_York:20300104T081000
DTEND;TZID=America/New_York:20300104T084000
DTSTAMP:20260420T032448
CREATED:20241031T191510Z
LAST-MODIFIED:20241031T191852Z
UID:10022450-1893744600-1893746400@stmaryparish.net
SUMMARY:Mass (St Mary)
DESCRIPTION:
URL:https://stmaryparish.net/event/mass-st-mary-8/2030-01-04/
END:VEVENT
BEGIN:VEVENT
DTSTART;TZID=America/New_York:20300104T084500
DTEND;TZID=America/New_York:20300104T110000
DTSTAMP:20260420T032448
CREATED:20240830T115554Z
LAST-MODIFIED:20251009T144948Z
UID:10023386-1893746700-1893754800@stmaryparish.net
SUMMARY:Women's Faith Study Group
DESCRIPTION:The Women’s Faith Study Group will kick off the next session on  Sept. 5. The group meets from 8:45 am to 11 am at St. Anthony in the lower level of the St. Therese Formation Center (St. Joseph Adoration Chapel building). Child care is not currently offered.  For information\, email Mary Beth at marywitzlib@gmail.com
URL:https://stmaryparish.net/event/womens-faith-study-group-2-2-2/2030-01-04/
LOCATION:St. Therese Formation Center\, N74 W13604 Appleton Ave\, Menomonee Falls\, WI\, 53051
CATEGORIES:St. Anthony Parish,St. Mary Parish
END:VEVENT
BEGIN:VEVENT
DTSTART;TZID=America/New_York:20300104T120000
DTEND;TZID=America/New_York:20300104T123000
DTSTAMP:20260420T032448
CREATED:20241031T192332Z
LAST-MODIFIED:20241031T192350Z
UID:10022472-1893758400-1893760200@stmaryparish.net
SUMMARY:Confessions (St Mary)
DESCRIPTION:
URL:https://stmaryparish.net/event/confessions-st-mary-5/2030-01-04/
END:VEVENT
BEGIN:VEVENT
DTSTART;TZID=America/New_York:20300104T170000
DTEND;TZID=America/New_York:20300104T173000
DTSTAMP:20260420T032448
CREATED:20240108T130904Z
LAST-MODIFIED:20250429T145934Z
UID:10010984-1893776400-1893778200@stmaryparish.net
SUMMARY:Confession (St. Anthony)
DESCRIPTION:The Sacrament of Reconciliation is offered daily during the week\, at 5 pm\, or by appointment\, at St. Anthony in the Church.
URL:https://stmaryparish.net/event/confessions-5-2/2030-01-04/
LOCATION:St. Anthony Church\, N74W13604 Appleton Avenue\, Menomonee Falls\,\, WI\, 53051\, United States
CATEGORIES:St. Anthony Parish
END:VEVENT
BEGIN:VEVENT
DTSTART;TZID=America/New_York:20300104T190000
DTEND;TZID=America/New_York:20300104T210000
DTSTAMP:20260420T032448
CREATED:20240830T122256Z
LAST-MODIFIED:20241217T175459Z
UID:10022793-1893783600-1893790800@stmaryparish.net
SUMMARY:Amici Dei Young Adult Group (First Friday)
DESCRIPTION:Men and women ages 18 to 32 from St. Anthony and St. Mary Parishes are invited to join Amici Dei\, a young adult group that meets at 7 pm on the first and third Fridays of the month in the lower level of the St. Therese Formation Center Building at St. Anthony campus. \nContact: Andrew Jordan\, amicidei20@gmail.com
URL:https://stmaryparish.net/event/ameci-dei-young-adult-group-first-friday/2030-01-04/
LOCATION:St. Therese Formation Center\, N74 W13604 Appleton Ave\, Menomonee Falls\, WI\, 53051
CATEGORIES:St. Anthony Parish,St. Mary Parish
END:VEVENT
BEGIN:VEVENT
DTSTART;TZID=America/New_York:20300105T080000
DTEND;TZID=America/New_York:20300105T083000
DTSTAMP:20260420T032448
CREATED:20241031T185838Z
LAST-MODIFIED:20241031T185838Z
UID:10022500-1893830400-1893832200@stmaryparish.net
SUMMARY:Mass (St Mary)
DESCRIPTION:
URL:https://stmaryparish.net/event/mass-st-mary-7/2030-01-05/
END:VEVENT
BEGIN:VEVENT
DTSTART;TZID=America/New_York:20300105T163000
DTEND;TZID=America/New_York:20300105T173000
DTSTAMP:20260420T032448
CREATED:20241031T182115Z
LAST-MODIFIED:20241031T182115Z
UID:10022524-1893861000-1893864600@stmaryparish.net
SUMMARY:Mass (St Anthony)
DESCRIPTION:
URL:https://stmaryparish.net/event/mass-st-anthony-2/2030-01-05/
END:VEVENT
BEGIN:VEVENT
DTSTART;TZID=America/New_York:20300105T170000
DTEND;TZID=America/New_York:20300105T180000
DTSTAMP:20260420T032448
CREATED:20241031T182149Z
LAST-MODIFIED:20241031T183232Z
UID:10022548-1893862800-1893866400@stmaryparish.net
SUMMARY:Mass (St Mary)
DESCRIPTION:
URL:https://stmaryparish.net/event/mass-st-mary/2030-01-05/
END:VEVENT
BEGIN:VEVENT
DTSTART;TZID=America/New_York:20300107T080000
DTEND;TZID=America/New_York:20300107T083000
DTSTAMP:20260420T032448
CREATED:20241031T184422Z
LAST-MODIFIED:20241031T184422Z
UID:10022761-1894003200-1894005000@stmaryparish.net
SUMMARY:Mass (St Anthony)
DESCRIPTION:
URL:https://stmaryparish.net/event/mass-st-anthony-4/2030-01-07/
END:VEVENT
BEGIN:VEVENT
DTSTART;TZID=America/New_York:20300107T120000
DTEND;TZID=America/New_York:20300107T123000
DTSTAMP:20260420T032448
CREATED:20241031T185431Z
LAST-MODIFIED:20241031T185431Z
UID:10022579-1894017600-1894019400@stmaryparish.net
SUMMARY:Confessions (St Mary)
DESCRIPTION:
URL:https://stmaryparish.net/event/confessions-st-mary/2030-01-07/
END:VEVENT
BEGIN:VEVENT
DTSTART;TZID=America/New_York:20300107T170000
DTEND;TZID=America/New_York:20300107T173000
DTSTAMP:20260420T032448
CREATED:20240108T130904Z
LAST-MODIFIED:20250429T145934Z
UID:10010985-1894035600-1894037400@stmaryparish.net
SUMMARY:Confession (St. Anthony)
DESCRIPTION:The Sacrament of Reconciliation is offered daily during the week\, at 5 pm\, or by appointment\, at St. Anthony in the Church.
URL:https://stmaryparish.net/event/confessions-5-2/2030-01-07/
LOCATION:St. Anthony Church\, N74W13604 Appleton Avenue\, Menomonee Falls\,\, WI\, 53051\, United States
CATEGORIES:St. Anthony Parish
END:VEVENT
BEGIN:VEVENT
DTSTART;TZID=America/New_York:20300107T190000
DTEND;TZID=America/New_York:20300107T203000
DTSTAMP:20260420T032448
CREATED:20250905T185422Z
LAST-MODIFIED:20250905T185615Z
UID:10023125-1894042800-1894048200@stmaryparish.net
SUMMARY:Men's Group
DESCRIPTION:The Men’s Group meets Mondays from 7–8:30 pm (starting Sept. 15) at St. Anthony Parish. The Men’s group meets to strengthen each other to be Catholic men. We will launch our first meeting of the fall with a cookout behind St. Anthony Church.  All men are welcome. \nEmail Marty at martin.dybicz@gmail.com for details. \nMeetings take place at St. Anthony campus in the school building (Chesterton Academy — Commons)\, unless otherwise noted.
URL:https://stmaryparish.net/event/mens-group/2030-01-07/
LOCATION:St. Anthony Church\, N74W13604 Appleton Avenue\, Menomonee Falls\,\, WI\, 53051\, United States
END:VEVENT
BEGIN:VEVENT
DTSTART;TZID=America/New_York:20300108T063000
DTEND;TZID=America/New_York:20300108T070000
DTSTAMP:20260420T032448
CREATED:20241031T185031Z
LAST-MODIFIED:20241031T185031Z
UID:10022646-1894084200-1894086000@stmaryparish.net
SUMMARY:Mass (St Mary)
DESCRIPTION:
URL:https://stmaryparish.net/event/mass-st-mary-4/2030-01-08/
END:VEVENT
BEGIN:VEVENT
DTSTART;TZID=America/New_York:20300108T120000
DTEND;TZID=America/New_York:20300108T123000
DTSTAMP:20260420T032448
CREATED:20241213T180235Z
LAST-MODIFIED:20241213T180235Z
UID:10022595-1894104000-1894105800@stmaryparish.net
SUMMARY:Confessions (St Mary)
DESCRIPTION:
URL:https://stmaryparish.net/event/confessions-st-mary-2-2/2030-01-08/
END:VEVENT
BEGIN:VEVENT
DTSTART;TZID=America/New_York:20300108T170000
DTEND;TZID=America/New_York:20300108T173000
DTSTAMP:20260420T032448
CREATED:20241213T190819Z
LAST-MODIFIED:20250414T214653Z
UID:10022375-1894122000-1894123800@stmaryparish.net
SUMMARY:Confessions (St. Anthony)
DESCRIPTION:
URL:https://stmaryparish.net/event/confessions-st-anthony-9/2030-01-08/
END:VEVENT
BEGIN:VEVENT
DTSTART;TZID=America/New_York:20300109T081000
DTEND;TZID=America/New_York:20300109T084500
DTSTAMP:20260420T032448
CREATED:20250428T205453Z
LAST-MODIFIED:20250428T205454Z
UID:10022731-1894176600-1894178700@stmaryparish.net
SUMMARY:Mass (St Mary)
DESCRIPTION:
URL:https://stmaryparish.net/event/mass-st-mary-5-2/2030-01-09/
END:VEVENT
BEGIN:VEVENT
DTSTART;TZID=America/New_York:20300109T120000
DTEND;TZID=America/New_York:20300109T123000
DTSTAMP:20260420T032448
CREATED:20241031T185919Z
LAST-MODIFIED:20250304T204847Z
UID:10022097-1894190400-1894192200@stmaryparish.net
SUMMARY:Confessions (St Mary)
DESCRIPTION:
URL:https://stmaryparish.net/event/confessions-st-mary-3/2030-01-09/
END:VEVENT
BEGIN:VEVENT
DTSTART;TZID=America/New_York:20300109T170000
DTEND;TZID=America/New_York:20300109T173000
DTSTAMP:20260420T032448
CREATED:20240312T141801Z
LAST-MODIFIED:20250304T205157Z
UID:10022089-1894208400-1894210200@stmaryparish.net
SUMMARY:Confessions (St. Anthony)
DESCRIPTION:
URL:https://stmaryparish.net/event/confessions-st-anthony-2/2030-01-09/
END:VEVENT
BEGIN:VEVENT
DTSTART;TZID=America/New_York:20300110T080000
DTEND;TZID=America/New_York:20300110T083000
DTSTAMP:20260420T032448
CREATED:20250612T170511Z
LAST-MODIFIED:20250612T170512Z
UID:10022356-1894262400-1894264200@stmaryparish.net
SUMMARY:Mass (St Anthony)
DESCRIPTION:
URL:https://stmaryparish.net/event/mass-st-anthony-7-2-2/2030-01-10/
END:VEVENT
BEGIN:VEVENT
DTSTART;TZID=America/New_York:20300110T121000
DTEND;TZID=America/New_York:20300110T124500
DTSTAMP:20260420T032448
CREATED:20241031T185234Z
LAST-MODIFIED:20241031T185234Z
UID:10022403-1894277400-1894279500@stmaryparish.net
SUMMARY:Mass (St Mary)
DESCRIPTION:
URL:https://stmaryparish.net/event/mass-st-mary-6/2030-01-10/
END:VEVENT
BEGIN:VEVENT
DTSTART;TZID=America/New_York:20300110T170000
DTEND;TZID=America/New_York:20300110T173000
DTSTAMP:20260420T032448
CREATED:20240108T130904Z
LAST-MODIFIED:20250429T145934Z
UID:10010988-1894294800-1894296600@stmaryparish.net
SUMMARY:Confession (St. Anthony)
DESCRIPTION:The Sacrament of Reconciliation is offered daily during the week\, at 5 pm\, or by appointment\, at St. Anthony in the Church.
URL:https://stmaryparish.net/event/confessions-5-2/2030-01-10/
LOCATION:St. Anthony Church\, N74W13604 Appleton Avenue\, Menomonee Falls\,\, WI\, 53051\, United States
CATEGORIES:St. Anthony Parish
END:VEVENT
BEGIN:VEVENT
DTSTART;TZID=America/New_York:20300111T080000
DTEND;TZID=America/New_York:20300111T083000
DTSTAMP:20260420T032448
CREATED:20241031T184838Z
LAST-MODIFIED:20241031T184838Z
UID:10022427-1894348800-1894350600@stmaryparish.net
SUMMARY:Mass (St Anthony)
DESCRIPTION:
URL:https://stmaryparish.net/event/mass-st-anthony-8/2030-01-11/
END:VEVENT
BEGIN:VEVENT
DTSTART;TZID=America/New_York:20300111T081000
DTEND;TZID=America/New_York:20300111T084000
DTSTAMP:20260420T032448
CREATED:20241031T191510Z
LAST-MODIFIED:20241031T191852Z
UID:10022451-1894349400-1894351200@stmaryparish.net
SUMMARY:Mass (St Mary)
DESCRIPTION:
URL:https://stmaryparish.net/event/mass-st-mary-8/2030-01-11/
END:VEVENT
BEGIN:VEVENT
DTSTART;TZID=America/New_York:20300111T084500
DTEND;TZID=America/New_York:20300111T110000
DTSTAMP:20260420T032448
CREATED:20240830T115554Z
LAST-MODIFIED:20251009T144948Z
UID:10023387-1894351500-1894359600@stmaryparish.net
SUMMARY:Women's Faith Study Group
DESCRIPTION:The Women’s Faith Study Group will kick off the next session on  Sept. 5. The group meets from 8:45 am to 11 am at St. Anthony in the lower level of the St. Therese Formation Center (St. Joseph Adoration Chapel building). Child care is not currently offered.  For information\, email Mary Beth at marywitzlib@gmail.com
URL:https://stmaryparish.net/event/womens-faith-study-group-2-2-2/2030-01-11/
LOCATION:St. Therese Formation Center\, N74 W13604 Appleton Ave\, Menomonee Falls\, WI\, 53051
CATEGORIES:St. Anthony Parish,St. Mary Parish
END:VEVENT
BEGIN:VEVENT
DTSTART;TZID=America/New_York:20300111T120000
DTEND;TZID=America/New_York:20300111T123000
DTSTAMP:20260420T032448
CREATED:20241031T192332Z
LAST-MODIFIED:20241031T192350Z
UID:10022473-1894363200-1894365000@stmaryparish.net
SUMMARY:Confessions (St Mary)
DESCRIPTION:
URL:https://stmaryparish.net/event/confessions-st-mary-5/2030-01-11/
END:VEVENT
END:VCALENDAR