BEGIN:VCALENDAR
VERSION:2.0
PRODID:-//St. Anthony and St. Mary Parishes - ECPv6.15.20//NONSGML v1.0//EN
CALSCALE:GREGORIAN
METHOD:PUBLISH
X-ORIGINAL-URL:https://stmaryparish.net
X-WR-CALDESC:Events for St. Anthony and St. Mary Parishes
REFRESH-INTERVAL;VALUE=DURATION:PT1H
X-Robots-Tag:noindex
X-PUBLISHED-TTL:PT1H
BEGIN:VTIMEZONE
TZID:America/New_York
BEGIN:DAYLIGHT
TZOFFSETFROM:-0500
TZOFFSETTO:-0400
TZNAME:EDT
DTSTART:20280312T070000
END:DAYLIGHT
BEGIN:STANDARD
TZOFFSETFROM:-0400
TZOFFSETTO:-0500
TZNAME:EST
DTSTART:20281105T060000
END:STANDARD
BEGIN:DAYLIGHT
TZOFFSETFROM:-0500
TZOFFSETTO:-0400
TZNAME:EDT
DTSTART:20290311T070000
END:DAYLIGHT
BEGIN:STANDARD
TZOFFSETFROM:-0400
TZOFFSETTO:-0500
TZNAME:EST
DTSTART:20291104T060000
END:STANDARD
BEGIN:DAYLIGHT
TZOFFSETFROM:-0500
TZOFFSETTO:-0400
TZNAME:EDT
DTSTART:20300310T070000
END:DAYLIGHT
BEGIN:STANDARD
TZOFFSETFROM:-0400
TZOFFSETTO:-0500
TZNAME:EST
DTSTART:20301103T060000
END:STANDARD
END:VTIMEZONE
BEGIN:VTIMEZONE
TZID:America/New_York
BEGIN:DAYLIGHT
TZOFFSETFROM:-0500
TZOFFSETTO:-0400
TZNAME:EDT
DTSTART:20280312T070000
END:DAYLIGHT
BEGIN:STANDARD
TZOFFSETFROM:-0400
TZOFFSETTO:-0500
TZNAME:EST
DTSTART:20281105T060000
END:STANDARD
BEGIN:DAYLIGHT
TZOFFSETFROM:-0500
TZOFFSETTO:-0400
TZNAME:EDT
DTSTART:20290311T070000
END:DAYLIGHT
BEGIN:STANDARD
TZOFFSETFROM:-0400
TZOFFSETTO:-0500
TZNAME:EST
DTSTART:20291104T060000
END:STANDARD
BEGIN:DAYLIGHT
TZOFFSETFROM:-0500
TZOFFSETTO:-0400
TZNAME:EDT
DTSTART:20300310T070000
END:DAYLIGHT
BEGIN:STANDARD
TZOFFSETFROM:-0400
TZOFFSETTO:-0500
TZNAME:EST
DTSTART:20301103T060000
END:STANDARD
END:VTIMEZONE
BEGIN:VEVENT
DTSTART;TZID=America/New_York:20291113T120000
DTEND;TZID=America/New_York:20291113T123000
DTSTAMP:20260419T212824
CREATED:20241213T180235Z
LAST-MODIFIED:20241213T180235Z
UID:10021967-1889265600-1889267400@stmaryparish.net
SUMMARY:Confessions (St Mary)
DESCRIPTION:
URL:https://stmaryparish.net/event/confessions-st-mary-2-2/2029-11-13/
LOCATION:WI
END:VEVENT
BEGIN:VEVENT
DTSTART;TZID=America/New_York:20291113T170000
DTEND;TZID=America/New_York:20291113T173000
DTSTAMP:20260419T212824
CREATED:20241213T190819Z
LAST-MODIFIED:20250414T214653Z
UID:10022007-1889283600-1889285400@stmaryparish.net
SUMMARY:Confessions (St. Anthony)
DESCRIPTION:
URL:https://stmaryparish.net/event/confessions-st-anthony-9/2029-11-13/
LOCATION:WI
END:VEVENT
BEGIN:VEVENT
DTSTART;TZID=America/New_York:20291114T080000
DTEND;TZID=America/New_York:20291114T083000
DTSTAMP:20260419T212824
CREATED:20241031T184609Z
LAST-MODIFIED:20241031T184609Z
UID:10022032-1889337600-1889339400@stmaryparish.net
SUMMARY:Mass (St Anthony)
DESCRIPTION:
URL:https://stmaryparish.net/event/mass-st-anthony-6/2029-11-14/
LOCATION:WI
END:VEVENT
BEGIN:VEVENT
DTSTART;TZID=America/New_York:20291114T081000
DTEND;TZID=America/New_York:20291114T084500
DTSTAMP:20260419T212824
CREATED:20250428T205453Z
LAST-MODIFIED:20250428T205454Z
UID:10022038-1889338200-1889340300@stmaryparish.net
SUMMARY:Mass (St Mary)
DESCRIPTION:
URL:https://stmaryparish.net/event/mass-st-mary-5-2/2029-11-14/
LOCATION:WI
END:VEVENT
BEGIN:VEVENT
DTSTART;TZID=America/New_York:20291114T120000
DTEND;TZID=America/New_York:20291114T123000
DTSTAMP:20260419T212824
CREATED:20241031T185919Z
LAST-MODIFIED:20250304T204847Z
UID:10022014-1889352000-1889353800@stmaryparish.net
SUMMARY:Confessions (St Mary)
DESCRIPTION:
URL:https://stmaryparish.net/event/confessions-st-mary-3/2029-11-14/
LOCATION:WI
END:VEVENT
BEGIN:VEVENT
DTSTART;TZID=America/New_York:20291114T170000
DTEND;TZID=America/New_York:20291114T173000
DTSTAMP:20260419T212824
CREATED:20240312T141801Z
LAST-MODIFIED:20250304T205157Z
UID:10021952-1889370000-1889371800@stmaryparish.net
SUMMARY:Confessions (St. Anthony)
DESCRIPTION:
URL:https://stmaryparish.net/event/confessions-st-anthony-2/2029-11-14/
LOCATION:WI
END:VEVENT
BEGIN:VEVENT
DTSTART;TZID=America/New_York:20291115T080000
DTEND;TZID=America/New_York:20291115T083000
DTSTAMP:20260419T212824
CREATED:20250612T170511Z
LAST-MODIFIED:20250612T170512Z
UID:10022019-1889424000-1889425800@stmaryparish.net
SUMMARY:Mass (St Anthony)
DESCRIPTION:
URL:https://stmaryparish.net/event/mass-st-anthony-7-2-2/2029-11-15/
LOCATION:WI
END:VEVENT
BEGIN:VEVENT
DTSTART;TZID=America/New_York:20291115T121000
DTEND;TZID=America/New_York:20291115T124500
DTSTAMP:20260419T212824
CREATED:20241031T185234Z
LAST-MODIFIED:20241031T185234Z
UID:10022395-1889439000-1889441100@stmaryparish.net
SUMMARY:Mass (St Mary)
DESCRIPTION:
URL:https://stmaryparish.net/event/mass-st-mary-6/2029-11-15/
LOCATION:WI
END:VEVENT
BEGIN:VEVENT
DTSTART;TZID=America/New_York:20291115T170000
DTEND;TZID=America/New_York:20291115T173000
DTSTAMP:20260419T212825
CREATED:20240108T130904Z
LAST-MODIFIED:20250429T145934Z
UID:10010948-1889456400-1889458200@stmaryparish.net
SUMMARY:Confession (St. Anthony)
DESCRIPTION:The Sacrament of Reconciliation is offered daily during the week\, at 5 pm\, or by appointment\, at St. Anthony in the Church.
URL:https://stmaryparish.net/event/confessions-5-2/2029-11-15/
LOCATION:St. Anthony Church\, N74W13604 Appleton Avenue\, Menomonee Falls\,\, WI\, 53051\, United States
CATEGORIES:St. Anthony Parish
END:VEVENT
BEGIN:VEVENT
DTSTART;TZID=America/New_York:20291116T080000
DTEND;TZID=America/New_York:20291116T083000
DTSTAMP:20260419T212825
CREATED:20241031T184838Z
LAST-MODIFIED:20241031T184838Z
UID:10022419-1889510400-1889512200@stmaryparish.net
SUMMARY:Mass (St Anthony)
DESCRIPTION:
URL:https://stmaryparish.net/event/mass-st-anthony-8/2029-11-16/
LOCATION:WI
END:VEVENT
BEGIN:VEVENT
DTSTART;TZID=America/New_York:20291116T081000
DTEND;TZID=America/New_York:20291116T084000
DTSTAMP:20260419T212825
CREATED:20241031T191510Z
LAST-MODIFIED:20241031T191852Z
UID:10022443-1889511000-1889512800@stmaryparish.net
SUMMARY:Mass (St Mary)
DESCRIPTION:
URL:https://stmaryparish.net/event/mass-st-mary-8/2029-11-16/
LOCATION:WI
END:VEVENT
BEGIN:VEVENT
DTSTART;TZID=America/New_York:20291116T084500
DTEND;TZID=America/New_York:20291116T110000
DTSTAMP:20260419T212825
CREATED:20240830T115554Z
LAST-MODIFIED:20251009T144948Z
UID:10023379-1889513100-1889521200@stmaryparish.net
SUMMARY:Women's Faith Study Group
DESCRIPTION:The Women’s Faith Study Group will kick off the next session on  Sept. 5. The group meets from 8:45 am to 11 am at St. Anthony in the lower level of the St. Therese Formation Center (St. Joseph Adoration Chapel building). Child care is not currently offered.  For information\, email Mary Beth at marywitzlib@gmail.com
URL:https://stmaryparish.net/event/womens-faith-study-group-2-2-2/2029-11-16/
LOCATION:St. Therese Formation Center\, N74 W13604 Appleton Ave\, Menomonee Falls\, WI\, 53051
CATEGORIES:St. Anthony Parish,St. Mary Parish
END:VEVENT
BEGIN:VEVENT
DTSTART;TZID=America/New_York:20291116T120000
DTEND;TZID=America/New_York:20291116T123000
DTSTAMP:20260419T212825
CREATED:20241031T192332Z
LAST-MODIFIED:20241031T192350Z
UID:10022465-1889524800-1889526600@stmaryparish.net
SUMMARY:Confessions (St Mary)
DESCRIPTION:
URL:https://stmaryparish.net/event/confessions-st-mary-5/2029-11-16/
LOCATION:WI
END:VEVENT
BEGIN:VEVENT
DTSTART;TZID=America/New_York:20291116T170000
DTEND;TZID=America/New_York:20291116T173000
DTSTAMP:20260419T212825
CREATED:20240108T130904Z
LAST-MODIFIED:20250429T145934Z
UID:10010949-1889542800-1889544600@stmaryparish.net
SUMMARY:Confession (St. Anthony)
DESCRIPTION:The Sacrament of Reconciliation is offered daily during the week\, at 5 pm\, or by appointment\, at St. Anthony in the Church.
URL:https://stmaryparish.net/event/confessions-5-2/2029-11-16/
LOCATION:St. Anthony Church\, N74W13604 Appleton Avenue\, Menomonee Falls\,\, WI\, 53051\, United States
CATEGORIES:St. Anthony Parish
END:VEVENT
BEGIN:VEVENT
DTSTART;TZID=America/New_York:20291116T190000
DTEND;TZID=America/New_York:20291116T210000
DTSTAMP:20260419T212825
CREATED:20240830T122426Z
LAST-MODIFIED:20241217T175357Z
UID:10022054-1889550000-1889557200@stmaryparish.net
SUMMARY:Amici Dei Young Adult Group (Third Friday)
DESCRIPTION:Men and women ages 18 to 32 from St. Anthony and St. Mary Parishes are invited to join Amici Dei\, a young adult group that meets at 7 pm on the first and third Fridays of the month in the lower level of the St. Therese Formation Center Building at St. Anthony campus. \nContact: Andrew Jordan\, amicidei20@gmail.com
URL:https://stmaryparish.net/event/ameci-dei-young-adult-group-third-friday/2029-11-16/
LOCATION:St. Therese Formation Center\, N74 W13604 Appleton Ave\, Menomonee Falls\, WI\, 53051
CATEGORIES:St. Anthony Parish,St. Mary Parish
END:VEVENT
BEGIN:VEVENT
DTSTART;TZID=America/New_York:20291117T080000
DTEND;TZID=America/New_York:20291117T083000
DTSTAMP:20260419T212825
CREATED:20241031T185838Z
LAST-MODIFIED:20241031T185838Z
UID:10022493-1889596800-1889598600@stmaryparish.net
SUMMARY:Mass (St Mary)
DESCRIPTION:
URL:https://stmaryparish.net/event/mass-st-mary-7/2029-11-17/
LOCATION:WI
END:VEVENT
BEGIN:VEVENT
DTSTART;TZID=America/New_York:20291117T163000
DTEND;TZID=America/New_York:20291117T173000
DTSTAMP:20260419T212825
CREATED:20241031T182115Z
LAST-MODIFIED:20241031T182115Z
UID:10022517-1889627400-1889631000@stmaryparish.net
SUMMARY:Mass (St Anthony)
DESCRIPTION:
URL:https://stmaryparish.net/event/mass-st-anthony-2/2029-11-17/
LOCATION:WI
END:VEVENT
BEGIN:VEVENT
DTSTART;TZID=America/New_York:20291117T170000
DTEND;TZID=America/New_York:20291117T180000
DTSTAMP:20260419T212825
CREATED:20241031T182149Z
LAST-MODIFIED:20241031T183232Z
UID:10022541-1889629200-1889632800@stmaryparish.net
SUMMARY:Mass (St Mary)
DESCRIPTION:
URL:https://stmaryparish.net/event/mass-st-mary/2029-11-17/
LOCATION:WI
END:VEVENT
BEGIN:VEVENT
DTSTART;TZID=America/New_York:20291119T080000
DTEND;TZID=America/New_York:20291119T083000
DTSTAMP:20260419T212825
CREATED:20241031T184422Z
LAST-MODIFIED:20241031T184422Z
UID:10022754-1889769600-1889771400@stmaryparish.net
SUMMARY:Mass (St Anthony)
DESCRIPTION:
URL:https://stmaryparish.net/event/mass-st-anthony-4/2029-11-19/
LOCATION:WI
END:VEVENT
BEGIN:VEVENT
DTSTART;TZID=America/New_York:20291119T120000
DTEND;TZID=America/New_York:20291119T123000
DTSTAMP:20260419T212825
CREATED:20241031T185431Z
LAST-MODIFIED:20241031T185431Z
UID:10022572-1889784000-1889785800@stmaryparish.net
SUMMARY:Confessions (St Mary)
DESCRIPTION:
URL:https://stmaryparish.net/event/confessions-st-mary/2029-11-19/
LOCATION:WI
END:VEVENT
BEGIN:VEVENT
DTSTART;TZID=America/New_York:20291119T170000
DTEND;TZID=America/New_York:20291119T173000
DTSTAMP:20260419T212825
CREATED:20240108T130904Z
LAST-MODIFIED:20250429T145934Z
UID:10010950-1889802000-1889803800@stmaryparish.net
SUMMARY:Confession (St. Anthony)
DESCRIPTION:The Sacrament of Reconciliation is offered daily during the week\, at 5 pm\, or by appointment\, at St. Anthony in the Church.
URL:https://stmaryparish.net/event/confessions-5-2/2029-11-19/
LOCATION:St. Anthony Church\, N74W13604 Appleton Avenue\, Menomonee Falls\,\, WI\, 53051\, United States
CATEGORIES:St. Anthony Parish
END:VEVENT
BEGIN:VEVENT
DTSTART;TZID=America/New_York:20291119T190000
DTEND;TZID=America/New_York:20291119T203000
DTSTAMP:20260419T212825
CREATED:20250905T185422Z
LAST-MODIFIED:20250905T185615Z
UID:10023118-1889809200-1889814600@stmaryparish.net
SUMMARY:Men's Group
DESCRIPTION:The Men’s Group meets Mondays from 7–8:30 pm (starting Sept. 15) at St. Anthony Parish. The Men’s group meets to strengthen each other to be Catholic men. We will launch our first meeting of the fall with a cookout behind St. Anthony Church.  All men are welcome. \nEmail Marty at martin.dybicz@gmail.com for details. \nMeetings take place at St. Anthony campus in the school building (Chesterton Academy — Commons)\, unless otherwise noted.
URL:https://stmaryparish.net/event/mens-group/2029-11-19/
LOCATION:St. Anthony Church\, N74W13604 Appleton Avenue\, Menomonee Falls\,\, WI\, 53051\, United States
END:VEVENT
BEGIN:VEVENT
DTSTART;TZID=America/New_York:20291120T063000
DTEND;TZID=America/New_York:20291120T070000
DTSTAMP:20260419T212825
CREATED:20241031T185031Z
LAST-MODIFIED:20241031T185031Z
UID:10022639-1889850600-1889852400@stmaryparish.net
SUMMARY:Mass (St Mary)
DESCRIPTION:
URL:https://stmaryparish.net/event/mass-st-mary-4/2029-11-20/
LOCATION:WI
END:VEVENT
BEGIN:VEVENT
DTSTART;TZID=America/New_York:20291120T120000
DTEND;TZID=America/New_York:20291120T123000
DTSTAMP:20260419T212825
CREATED:20241213T180235Z
LAST-MODIFIED:20241213T180235Z
UID:10021968-1889870400-1889872200@stmaryparish.net
SUMMARY:Confessions (St Mary)
DESCRIPTION:
URL:https://stmaryparish.net/event/confessions-st-mary-2-2/2029-11-20/
LOCATION:WI
END:VEVENT
BEGIN:VEVENT
DTSTART;TZID=America/New_York:20291120T170000
DTEND;TZID=America/New_York:20291120T173000
DTSTAMP:20260419T212825
CREATED:20241213T190819Z
LAST-MODIFIED:20250414T214653Z
UID:10022008-1889888400-1889890200@stmaryparish.net
SUMMARY:Confessions (St. Anthony)
DESCRIPTION:
URL:https://stmaryparish.net/event/confessions-st-anthony-9/2029-11-20/
LOCATION:WI
END:VEVENT
BEGIN:VEVENT
DTSTART;TZID=America/New_York:20291120T183000
DTEND;TZID=America/New_York:20291120T200000
DTSTAMP:20260419T212825
CREATED:20250304T210741Z
LAST-MODIFIED:20250905T191308Z
UID:10022349-1889893800-1889899200@stmaryparish.net
SUMMARY:Human Concerns (St. Mary)
DESCRIPTION:St Mary Human Concerns Committee meets monthly to facilitate the outreach ministries of the parish by addressing social justice issues and increasing charity and stewardship awareness through support of emergency shelters\, pro-life non-profits\, and others as designated. \nContact: Bob Jung\, bobjung@ritehite.com \n 
URL:https://stmaryparish.net/event/human-concerns-5-2/2029-11-20/
LOCATION:St. Mary Parish Office\, n89W16297 Cleveland Ave.\, Menomonee Falls\, 53051\, United States
CATEGORIES:St. Mary Parish
END:VEVENT
BEGIN:VEVENT
DTSTART;TZID=America/New_York:20291120T200000
DTEND;TZID=America/New_York:20291120T213000
DTSTAMP:20260419T212825
CREATED:20240830T130531Z
LAST-MODIFIED:20251118T165858Z
UID:10023611-1889899200-1889904600@stmaryparish.net
SUMMARY:ADAM (St. Mary)
DESCRIPTION:A.D.A.M\, (Addressing Domestic Abuse Ministry) is an advocacy group that addresses the nature of domestic violence through education\, supportive connections\, and prayer in collaboration with community resources.  The goal of the ministry is to promote healthy relationships in the body of Christ\, remaining faithful to the Catholic Church teachings and pastoral directives. We meet monthly on the third Tuesday. \nLocation: St. Mary Church\, St. Therese room \nContact: Monika Wiese\, monika-wiese@wi.rr.com \n 
URL:https://stmaryparish.net/event/6429/2029-11-20/
LOCATION:St. Mary Church\, N89W16297 Cleveland Avenue\, Menomonee Falls\,\, WI\, 53051\, United States
CATEGORIES:St. Anthony Parish,St. Mary Parish
END:VEVENT
BEGIN:VEVENT
DTSTART;TZID=America/New_York:20291121T080000
DTEND;TZID=America/New_York:20291121T083000
DTSTAMP:20260419T212825
CREATED:20241031T184609Z
LAST-MODIFIED:20241031T184609Z
UID:10022033-1889942400-1889944200@stmaryparish.net
SUMMARY:Mass (St Anthony)
DESCRIPTION:
URL:https://stmaryparish.net/event/mass-st-anthony-6/2029-11-21/
LOCATION:WI
END:VEVENT
BEGIN:VEVENT
DTSTART;TZID=America/New_York:20291121T081000
DTEND;TZID=America/New_York:20291121T084500
DTSTAMP:20260419T212825
CREATED:20250428T205453Z
LAST-MODIFIED:20250428T205454Z
UID:10022039-1889943000-1889945100@stmaryparish.net
SUMMARY:Mass (St Mary)
DESCRIPTION:
URL:https://stmaryparish.net/event/mass-st-mary-5-2/2029-11-21/
LOCATION:WI
END:VEVENT
BEGIN:VEVENT
DTSTART;TZID=America/New_York:20291121T120000
DTEND;TZID=America/New_York:20291121T123000
DTSTAMP:20260419T212825
CREATED:20241031T185919Z
LAST-MODIFIED:20250304T204847Z
UID:10022015-1889956800-1889958600@stmaryparish.net
SUMMARY:Confessions (St Mary)
DESCRIPTION:
URL:https://stmaryparish.net/event/confessions-st-mary-3/2029-11-21/
LOCATION:WI
END:VEVENT
END:VCALENDAR