BEGIN:VCALENDAR
VERSION:2.0
PRODID:-//St. Anthony and St. Mary Parishes - ECPv6.15.20//NONSGML v1.0//EN
CALSCALE:GREGORIAN
METHOD:PUBLISH
X-WR-CALNAME:St. Anthony and St. Mary Parishes
X-ORIGINAL-URL:https://stmaryparish.net
X-WR-CALDESC:Events for St. Anthony and St. Mary Parishes
REFRESH-INTERVAL;VALUE=DURATION:PT1H
X-Robots-Tag:noindex
X-PUBLISHED-TTL:PT1H
BEGIN:VTIMEZONE
TZID:America/New_York
BEGIN:DAYLIGHT
TZOFFSETFROM:-0500
TZOFFSETTO:-0400
TZNAME:EDT
DTSTART:20290311T070000
END:DAYLIGHT
BEGIN:STANDARD
TZOFFSETFROM:-0400
TZOFFSETTO:-0500
TZNAME:EST
DTSTART:20291104T060000
END:STANDARD
BEGIN:DAYLIGHT
TZOFFSETFROM:-0500
TZOFFSETTO:-0400
TZNAME:EDT
DTSTART:20300310T070000
END:DAYLIGHT
BEGIN:STANDARD
TZOFFSETFROM:-0400
TZOFFSETTO:-0500
TZNAME:EST
DTSTART:20301103T060000
END:STANDARD
BEGIN:DAYLIGHT
TZOFFSETFROM:-0500
TZOFFSETTO:-0400
TZNAME:EDT
DTSTART:20310309T070000
END:DAYLIGHT
BEGIN:STANDARD
TZOFFSETFROM:-0400
TZOFFSETTO:-0500
TZNAME:EST
DTSTART:20311102T060000
END:STANDARD
END:VTIMEZONE
BEGIN:VTIMEZONE
TZID:America/New_York
BEGIN:DAYLIGHT
TZOFFSETFROM:-0500
TZOFFSETTO:-0400
TZNAME:EDT
DTSTART:20290311T070000
END:DAYLIGHT
BEGIN:STANDARD
TZOFFSETFROM:-0400
TZOFFSETTO:-0500
TZNAME:EST
DTSTART:20291104T060000
END:STANDARD
BEGIN:DAYLIGHT
TZOFFSETFROM:-0500
TZOFFSETTO:-0400
TZNAME:EDT
DTSTART:20300310T070000
END:DAYLIGHT
BEGIN:STANDARD
TZOFFSETFROM:-0400
TZOFFSETTO:-0500
TZNAME:EST
DTSTART:20301103T060000
END:STANDARD
BEGIN:DAYLIGHT
TZOFFSETFROM:-0500
TZOFFSETTO:-0400
TZNAME:EDT
DTSTART:20310309T070000
END:DAYLIGHT
BEGIN:STANDARD
TZOFFSETFROM:-0400
TZOFFSETTO:-0500
TZNAME:EST
DTSTART:20311102T060000
END:STANDARD
END:VTIMEZONE
BEGIN:VEVENT
DTSTART;TZID=America/New_York:20301101T084500
DTEND;TZID=America/New_York:20301101T110000
DTSTAMP:20260422T180901
CREATED:20240830T115554Z
LAST-MODIFIED:20251009T144948Z
UID:10023497-1919753100-1919761200@stmaryparish.net
SUMMARY:Women's Faith Study Group
DESCRIPTION:The Women’s Faith Study Group will kick off the next session on  Sept. 5. The group meets from 8:45 am to 11 am at St. Anthony in the lower level of the St. Therese Formation Center (St. Joseph Adoration Chapel building). Child care is not currently offered.  For information\, email Mary Beth at marywitzlib@gmail.com
URL:https://stmaryparish.net/event/womens-faith-study-group-2-2-2/2030-11-01/
LOCATION:St. Therese Formation Center\, N74 W13604 Appleton Ave\, Menomonee Falls\, WI\, 53051
CATEGORIES:St. Anthony Parish,St. Mary Parish
END:VEVENT
BEGIN:VEVENT
DTSTART;TZID=America/New_York:20301101T081000
DTEND;TZID=America/New_York:20301101T084000
DTSTAMP:20260422T180901
CREATED:20241031T191510Z
LAST-MODIFIED:20241031T191852Z
UID:10023863-1919751000-1919752800@stmaryparish.net
SUMMARY:Mass (St Mary)
DESCRIPTION:
URL:https://stmaryparish.net/event/mass-st-mary-8/2030-11-01/
LOCATION:WI
END:VEVENT
BEGIN:VEVENT
DTSTART;TZID=America/New_York:20301101T080000
DTEND;TZID=America/New_York:20301101T083000
DTSTAMP:20260422T180901
CREATED:20241031T184838Z
LAST-MODIFIED:20241031T184838Z
UID:10023822-1919750400-1919752200@stmaryparish.net
SUMMARY:Mass (St Anthony)
DESCRIPTION:
URL:https://stmaryparish.net/event/mass-st-anthony-8/2030-11-01/
LOCATION:WI
END:VEVENT
BEGIN:VEVENT
DTSTART;TZID=America/New_York:20301031T121000
DTEND;TZID=America/New_York:20301031T124500
DTSTAMP:20260422T180901
CREATED:20241031T185234Z
LAST-MODIFIED:20241031T185234Z
UID:10023491-1919679000-1919681100@stmaryparish.net
SUMMARY:Mass (St Mary)
DESCRIPTION:
URL:https://stmaryparish.net/event/mass-st-mary-6/2030-10-31/
LOCATION:WI
END:VEVENT
BEGIN:VEVENT
DTSTART;TZID=America/New_York:20301031T080000
DTEND;TZID=America/New_York:20301031T083000
DTSTAMP:20260422T180901
CREATED:20250612T170511Z
LAST-MODIFIED:20250612T170512Z
UID:10023460-1919664000-1919665800@stmaryparish.net
SUMMARY:Mass (St Anthony)
DESCRIPTION:
URL:https://stmaryparish.net/event/mass-st-anthony-7-2-2/2030-10-31/
LOCATION:WI
END:VEVENT
BEGIN:VEVENT
DTSTART;TZID=America/New_York:20301030T170000
DTEND;TZID=America/New_York:20301030T173000
DTSTAMP:20260422T180901
CREATED:20240312T141801Z
LAST-MODIFIED:20250304T205157Z
UID:10024125-1919610000-1919611800@stmaryparish.net
SUMMARY:Confessions (St. Anthony)
DESCRIPTION:
URL:https://stmaryparish.net/event/confessions-st-anthony-2/2030-10-30/
LOCATION:WI
END:VEVENT
BEGIN:VEVENT
DTSTART;TZID=America/New_York:20301030T120000
DTEND;TZID=America/New_York:20301030T123000
DTSTAMP:20260422T180901
CREATED:20241031T185919Z
LAST-MODIFIED:20250304T204847Z
UID:10023687-1919592000-1919593800@stmaryparish.net
SUMMARY:Confessions (St Mary)
DESCRIPTION:
URL:https://stmaryparish.net/event/confessions-st-mary-3/2030-10-30/
LOCATION:WI
END:VEVENT
BEGIN:VEVENT
DTSTART;TZID=America/New_York:20301029T170000
DTEND;TZID=America/New_York:20301029T173000
DTSTAMP:20260422T180901
CREATED:20241213T190819Z
LAST-MODIFIED:20250414T214653Z
UID:10023652-1919523600-1919525400@stmaryparish.net
SUMMARY:Confessions (St. Anthony)
DESCRIPTION:
URL:https://stmaryparish.net/event/confessions-st-anthony-9/2030-10-29/
LOCATION:WI
END:VEVENT
BEGIN:VEVENT
DTSTART;TZID=America/New_York:20301028T190000
DTEND;TZID=America/New_York:20301028T203000
DTSTAMP:20260422T180901
CREATED:20250905T185422Z
LAST-MODIFIED:20250905T185615Z
UID:10024066-1919444400-1919449800@stmaryparish.net
SUMMARY:Men's Group
DESCRIPTION:The Men’s Group meets Mondays from 7–8:30 pm (starting Sept. 15) at St. Anthony Parish. The Men’s group meets to strengthen each other to be Catholic men. We will launch our first meeting of the fall with a cookout behind St. Anthony Church.  All men are welcome. \nEmail Marty at martin.dybicz@gmail.com for details. \nMeetings take place at St. Anthony campus in the school building (Chesterton Academy — Commons)\, unless otherwise noted.
URL:https://stmaryparish.net/event/mens-group/2030-10-28/
LOCATION:St. Anthony Church\, N74W13604 Appleton Avenue\, Menomonee Falls\,\, WI\, 53051\, United States
END:VEVENT
BEGIN:VEVENT
DTSTART;TZID=America/New_York:20301028T120000
DTEND;TZID=America/New_York:20301028T123000
DTSTAMP:20260422T180901
CREATED:20241031T185431Z
LAST-MODIFIED:20241031T185431Z
UID:10023545-1919419200-1919421000@stmaryparish.net
SUMMARY:Confessions (St Mary)
DESCRIPTION:
URL:https://stmaryparish.net/event/confessions-st-mary/2030-10-28/
LOCATION:WI
END:VEVENT
BEGIN:VEVENT
DTSTART;TZID=America/New_York:20301026T170000
DTEND;TZID=America/New_York:20301026T180000
DTSTAMP:20260422T180901
CREATED:20241031T182149Z
LAST-MODIFIED:20241031T183232Z
UID:10023993-1919264400-1919268000@stmaryparish.net
SUMMARY:Mass (St Mary)
DESCRIPTION:
URL:https://stmaryparish.net/event/mass-st-mary/2030-10-26/
LOCATION:WI
END:VEVENT
BEGIN:VEVENT
DTSTART;TZID=America/New_York:20301026T163000
DTEND;TZID=America/New_York:20301026T173000
DTSTAMP:20260422T180901
CREATED:20241031T182115Z
LAST-MODIFIED:20241031T182115Z
UID:10024039-1919262600-1919266200@stmaryparish.net
SUMMARY:Mass (St Anthony)
DESCRIPTION:
URL:https://stmaryparish.net/event/mass-st-anthony-2/2030-10-26/
LOCATION:WI
END:VEVENT
BEGIN:VEVENT
DTSTART;TZID=America/New_York:20301026T080000
DTEND;TZID=America/New_York:20301026T083000
DTSTAMP:20260422T180901
CREATED:20241031T185838Z
LAST-MODIFIED:20241031T185838Z
UID:10023947-1919232000-1919233800@stmaryparish.net
SUMMARY:Mass (St Mary)
DESCRIPTION:
URL:https://stmaryparish.net/event/mass-st-mary-7/2030-10-26/
LOCATION:WI
END:VEVENT
BEGIN:VEVENT
DTSTART;TZID=America/New_York:20301025T120000
DTEND;TZID=America/New_York:20301025T123000
DTSTAMP:20260422T180901
CREATED:20241031T192332Z
LAST-MODIFIED:20241031T192350Z
UID:10023522-1919160000-1919161800@stmaryparish.net
SUMMARY:Confessions (St Mary)
DESCRIPTION:
URL:https://stmaryparish.net/event/confessions-st-mary-5/2030-10-25/
LOCATION:WI
END:VEVENT
BEGIN:VEVENT
DTSTART;TZID=America/New_York:20301025T084500
DTEND;TZID=America/New_York:20301025T110000
DTSTAMP:20260422T180901
CREATED:20240830T115554Z
LAST-MODIFIED:20251009T144948Z
UID:10023496-1919148300-1919156400@stmaryparish.net
SUMMARY:Women's Faith Study Group
DESCRIPTION:The Women’s Faith Study Group will kick off the next session on  Sept. 5. The group meets from 8:45 am to 11 am at St. Anthony in the lower level of the St. Therese Formation Center (St. Joseph Adoration Chapel building). Child care is not currently offered.  For information\, email Mary Beth at marywitzlib@gmail.com
URL:https://stmaryparish.net/event/womens-faith-study-group-2-2-2/2030-10-25/
LOCATION:St. Therese Formation Center\, N74 W13604 Appleton Ave\, Menomonee Falls\, WI\, 53051
CATEGORIES:St. Anthony Parish,St. Mary Parish
END:VEVENT
BEGIN:VEVENT
DTSTART;TZID=America/New_York:20301025T081000
DTEND;TZID=America/New_York:20301025T084000
DTSTAMP:20260422T180901
CREATED:20241031T191510Z
LAST-MODIFIED:20241031T191852Z
UID:10023862-1919146200-1919148000@stmaryparish.net
SUMMARY:Mass (St Mary)
DESCRIPTION:
URL:https://stmaryparish.net/event/mass-st-mary-8/2030-10-25/
LOCATION:WI
END:VEVENT
BEGIN:VEVENT
DTSTART;TZID=America/New_York:20301025T080000
DTEND;TZID=America/New_York:20301025T083000
DTSTAMP:20260422T180901
CREATED:20241031T184838Z
LAST-MODIFIED:20241031T184838Z
UID:10023821-1919145600-1919147400@stmaryparish.net
SUMMARY:Mass (St Anthony)
DESCRIPTION:
URL:https://stmaryparish.net/event/mass-st-anthony-8/2030-10-25/
LOCATION:WI
END:VEVENT
BEGIN:VEVENT
DTSTART;TZID=America/New_York:20301024T121000
DTEND;TZID=America/New_York:20301024T124500
DTSTAMP:20260422T180901
CREATED:20241031T185234Z
LAST-MODIFIED:20241031T185234Z
UID:10023490-1919074200-1919076300@stmaryparish.net
SUMMARY:Mass (St Mary)
DESCRIPTION:
URL:https://stmaryparish.net/event/mass-st-mary-6/2030-10-24/
LOCATION:WI
END:VEVENT
BEGIN:VEVENT
DTSTART;TZID=America/New_York:20301024T080000
DTEND;TZID=America/New_York:20301024T083000
DTSTAMP:20260422T180901
CREATED:20250612T170511Z
LAST-MODIFIED:20250612T170512Z
UID:10023459-1919059200-1919061000@stmaryparish.net
SUMMARY:Mass (St Anthony)
DESCRIPTION:
URL:https://stmaryparish.net/event/mass-st-anthony-7-2-2/2030-10-24/
LOCATION:WI
END:VEVENT
BEGIN:VEVENT
DTSTART;TZID=America/New_York:20301023T170000
DTEND;TZID=America/New_York:20301023T173000
DTSTAMP:20260422T180901
CREATED:20240312T141801Z
LAST-MODIFIED:20250304T205157Z
UID:10024124-1919005200-1919007000@stmaryparish.net
SUMMARY:Confessions (St. Anthony)
DESCRIPTION:
URL:https://stmaryparish.net/event/confessions-st-anthony-2/2030-10-23/
LOCATION:WI
END:VEVENT
BEGIN:VEVENT
DTSTART;TZID=America/New_York:20301023T120000
DTEND;TZID=America/New_York:20301023T123000
DTSTAMP:20260422T180901
CREATED:20241031T185919Z
LAST-MODIFIED:20250304T204847Z
UID:10023686-1918987200-1918989000@stmaryparish.net
SUMMARY:Confessions (St Mary)
DESCRIPTION:
URL:https://stmaryparish.net/event/confessions-st-mary-3/2030-10-23/
LOCATION:WI
END:VEVENT
BEGIN:VEVENT
DTSTART;TZID=America/New_York:20301022T170000
DTEND;TZID=America/New_York:20301022T180000
DTSTAMP:20260422T180901
CREATED:20250415T140218Z
LAST-MODIFIED:20251118T160533Z
UID:10023532-1918918800-1918922400@stmaryparish.net
SUMMARY:StA Pastoral Council
DESCRIPTION:Pastoral Council: The Pastoral Council strives to build a community of disciples who recognize their baptismal lives of holiness and service\, taking into account all the needs and priorities of the parishioners.Parishioners are welcome to attend and observe. Meeting dates and times are on the parish calendar.   \nLocation: Lower level of the St. Therese Formation Center \nContact: Gail Shinkle\, shinkleg@stam.church \n 
URL:https://stmaryparish.net/event/pastoral-council-3/2030-10-22/
LOCATION:St. Therese Formation Center\, N74 W13604 Appleton Ave\, Menomonee Falls\, WI\, 53051
CATEGORIES:St. Anthony Parish
END:VEVENT
BEGIN:VEVENT
DTSTART;TZID=America/New_York:20301022T170000
DTEND;TZID=America/New_York:20301022T173000
DTSTAMP:20260422T180901
CREATED:20241213T190819Z
LAST-MODIFIED:20250414T214653Z
UID:10023651-1918918800-1918920600@stmaryparish.net
SUMMARY:Confessions (St. Anthony)
DESCRIPTION:
URL:https://stmaryparish.net/event/confessions-st-anthony-9/2030-10-22/
LOCATION:WI
END:VEVENT
BEGIN:VEVENT
DTSTART;TZID=America/New_York:20301021T190000
DTEND;TZID=America/New_York:20301021T203000
DTSTAMP:20260422T180901
CREATED:20250905T185422Z
LAST-MODIFIED:20250905T185615Z
UID:10024065-1918839600-1918845000@stmaryparish.net
SUMMARY:Men's Group
DESCRIPTION:The Men’s Group meets Mondays from 7–8:30 pm (starting Sept. 15) at St. Anthony Parish. The Men’s group meets to strengthen each other to be Catholic men. We will launch our first meeting of the fall with a cookout behind St. Anthony Church.  All men are welcome. \nEmail Marty at martin.dybicz@gmail.com for details. \nMeetings take place at St. Anthony campus in the school building (Chesterton Academy — Commons)\, unless otherwise noted.
URL:https://stmaryparish.net/event/mens-group/2030-10-21/
LOCATION:St. Anthony Church\, N74W13604 Appleton Avenue\, Menomonee Falls\,\, WI\, 53051\, United States
END:VEVENT
BEGIN:VEVENT
DTSTART;TZID=America/New_York:20301021T170000
DTEND;TZID=America/New_York:20301021T173000
DTSTAMP:20260422T180901
CREATED:20240108T130904Z
LAST-MODIFIED:20250429T145934Z
UID:10011190-1918832400-1918834200@stmaryparish.net
SUMMARY:Confession (St. Anthony)
DESCRIPTION:The Sacrament of Reconciliation is offered daily during the week\, at 5 pm\, or by appointment\, at St. Anthony in the Church.
URL:https://stmaryparish.net/event/confessions-5-2/2030-10-21/
LOCATION:St. Anthony Church\, N74W13604 Appleton Avenue\, Menomonee Falls\,\, WI\, 53051\, United States
CATEGORIES:St. Anthony Parish
END:VEVENT
BEGIN:VEVENT
DTSTART;TZID=America/New_York:20301021T120000
DTEND;TZID=America/New_York:20301021T123000
DTSTAMP:20260422T180901
CREATED:20241031T185431Z
LAST-MODIFIED:20241031T185431Z
UID:10023544-1918814400-1918816200@stmaryparish.net
SUMMARY:Confessions (St Mary)
DESCRIPTION:
URL:https://stmaryparish.net/event/confessions-st-mary/2030-10-21/
LOCATION:WI
END:VEVENT
BEGIN:VEVENT
DTSTART;TZID=America/New_York:20301019T170000
DTEND;TZID=America/New_York:20301019T180000
DTSTAMP:20260422T180901
CREATED:20241031T182149Z
LAST-MODIFIED:20241031T183232Z
UID:10023992-1918659600-1918663200@stmaryparish.net
SUMMARY:Mass (St Mary)
DESCRIPTION:
URL:https://stmaryparish.net/event/mass-st-mary/2030-10-19/
LOCATION:WI
END:VEVENT
BEGIN:VEVENT
DTSTART;TZID=America/New_York:20301019T163000
DTEND;TZID=America/New_York:20301019T173000
DTSTAMP:20260422T180901
CREATED:20241031T182115Z
LAST-MODIFIED:20241031T182115Z
UID:10024038-1918657800-1918661400@stmaryparish.net
SUMMARY:Mass (St Anthony)
DESCRIPTION:
URL:https://stmaryparish.net/event/mass-st-anthony-2/2030-10-19/
LOCATION:WI
END:VEVENT
BEGIN:VEVENT
DTSTART;TZID=America/New_York:20301019T080000
DTEND;TZID=America/New_York:20301019T083000
DTSTAMP:20260422T180901
CREATED:20241031T185838Z
LAST-MODIFIED:20241031T185838Z
UID:10023946-1918627200-1918629000@stmaryparish.net
SUMMARY:Mass (St Mary)
DESCRIPTION:
URL:https://stmaryparish.net/event/mass-st-mary-7/2030-10-19/
LOCATION:WI
END:VEVENT
BEGIN:VEVENT
DTSTART;TZID=America/New_York:20301018T170000
DTEND;TZID=America/New_York:20301018T173000
DTSTAMP:20260422T180901
CREATED:20240108T130904Z
LAST-MODIFIED:20250429T145934Z
UID:10011189-1918573200-1918575000@stmaryparish.net
SUMMARY:Confession (St. Anthony)
DESCRIPTION:The Sacrament of Reconciliation is offered daily during the week\, at 5 pm\, or by appointment\, at St. Anthony in the Church.
URL:https://stmaryparish.net/event/confessions-5-2/2030-10-18/
LOCATION:St. Anthony Church\, N74W13604 Appleton Avenue\, Menomonee Falls\,\, WI\, 53051\, United States
CATEGORIES:St. Anthony Parish
END:VEVENT
END:VCALENDAR