BEGIN:VCALENDAR
VERSION:2.0
PRODID:-//St. Anthony and St. Mary Parishes - ECPv6.15.20//NONSGML v1.0//EN
CALSCALE:GREGORIAN
METHOD:PUBLISH
X-ORIGINAL-URL:https://stmaryparish.net
X-WR-CALDESC:Events for St. Anthony and St. Mary Parishes
REFRESH-INTERVAL;VALUE=DURATION:PT1H
X-Robots-Tag:noindex
X-PUBLISHED-TTL:PT1H
BEGIN:VTIMEZONE
TZID:America/New_York
BEGIN:DAYLIGHT
TZOFFSETFROM:-0500
TZOFFSETTO:-0400
TZNAME:EDT
DTSTART:20290311T070000
END:DAYLIGHT
BEGIN:STANDARD
TZOFFSETFROM:-0400
TZOFFSETTO:-0500
TZNAME:EST
DTSTART:20291104T060000
END:STANDARD
BEGIN:DAYLIGHT
TZOFFSETFROM:-0500
TZOFFSETTO:-0400
TZNAME:EDT
DTSTART:20300310T070000
END:DAYLIGHT
BEGIN:STANDARD
TZOFFSETFROM:-0400
TZOFFSETTO:-0500
TZNAME:EST
DTSTART:20301103T060000
END:STANDARD
BEGIN:DAYLIGHT
TZOFFSETFROM:-0500
TZOFFSETTO:-0400
TZNAME:EDT
DTSTART:20310309T070000
END:DAYLIGHT
BEGIN:STANDARD
TZOFFSETFROM:-0400
TZOFFSETTO:-0500
TZNAME:EST
DTSTART:20311102T060000
END:STANDARD
END:VTIMEZONE
BEGIN:VTIMEZONE
TZID:America/New_York
BEGIN:DAYLIGHT
TZOFFSETFROM:-0500
TZOFFSETTO:-0400
TZNAME:EDT
DTSTART:20290311T070000
END:DAYLIGHT
BEGIN:STANDARD
TZOFFSETFROM:-0400
TZOFFSETTO:-0500
TZNAME:EST
DTSTART:20291104T060000
END:STANDARD
BEGIN:DAYLIGHT
TZOFFSETFROM:-0500
TZOFFSETTO:-0400
TZNAME:EDT
DTSTART:20300310T070000
END:DAYLIGHT
BEGIN:STANDARD
TZOFFSETFROM:-0400
TZOFFSETTO:-0500
TZNAME:EST
DTSTART:20301103T060000
END:STANDARD
BEGIN:DAYLIGHT
TZOFFSETFROM:-0500
TZOFFSETTO:-0400
TZNAME:EDT
DTSTART:20310309T070000
END:DAYLIGHT
BEGIN:STANDARD
TZOFFSETFROM:-0400
TZOFFSETTO:-0500
TZNAME:EST
DTSTART:20311102T060000
END:STANDARD
END:VTIMEZONE
BEGIN:VEVENT
DTSTART;TZID=America/New_York:20300419T084500
DTEND;TZID=America/New_York:20300419T110000
DTSTAMP:20260420T204424
CREATED:20240830T115554Z
LAST-MODIFIED:20251009T144948Z
UID:10023401-1902818700-1902826800@stmaryparish.net
SUMMARY:Women's Faith Study Group
DESCRIPTION:The Women’s Faith Study Group will kick off the next session on  Sept. 5. The group meets from 8:45 am to 11 am at St. Anthony in the lower level of the St. Therese Formation Center (St. Joseph Adoration Chapel building). Child care is not currently offered.  For information\, email Mary Beth at marywitzlib@gmail.com
URL:https://stmaryparish.net/event/womens-faith-study-group-2-2-2/2030-04-19/
LOCATION:St. Therese Formation Center\, N74 W13604 Appleton Ave\, Menomonee Falls\, WI\, 53051
CATEGORIES:St. Anthony Parish,St. Mary Parish
END:VEVENT
BEGIN:VEVENT
DTSTART;TZID=America/New_York:20300419T120000
DTEND;TZID=America/New_York:20300419T123000
DTSTAMP:20260420T204424
CREATED:20241031T192332Z
LAST-MODIFIED:20241031T192350Z
UID:10022798-1902830400-1902832200@stmaryparish.net
SUMMARY:Confessions (St Mary)
DESCRIPTION:
URL:https://stmaryparish.net/event/confessions-st-mary-5/2030-04-19/
LOCATION:WI
END:VEVENT
BEGIN:VEVENT
DTSTART;TZID=America/New_York:20300419T170000
DTEND;TZID=America/New_York:20300419T173000
DTSTAMP:20260420T204424
CREATED:20240108T130904Z
LAST-MODIFIED:20250429T145934Z
UID:10011059-1902848400-1902850200@stmaryparish.net
SUMMARY:Confession (St. Anthony)
DESCRIPTION:The Sacrament of Reconciliation is offered daily during the week\, at 5 pm\, or by appointment\, at St. Anthony in the Church.
URL:https://stmaryparish.net/event/confessions-5-2/2030-04-19/
LOCATION:St. Anthony Church\, N74W13604 Appleton Avenue\, Menomonee Falls\,\, WI\, 53051\, United States
CATEGORIES:St. Anthony Parish
END:VEVENT
BEGIN:VEVENT
DTSTART;TZID=America/New_York:20300420T080000
DTEND;TZID=America/New_York:20300420T083000
DTSTAMP:20260420T204424
CREATED:20241031T185838Z
LAST-MODIFIED:20241031T185838Z
UID:10023920-1902902400-1902904200@stmaryparish.net
SUMMARY:Mass (St Mary)
DESCRIPTION:
URL:https://stmaryparish.net/event/mass-st-mary-7/2030-04-20/
LOCATION:WI
END:VEVENT
BEGIN:VEVENT
DTSTART;TZID=America/New_York:20300420T163000
DTEND;TZID=America/New_York:20300420T173000
DTSTAMP:20260420T204424
CREATED:20241031T182115Z
LAST-MODIFIED:20241031T182115Z
UID:10024012-1902933000-1902936600@stmaryparish.net
SUMMARY:Mass (St Anthony)
DESCRIPTION:
URL:https://stmaryparish.net/event/mass-st-anthony-2/2030-04-20/
LOCATION:WI
END:VEVENT
BEGIN:VEVENT
DTSTART;TZID=America/New_York:20300420T170000
DTEND;TZID=America/New_York:20300420T180000
DTSTAMP:20260420T204424
CREATED:20241031T182149Z
LAST-MODIFIED:20241031T183232Z
UID:10023966-1902934800-1902938400@stmaryparish.net
SUMMARY:Mass (St Mary)
DESCRIPTION:
URL:https://stmaryparish.net/event/mass-st-mary/2030-04-20/
LOCATION:WI
END:VEVENT
BEGIN:VEVENT
DTSTART;TZID=America/New_York:20300422T080000
DTEND;TZID=America/New_York:20300422T083000
DTSTAMP:20260420T204424
CREATED:20241031T184422Z
LAST-MODIFIED:20241031T184422Z
UID:10022776-1903075200-1903077000@stmaryparish.net
SUMMARY:Mass (St Anthony)
DESCRIPTION:
URL:https://stmaryparish.net/event/mass-st-anthony-4/2030-04-22/
LOCATION:WI
END:VEVENT
BEGIN:VEVENT
DTSTART;TZID=America/New_York:20300422T120000
DTEND;TZID=America/New_York:20300422T123000
DTSTAMP:20260420T204424
CREATED:20241031T185431Z
LAST-MODIFIED:20241031T185431Z
UID:10022782-1903089600-1903091400@stmaryparish.net
SUMMARY:Confessions (St Mary)
DESCRIPTION:
URL:https://stmaryparish.net/event/confessions-st-mary/2030-04-22/
LOCATION:WI
END:VEVENT
BEGIN:VEVENT
DTSTART;TZID=America/New_York:20300422T170000
DTEND;TZID=America/New_York:20300422T173000
DTSTAMP:20260420T204424
CREATED:20240108T130904Z
LAST-MODIFIED:20250429T145934Z
UID:10011060-1903107600-1903109400@stmaryparish.net
SUMMARY:Confession (St. Anthony)
DESCRIPTION:The Sacrament of Reconciliation is offered daily during the week\, at 5 pm\, or by appointment\, at St. Anthony in the Church.
URL:https://stmaryparish.net/event/confessions-5-2/2030-04-22/
LOCATION:St. Anthony Church\, N74W13604 Appleton Avenue\, Menomonee Falls\,\, WI\, 53051\, United States
CATEGORIES:St. Anthony Parish
END:VEVENT
BEGIN:VEVENT
DTSTART;TZID=America/New_York:20300422T170000
DTEND;TZID=America/New_York:20300422T180000
DTSTAMP:20260420T204424
CREATED:20250103T192523Z
LAST-MODIFIED:20250103T192524Z
UID:10022790-1903107600-1903111200@stmaryparish.net
SUMMARY:Streetlife Ministry: Meals for the Homeless
DESCRIPTION:Drop off in kitchen in the St. Therese Formation Center (formerly CFC building) \nContact for more information: StAnthonyServes2023@gmail.com \nLunches are collected every 4th Monday of the month. \nStreet Life has requested that lunches be assembled this way:\n\nPlastic grocery bag containing 1 juice box or drink\, 1 bag of chips\, 1 dessert or sweet treat\nKeep these items SEPARATE from the plastic bag – 1 peanut butter and jelly sandwich\, 1 fruit (we have bins to put them in)\n\nMeals for the Homeless: Parishioners from St. Anthony and St. Mary make lunches once a month to support the StreetLife homeless outreach programs in Milwaukee. They also collect other items as requested. \n 
URL:https://stmaryparish.net/event/st-anthony-serves-cfc-kitchen-3-2/2030-04-22/
LOCATION:St. Therese Formation Center\, N74 W13604 Appleton Ave\, Menomonee Falls\, WI\, 53051
CATEGORIES:St. Anthony Parish
ORGANIZER;CN="Jenell Krause":MAILTO:stanthonyserves2023@gmail.com
END:VEVENT
BEGIN:VEVENT
DTSTART;TZID=America/New_York:20300422T190000
DTEND;TZID=America/New_York:20300422T203000
DTSTAMP:20260420T204424
CREATED:20250905T185422Z
LAST-MODIFIED:20250905T185615Z
UID:10023140-1903114800-1903120200@stmaryparish.net
SUMMARY:Men's Group
DESCRIPTION:The Men’s Group meets Mondays from 7–8:30 pm (starting Sept. 15) at St. Anthony Parish. The Men’s group meets to strengthen each other to be Catholic men. We will launch our first meeting of the fall with a cookout behind St. Anthony Church.  All men are welcome. \nEmail Marty at martin.dybicz@gmail.com for details. \nMeetings take place at St. Anthony campus in the school building (Chesterton Academy — Commons)\, unless otherwise noted.
URL:https://stmaryparish.net/event/mens-group/2030-04-22/
LOCATION:St. Anthony Church\, N74W13604 Appleton Avenue\, Menomonee Falls\,\, WI\, 53051\, United States
END:VEVENT
BEGIN:VEVENT
DTSTART;TZID=America/New_York:20300423T120000
DTEND;TZID=America/New_York:20300423T123000
DTSTAMP:20260420T204424
CREATED:20241213T180235Z
LAST-MODIFIED:20241213T180235Z
UID:10022828-1903176000-1903177800@stmaryparish.net
SUMMARY:Confessions (St Mary)
DESCRIPTION:
URL:https://stmaryparish.net/event/confessions-st-mary-2-2/2030-04-23/
LOCATION:WI
END:VEVENT
BEGIN:VEVENT
DTSTART;TZID=America/New_York:20300423T170000
DTEND;TZID=America/New_York:20300423T173000
DTSTAMP:20260420T204424
CREATED:20241213T190819Z
LAST-MODIFIED:20250414T214653Z
UID:10022748-1903194000-1903195800@stmaryparish.net
SUMMARY:Confessions (St. Anthony)
DESCRIPTION:
URL:https://stmaryparish.net/event/confessions-st-anthony-9/2030-04-23/
LOCATION:WI
END:VEVENT
BEGIN:VEVENT
DTSTART;TZID=America/New_York:20300423T170000
DTEND;TZID=America/New_York:20300423T180000
DTSTAMP:20260420T204424
CREATED:20250415T140218Z
LAST-MODIFIED:20251118T160533Z
UID:10023526-1903194000-1903197600@stmaryparish.net
SUMMARY:StA Pastoral Council
DESCRIPTION:Pastoral Council: The Pastoral Council strives to build a community of disciples who recognize their baptismal lives of holiness and service\, taking into account all the needs and priorities of the parishioners.Parishioners are welcome to attend and observe. Meeting dates and times are on the parish calendar.   \nLocation: Lower level of the St. Therese Formation Center \nContact: Gail Shinkle\, shinkleg@stam.church \n 
URL:https://stmaryparish.net/event/pastoral-council-3/2030-04-23/
LOCATION:St. Therese Formation Center\, N74 W13604 Appleton Ave\, Menomonee Falls\, WI\, 53051
CATEGORIES:St. Anthony Parish
END:VEVENT
BEGIN:VEVENT
DTSTART;TZID=America/New_York:20300424T081000
DTEND;TZID=America/New_York:20300424T084500
DTSTAMP:20260420T204424
CREATED:20250428T205453Z
LAST-MODIFIED:20250428T205454Z
UID:10022746-1903248600-1903250700@stmaryparish.net
SUMMARY:Mass (St Mary)
DESCRIPTION:
URL:https://stmaryparish.net/event/mass-st-mary-5-2/2030-04-24/
LOCATION:WI
END:VEVENT
BEGIN:VEVENT
DTSTART;TZID=America/New_York:20300424T120000
DTEND;TZID=America/New_York:20300424T123000
DTSTAMP:20260420T204424
CREATED:20241031T185919Z
LAST-MODIFIED:20250304T204847Z
UID:10022837-1903262400-1903264200@stmaryparish.net
SUMMARY:Confessions (St Mary)
DESCRIPTION:
URL:https://stmaryparish.net/event/confessions-st-mary-3/2030-04-24/
LOCATION:WI
END:VEVENT
BEGIN:VEVENT
DTSTART;TZID=America/New_York:20300424T170000
DTEND;TZID=America/New_York:20300424T173000
DTSTAMP:20260420T204424
CREATED:20240312T141801Z
LAST-MODIFIED:20250304T205157Z
UID:10024098-1903280400-1903282200@stmaryparish.net
SUMMARY:Confessions (St. Anthony)
DESCRIPTION:
URL:https://stmaryparish.net/event/confessions-st-anthony-2/2030-04-24/
LOCATION:WI
END:VEVENT
BEGIN:VEVENT
DTSTART;TZID=America/New_York:20300425T080000
DTEND;TZID=America/New_York:20300425T083000
DTSTAMP:20260420T204424
CREATED:20250612T170511Z
LAST-MODIFIED:20250612T170512Z
UID:10022852-1903334400-1903336200@stmaryparish.net
SUMMARY:Mass (St Anthony)
DESCRIPTION:
URL:https://stmaryparish.net/event/mass-st-anthony-7-2-2/2030-04-25/
LOCATION:WI
END:VEVENT
BEGIN:VEVENT
DTSTART;TZID=America/New_York:20300425T121000
DTEND;TZID=America/New_York:20300425T124500
DTSTAMP:20260420T204424
CREATED:20241031T185234Z
LAST-MODIFIED:20241031T185234Z
UID:10023464-1903349400-1903351500@stmaryparish.net
SUMMARY:Mass (St Mary)
DESCRIPTION:
URL:https://stmaryparish.net/event/mass-st-mary-6/2030-04-25/
LOCATION:WI
END:VEVENT
BEGIN:VEVENT
DTSTART;TZID=America/New_York:20300425T170000
DTEND;TZID=America/New_York:20300425T173000
DTSTAMP:20260420T204424
CREATED:20240108T130904Z
LAST-MODIFIED:20250429T145934Z
UID:10011063-1903366800-1903368600@stmaryparish.net
SUMMARY:Confession (St. Anthony)
DESCRIPTION:The Sacrament of Reconciliation is offered daily during the week\, at 5 pm\, or by appointment\, at St. Anthony in the Church.
URL:https://stmaryparish.net/event/confessions-5-2/2030-04-25/
LOCATION:St. Anthony Church\, N74W13604 Appleton Avenue\, Menomonee Falls\,\, WI\, 53051\, United States
CATEGORIES:St. Anthony Parish
END:VEVENT
BEGIN:VEVENT
DTSTART;TZID=America/New_York:20300426T080000
DTEND;TZID=America/New_York:20300426T083000
DTSTAMP:20260420T204424
CREATED:20241031T184838Z
LAST-MODIFIED:20241031T184838Z
UID:10022809-1903420800-1903422600@stmaryparish.net
SUMMARY:Mass (St Anthony)
DESCRIPTION:
URL:https://stmaryparish.net/event/mass-st-anthony-8/2030-04-26/
LOCATION:WI
END:VEVENT
BEGIN:VEVENT
DTSTART;TZID=America/New_York:20300426T081000
DTEND;TZID=America/New_York:20300426T084000
DTSTAMP:20260420T204424
CREATED:20241031T191510Z
LAST-MODIFIED:20241031T191852Z
UID:10022804-1903421400-1903423200@stmaryparish.net
SUMMARY:Mass (St Mary)
DESCRIPTION:
URL:https://stmaryparish.net/event/mass-st-mary-8/2030-04-26/
LOCATION:WI
END:VEVENT
BEGIN:VEVENT
DTSTART;TZID=America/New_York:20300426T084500
DTEND;TZID=America/New_York:20300426T110000
DTSTAMP:20260420T204424
CREATED:20240830T115554Z
LAST-MODIFIED:20251009T144948Z
UID:10023402-1903423500-1903431600@stmaryparish.net
SUMMARY:Women's Faith Study Group
DESCRIPTION:The Women’s Faith Study Group will kick off the next session on  Sept. 5. The group meets from 8:45 am to 11 am at St. Anthony in the lower level of the St. Therese Formation Center (St. Joseph Adoration Chapel building). Child care is not currently offered.  For information\, email Mary Beth at marywitzlib@gmail.com
URL:https://stmaryparish.net/event/womens-faith-study-group-2-2-2/2030-04-26/
LOCATION:St. Therese Formation Center\, N74 W13604 Appleton Ave\, Menomonee Falls\, WI\, 53051
CATEGORIES:St. Anthony Parish,St. Mary Parish
END:VEVENT
BEGIN:VEVENT
DTSTART;TZID=America/New_York:20300426T120000
DTEND;TZID=America/New_York:20300426T123000
DTSTAMP:20260420T204424
CREATED:20241031T192332Z
LAST-MODIFIED:20241031T192350Z
UID:10022799-1903435200-1903437000@stmaryparish.net
SUMMARY:Confessions (St Mary)
DESCRIPTION:
URL:https://stmaryparish.net/event/confessions-st-mary-5/2030-04-26/
LOCATION:WI
END:VEVENT
BEGIN:VEVENT
DTSTART;TZID=America/New_York:20300426T170000
DTEND;TZID=America/New_York:20300426T173000
DTSTAMP:20260420T204424
CREATED:20240108T130904Z
LAST-MODIFIED:20250429T145934Z
UID:10011064-1903453200-1903455000@stmaryparish.net
SUMMARY:Confession (St. Anthony)
DESCRIPTION:The Sacrament of Reconciliation is offered daily during the week\, at 5 pm\, or by appointment\, at St. Anthony in the Church.
URL:https://stmaryparish.net/event/confessions-5-2/2030-04-26/
LOCATION:St. Anthony Church\, N74W13604 Appleton Avenue\, Menomonee Falls\,\, WI\, 53051\, United States
CATEGORIES:St. Anthony Parish
END:VEVENT
BEGIN:VEVENT
DTSTART;TZID=America/New_York:20300427T080000
DTEND;TZID=America/New_York:20300427T083000
DTSTAMP:20260420T204424
CREATED:20241031T185838Z
LAST-MODIFIED:20241031T185838Z
UID:10023921-1903507200-1903509000@stmaryparish.net
SUMMARY:Mass (St Mary)
DESCRIPTION:
URL:https://stmaryparish.net/event/mass-st-mary-7/2030-04-27/
LOCATION:WI
END:VEVENT
BEGIN:VEVENT
DTSTART;TZID=America/New_York:20300427T163000
DTEND;TZID=America/New_York:20300427T173000
DTSTAMP:20260420T204424
CREATED:20241031T182115Z
LAST-MODIFIED:20241031T182115Z
UID:10024013-1903537800-1903541400@stmaryparish.net
SUMMARY:Mass (St Anthony)
DESCRIPTION:
URL:https://stmaryparish.net/event/mass-st-anthony-2/2030-04-27/
LOCATION:WI
END:VEVENT
BEGIN:VEVENT
DTSTART;TZID=America/New_York:20300427T170000
DTEND;TZID=America/New_York:20300427T180000
DTSTAMP:20260420T204424
CREATED:20241031T182149Z
LAST-MODIFIED:20241031T183232Z
UID:10023967-1903539600-1903543200@stmaryparish.net
SUMMARY:Mass (St Mary)
DESCRIPTION:
URL:https://stmaryparish.net/event/mass-st-mary/2030-04-27/
LOCATION:WI
END:VEVENT
BEGIN:VEVENT
DTSTART;TZID=America/New_York:20300429T080000
DTEND;TZID=America/New_York:20300429T083000
DTSTAMP:20260420T204424
CREATED:20241031T184422Z
LAST-MODIFIED:20241031T184422Z
UID:10022777-1903680000-1903681800@stmaryparish.net
SUMMARY:Mass (St Anthony)
DESCRIPTION:
URL:https://stmaryparish.net/event/mass-st-anthony-4/2030-04-29/
LOCATION:WI
END:VEVENT
BEGIN:VEVENT
DTSTART;TZID=America/New_York:20300429T120000
DTEND;TZID=America/New_York:20300429T123000
DTSTAMP:20260420T204424
CREATED:20241031T185431Z
LAST-MODIFIED:20241031T185431Z
UID:10022783-1903694400-1903696200@stmaryparish.net
SUMMARY:Confessions (St Mary)
DESCRIPTION:
URL:https://stmaryparish.net/event/confessions-st-mary/2030-04-29/
LOCATION:WI
END:VEVENT
END:VCALENDAR