BEGIN:VCALENDAR
VERSION:2.0
PRODID:-//St. Anthony and St. Mary Parishes - ECPv6.15.20//NONSGML v1.0//EN
CALSCALE:GREGORIAN
METHOD:PUBLISH
X-WR-CALNAME:St. Anthony and St. Mary Parishes
X-ORIGINAL-URL:https://stmaryparish.net
X-WR-CALDESC:Events for St. Anthony and St. Mary Parishes
REFRESH-INTERVAL;VALUE=DURATION:PT1H
X-Robots-Tag:noindex
X-PUBLISHED-TTL:PT1H
BEGIN:VTIMEZONE
TZID:America/New_York
BEGIN:DAYLIGHT
TZOFFSETFROM:-0500
TZOFFSETTO:-0400
TZNAME:EDT
DTSTART:20290311T070000
END:DAYLIGHT
BEGIN:STANDARD
TZOFFSETFROM:-0400
TZOFFSETTO:-0500
TZNAME:EST
DTSTART:20291104T060000
END:STANDARD
BEGIN:DAYLIGHT
TZOFFSETFROM:-0500
TZOFFSETTO:-0400
TZNAME:EDT
DTSTART:20300310T070000
END:DAYLIGHT
BEGIN:STANDARD
TZOFFSETFROM:-0400
TZOFFSETTO:-0500
TZNAME:EST
DTSTART:20301103T060000
END:STANDARD
BEGIN:DAYLIGHT
TZOFFSETFROM:-0500
TZOFFSETTO:-0400
TZNAME:EDT
DTSTART:20310309T070000
END:DAYLIGHT
BEGIN:STANDARD
TZOFFSETFROM:-0400
TZOFFSETTO:-0500
TZNAME:EST
DTSTART:20311102T060000
END:STANDARD
BEGIN:DAYLIGHT
TZOFFSETFROM:-0500
TZOFFSETTO:-0400
TZNAME:EDT
DTSTART:20320314T070000
END:DAYLIGHT
BEGIN:STANDARD
TZOFFSETFROM:-0400
TZOFFSETTO:-0500
TZNAME:EST
DTSTART:20321107T060000
END:STANDARD
END:VTIMEZONE
BEGIN:VTIMEZONE
TZID:America/New_York
BEGIN:DAYLIGHT
TZOFFSETFROM:-0500
TZOFFSETTO:-0400
TZNAME:EDT
DTSTART:20290311T070000
END:DAYLIGHT
BEGIN:STANDARD
TZOFFSETFROM:-0400
TZOFFSETTO:-0500
TZNAME:EST
DTSTART:20291104T060000
END:STANDARD
BEGIN:DAYLIGHT
TZOFFSETFROM:-0500
TZOFFSETTO:-0400
TZNAME:EDT
DTSTART:20300310T070000
END:DAYLIGHT
BEGIN:STANDARD
TZOFFSETFROM:-0400
TZOFFSETTO:-0500
TZNAME:EST
DTSTART:20301103T060000
END:STANDARD
BEGIN:DAYLIGHT
TZOFFSETFROM:-0500
TZOFFSETTO:-0400
TZNAME:EDT
DTSTART:20310309T070000
END:DAYLIGHT
BEGIN:STANDARD
TZOFFSETFROM:-0400
TZOFFSETTO:-0500
TZNAME:EST
DTSTART:20311102T060000
END:STANDARD
BEGIN:DAYLIGHT
TZOFFSETFROM:-0500
TZOFFSETTO:-0400
TZNAME:EDT
DTSTART:20320314T070000
END:DAYLIGHT
BEGIN:STANDARD
TZOFFSETFROM:-0400
TZOFFSETTO:-0500
TZNAME:EST
DTSTART:20321107T060000
END:STANDARD
END:VTIMEZONE
BEGIN:VEVENT
DTSTART;TZID=America/New_York:20301223T190000
DTEND;TZID=America/New_York:20301223T203000
DTSTAMP:20260422T180010
CREATED:20250905T185422Z
LAST-MODIFIED:20250905T185615Z
UID:10024074-1924282800-1924288200@stmaryparish.net
SUMMARY:Men's Group
DESCRIPTION:The Men’s Group meets Mondays from 7–8:30 pm (starting Sept. 15) at St. Anthony Parish. The Men’s group meets to strengthen each other to be Catholic men. We will launch our first meeting of the fall with a cookout behind St. Anthony Church.  All men are welcome. \nEmail Marty at martin.dybicz@gmail.com for details. \nMeetings take place at St. Anthony campus in the school building (Chesterton Academy — Commons)\, unless otherwise noted.
URL:https://stmaryparish.net/event/mens-group/2030-12-23/
LOCATION:St. Anthony Church\, N74W13604 Appleton Avenue\, Menomonee Falls\,\, WI\, 53051\, United States
END:VEVENT
BEGIN:VEVENT
DTSTART;TZID=America/New_York:20301224T170000
DTEND;TZID=America/New_York:20301224T173000
DTSTAMP:20260422T180010
CREATED:20241213T190819Z
LAST-MODIFIED:20250414T214653Z
UID:10023660-1924362000-1924363800@stmaryparish.net
SUMMARY:Confessions (St. Anthony)
DESCRIPTION:
URL:https://stmaryparish.net/event/confessions-st-anthony-9/2030-12-24/
END:VEVENT
BEGIN:VEVENT
DTSTART;TZID=America/New_York:20301225T120000
DTEND;TZID=America/New_York:20301225T123000
DTSTAMP:20260422T180010
CREATED:20241031T185919Z
LAST-MODIFIED:20250304T204847Z
UID:10023695-1924430400-1924432200@stmaryparish.net
SUMMARY:Confessions (St Mary)
DESCRIPTION:
URL:https://stmaryparish.net/event/confessions-st-mary-3/2030-12-25/
END:VEVENT
BEGIN:VEVENT
DTSTART;TZID=America/New_York:20301225T170000
DTEND;TZID=America/New_York:20301225T173000
DTSTAMP:20260422T180010
CREATED:20240312T141801Z
LAST-MODIFIED:20250304T205157Z
UID:10024133-1924448400-1924450200@stmaryparish.net
SUMMARY:Confessions (St. Anthony)
DESCRIPTION:
URL:https://stmaryparish.net/event/confessions-st-anthony-2/2030-12-25/
END:VEVENT
BEGIN:VEVENT
DTSTART;TZID=America/New_York:20301226T080000
DTEND;TZID=America/New_York:20301226T083000
DTSTAMP:20260422T180010
CREATED:20250612T170511Z
LAST-MODIFIED:20250612T170512Z
UID:10023774-1924502400-1924504200@stmaryparish.net
SUMMARY:Mass (St Anthony)
DESCRIPTION:
URL:https://stmaryparish.net/event/mass-st-anthony-7-2-2/2030-12-26/
END:VEVENT
BEGIN:VEVENT
DTSTART;TZID=America/New_York:20301226T121000
DTEND;TZID=America/New_York:20301226T124500
DTSTAMP:20260422T180010
CREATED:20241031T185234Z
LAST-MODIFIED:20241031T185234Z
UID:10023791-1924517400-1924519500@stmaryparish.net
SUMMARY:Mass (St Mary)
DESCRIPTION:
URL:https://stmaryparish.net/event/mass-st-mary-6/2030-12-26/
END:VEVENT
BEGIN:VEVENT
DTSTART;TZID=America/New_York:20301227T080000
DTEND;TZID=America/New_York:20301227T083000
DTSTAMP:20260422T180010
CREATED:20241031T184838Z
LAST-MODIFIED:20241031T184838Z
UID:10023830-1924588800-1924590600@stmaryparish.net
SUMMARY:Mass (St Anthony)
DESCRIPTION:
URL:https://stmaryparish.net/event/mass-st-anthony-8/2030-12-27/
END:VEVENT
BEGIN:VEVENT
DTSTART;TZID=America/New_York:20301227T081000
DTEND;TZID=America/New_York:20301227T084000
DTSTAMP:20260422T180010
CREATED:20241031T191510Z
LAST-MODIFIED:20241031T191852Z
UID:10023871-1924589400-1924591200@stmaryparish.net
SUMMARY:Mass (St Mary)
DESCRIPTION:
URL:https://stmaryparish.net/event/mass-st-mary-8/2030-12-27/
END:VEVENT
BEGIN:VEVENT
DTSTART;TZID=America/New_York:20301227T084500
DTEND;TZID=America/New_York:20301227T110000
DTSTAMP:20260422T180010
CREATED:20240830T115554Z
LAST-MODIFIED:20251009T144948Z
UID:10023886-1924591500-1924599600@stmaryparish.net
SUMMARY:Women's Faith Study Group
DESCRIPTION:The Women’s Faith Study Group will kick off the next session on  Sept. 5. The group meets from 8:45 am to 11 am at St. Anthony in the lower level of the St. Therese Formation Center (St. Joseph Adoration Chapel building). Child care is not currently offered.  For information\, email Mary Beth at marywitzlib@gmail.com
URL:https://stmaryparish.net/event/womens-faith-study-group-2-2-2/2030-12-27/
LOCATION:St. Therese Formation Center\, N74 W13604 Appleton Ave\, Menomonee Falls\, WI\, 53051
CATEGORIES:St. Anthony Parish,St. Mary Parish
END:VEVENT
BEGIN:VEVENT
DTSTART;TZID=America/New_York:20301227T120000
DTEND;TZID=America/New_York:20301227T123000
DTSTAMP:20260422T180010
CREATED:20241031T192332Z
LAST-MODIFIED:20241031T192350Z
UID:10023901-1924603200-1924605000@stmaryparish.net
SUMMARY:Confessions (St Mary)
DESCRIPTION:
URL:https://stmaryparish.net/event/confessions-st-mary-5/2030-12-27/
END:VEVENT
BEGIN:VEVENT
DTSTART;TZID=America/New_York:20301228T080000
DTEND;TZID=America/New_York:20301228T083000
DTSTAMP:20260422T180010
CREATED:20241031T185838Z
LAST-MODIFIED:20241031T185838Z
UID:10023956-1924675200-1924677000@stmaryparish.net
SUMMARY:Mass (St Mary)
DESCRIPTION:
URL:https://stmaryparish.net/event/mass-st-mary-7/2030-12-28/
END:VEVENT
BEGIN:VEVENT
DTSTART;TZID=America/New_York:20301228T163000
DTEND;TZID=America/New_York:20301228T173000
DTSTAMP:20260422T180010
CREATED:20241031T182115Z
LAST-MODIFIED:20241031T182115Z
UID:10024048-1924705800-1924709400@stmaryparish.net
SUMMARY:Mass (St Anthony)
DESCRIPTION:
URL:https://stmaryparish.net/event/mass-st-anthony-2/2030-12-28/
END:VEVENT
BEGIN:VEVENT
DTSTART;TZID=America/New_York:20301228T170000
DTEND;TZID=America/New_York:20301228T180000
DTSTAMP:20260422T180010
CREATED:20241031T182149Z
LAST-MODIFIED:20241031T183232Z
UID:10024002-1924707600-1924711200@stmaryparish.net
SUMMARY:Mass (St Mary)
DESCRIPTION:
URL:https://stmaryparish.net/event/mass-st-mary/2030-12-28/
END:VEVENT
BEGIN:VEVENT
DTSTART;TZID=America/New_York:20301230T190000
DTEND;TZID=America/New_York:20301230T203000
DTSTAMP:20260422T180010
CREATED:20250905T185422Z
LAST-MODIFIED:20250905T185615Z
UID:10024075-1924887600-1924893000@stmaryparish.net
SUMMARY:Men's Group
DESCRIPTION:The Men’s Group meets Mondays from 7–8:30 pm (starting Sept. 15) at St. Anthony Parish. The Men’s group meets to strengthen each other to be Catholic men. We will launch our first meeting of the fall with a cookout behind St. Anthony Church.  All men are welcome. \nEmail Marty at martin.dybicz@gmail.com for details. \nMeetings take place at St. Anthony campus in the school building (Chesterton Academy — Commons)\, unless otherwise noted.
URL:https://stmaryparish.net/event/mens-group/2030-12-30/
LOCATION:St. Anthony Church\, N74W13604 Appleton Avenue\, Menomonee Falls\,\, WI\, 53051\, United States
END:VEVENT
BEGIN:VEVENT
DTSTART;TZID=America/New_York:20301231T170000
DTEND;TZID=America/New_York:20301231T173000
DTSTAMP:20260422T180010
CREATED:20241213T190819Z
LAST-MODIFIED:20250414T214653Z
UID:10023661-1924966800-1924968600@stmaryparish.net
SUMMARY:Confessions (St. Anthony)
DESCRIPTION:
URL:https://stmaryparish.net/event/confessions-st-anthony-9/2030-12-31/
END:VEVENT
BEGIN:VEVENT
DTSTART;TZID=America/New_York:20310101T120000
DTEND;TZID=America/New_York:20310101T123000
DTSTAMP:20260422T180010
CREATED:20241031T185919Z
LAST-MODIFIED:20250304T204847Z
UID:10023696-1925035200-1925037000@stmaryparish.net
SUMMARY:Confessions (St Mary)
DESCRIPTION:
URL:https://stmaryparish.net/event/confessions-st-mary-3/2031-01-01/
END:VEVENT
BEGIN:VEVENT
DTSTART;TZID=America/New_York:20310101T170000
DTEND;TZID=America/New_York:20310101T173000
DTSTAMP:20260422T180010
CREATED:20240312T141801Z
LAST-MODIFIED:20250304T205157Z
UID:10024134-1925053200-1925055000@stmaryparish.net
SUMMARY:Confessions (St. Anthony)
DESCRIPTION:
URL:https://stmaryparish.net/event/confessions-st-anthony-2/2031-01-01/
END:VEVENT
BEGIN:VEVENT
DTSTART;TZID=America/New_York:20310101T190000
DTEND;TZID=America/New_York:20310101T200000
DTSTAMP:20260422T180010
CREATED:20240201T163527Z
LAST-MODIFIED:20250905T191233Z
UID:10023766-1925060400-1925064000@stmaryparish.net
SUMMARY:Human Concerns (St. Anthony)
DESCRIPTION:Human Concerns Committee: The Human Concerns Committee meets monthly to facilitate the outreach ministries of the parish by addressing social justice issues and increasing charity and stewardship awareness through support of emergency shelters\, pro-life non-profits\, and others as designated. HCC also organizes the Christmas Giving Tree and Easter Food Baskets. We meet on the first Wednesday of the month. \nContact: Nancy Schroeder\, nancys0615@gmail.com \nLocation: St. Therese Formation Center – Library
URL:https://stmaryparish.net/event/human-concerns-4/2031-01-01/
LOCATION:St. Therese Formation Center\, N74 W13604 Appleton Ave\, Menomonee Falls\, WI\, 53051
CATEGORIES:St. Anthony Parish
END:VEVENT
BEGIN:VEVENT
DTSTART;TZID=America/New_York:20310102T080000
DTEND;TZID=America/New_York:20310102T083000
DTSTAMP:20260422T180010
CREATED:20250612T170511Z
LAST-MODIFIED:20250612T170512Z
UID:10023775-1925107200-1925109000@stmaryparish.net
SUMMARY:Mass (St Anthony)
DESCRIPTION:
URL:https://stmaryparish.net/event/mass-st-anthony-7-2-2/2031-01-02/
END:VEVENT
BEGIN:VEVENT
DTSTART;TZID=America/New_York:20310102T121000
DTEND;TZID=America/New_York:20310102T124500
DTSTAMP:20260422T180010
CREATED:20241031T185234Z
LAST-MODIFIED:20241031T185234Z
UID:10023792-1925122200-1925124300@stmaryparish.net
SUMMARY:Mass (St Mary)
DESCRIPTION:
URL:https://stmaryparish.net/event/mass-st-mary-6/2031-01-02/
END:VEVENT
BEGIN:VEVENT
DTSTART;TZID=America/New_York:20310103T080000
DTEND;TZID=America/New_York:20310103T083000
DTSTAMP:20260422T180010
CREATED:20241031T184838Z
LAST-MODIFIED:20241031T184838Z
UID:10023831-1925193600-1925195400@stmaryparish.net
SUMMARY:Mass (St Anthony)
DESCRIPTION:
URL:https://stmaryparish.net/event/mass-st-anthony-8/2031-01-03/
END:VEVENT
BEGIN:VEVENT
DTSTART;TZID=America/New_York:20310103T081000
DTEND;TZID=America/New_York:20310103T084000
DTSTAMP:20260422T180010
CREATED:20241031T191510Z
LAST-MODIFIED:20241031T191852Z
UID:10023872-1925194200-1925196000@stmaryparish.net
SUMMARY:Mass (St Mary)
DESCRIPTION:
URL:https://stmaryparish.net/event/mass-st-mary-8/2031-01-03/
END:VEVENT
BEGIN:VEVENT
DTSTART;TZID=America/New_York:20310103T084500
DTEND;TZID=America/New_York:20310103T110000
DTSTAMP:20260422T180010
CREATED:20240830T115554Z
LAST-MODIFIED:20251009T144948Z
UID:10023887-1925196300-1925204400@stmaryparish.net
SUMMARY:Women's Faith Study Group
DESCRIPTION:The Women’s Faith Study Group will kick off the next session on  Sept. 5. The group meets from 8:45 am to 11 am at St. Anthony in the lower level of the St. Therese Formation Center (St. Joseph Adoration Chapel building). Child care is not currently offered.  For information\, email Mary Beth at marywitzlib@gmail.com
URL:https://stmaryparish.net/event/womens-faith-study-group-2-2-2/2031-01-03/
LOCATION:St. Therese Formation Center\, N74 W13604 Appleton Ave\, Menomonee Falls\, WI\, 53051
CATEGORIES:St. Anthony Parish,St. Mary Parish
END:VEVENT
BEGIN:VEVENT
DTSTART;TZID=America/New_York:20310103T120000
DTEND;TZID=America/New_York:20310103T123000
DTSTAMP:20260422T180010
CREATED:20241031T192332Z
LAST-MODIFIED:20241031T192350Z
UID:10023902-1925208000-1925209800@stmaryparish.net
SUMMARY:Confessions (St Mary)
DESCRIPTION:
URL:https://stmaryparish.net/event/confessions-st-mary-5/2031-01-03/
END:VEVENT
BEGIN:VEVENT
DTSTART;TZID=America/New_York:20310103T190000
DTEND;TZID=America/New_York:20310103T210000
DTSTAMP:20260422T180010
CREATED:20240830T122256Z
LAST-MODIFIED:20241217T175459Z
UID:10023918-1925233200-1925240400@stmaryparish.net
SUMMARY:Amici Dei Young Adult Group (First Friday)
DESCRIPTION:Men and women ages 18 to 32 from St. Anthony and St. Mary Parishes are invited to join Amici Dei\, a young adult group that meets at 7 pm on the first and third Fridays of the month in the lower level of the St. Therese Formation Center Building at St. Anthony campus. \nContact: Andrew Jordan\, amicidei20@gmail.com
URL:https://stmaryparish.net/event/ameci-dei-young-adult-group-first-friday/2031-01-03/
LOCATION:St. Therese Formation Center\, N74 W13604 Appleton Ave\, Menomonee Falls\, WI\, 53051
CATEGORIES:St. Anthony Parish,St. Mary Parish
END:VEVENT
BEGIN:VEVENT
DTSTART;TZID=America/New_York:20310104T080000
DTEND;TZID=America/New_York:20310104T083000
DTSTAMP:20260422T180010
CREATED:20241031T185838Z
LAST-MODIFIED:20241031T185838Z
UID:10023957-1925280000-1925281800@stmaryparish.net
SUMMARY:Mass (St Mary)
DESCRIPTION:
URL:https://stmaryparish.net/event/mass-st-mary-7/2031-01-04/
END:VEVENT
BEGIN:VEVENT
DTSTART;TZID=America/New_York:20310104T163000
DTEND;TZID=America/New_York:20310104T173000
DTSTAMP:20260422T180010
CREATED:20241031T182115Z
LAST-MODIFIED:20241031T182115Z
UID:10024049-1925310600-1925314200@stmaryparish.net
SUMMARY:Mass (St Anthony)
DESCRIPTION:
URL:https://stmaryparish.net/event/mass-st-anthony-2/2031-01-04/
END:VEVENT
BEGIN:VEVENT
DTSTART;TZID=America/New_York:20310104T170000
DTEND;TZID=America/New_York:20310104T180000
DTSTAMP:20260422T180010
CREATED:20241031T182149Z
LAST-MODIFIED:20241031T183232Z
UID:10024003-1925312400-1925316000@stmaryparish.net
SUMMARY:Mass (St Mary)
DESCRIPTION:
URL:https://stmaryparish.net/event/mass-st-mary/2031-01-04/
END:VEVENT
BEGIN:VEVENT
DTSTART;TZID=America/New_York:20310106T190000
DTEND;TZID=America/New_York:20310106T203000
DTSTAMP:20260422T180010
CREATED:20250905T185422Z
LAST-MODIFIED:20250905T185615Z
UID:10024076-1925492400-1925497800@stmaryparish.net
SUMMARY:Men's Group
DESCRIPTION:The Men’s Group meets Mondays from 7–8:30 pm (starting Sept. 15) at St. Anthony Parish. The Men’s group meets to strengthen each other to be Catholic men. We will launch our first meeting of the fall with a cookout behind St. Anthony Church.  All men are welcome. \nEmail Marty at martin.dybicz@gmail.com for details. \nMeetings take place at St. Anthony campus in the school building (Chesterton Academy — Commons)\, unless otherwise noted.
URL:https://stmaryparish.net/event/mens-group/2031-01-06/
LOCATION:St. Anthony Church\, N74W13604 Appleton Avenue\, Menomonee Falls\,\, WI\, 53051\, United States
END:VEVENT
BEGIN:VEVENT
DTSTART;TZID=America/New_York:20310107T170000
DTEND;TZID=America/New_York:20310107T173000
DTSTAMP:20260422T180010
CREATED:20241213T190819Z
LAST-MODIFIED:20250414T214653Z
UID:10023662-1925571600-1925573400@stmaryparish.net
SUMMARY:Confessions (St. Anthony)
DESCRIPTION:
URL:https://stmaryparish.net/event/confessions-st-anthony-9/2031-01-07/
END:VEVENT
END:VCALENDAR