BEGIN:VCALENDAR
VERSION:2.0
PRODID:-//St. Anthony and St. Mary Parishes - ECPv6.15.20//NONSGML v1.0//EN
CALSCALE:GREGORIAN
METHOD:PUBLISH
X-WR-CALNAME:St. Anthony and St. Mary Parishes
X-ORIGINAL-URL:https://stmaryparish.net
X-WR-CALDESC:Events for St. Anthony and St. Mary Parishes
REFRESH-INTERVAL;VALUE=DURATION:PT1H
X-Robots-Tag:noindex
X-PUBLISHED-TTL:PT1H
BEGIN:VTIMEZONE
TZID:America/New_York
BEGIN:DAYLIGHT
TZOFFSETFROM:-0500
TZOFFSETTO:-0400
TZNAME:EDT
DTSTART:20280312T070000
END:DAYLIGHT
BEGIN:STANDARD
TZOFFSETFROM:-0400
TZOFFSETTO:-0500
TZNAME:EST
DTSTART:20281105T060000
END:STANDARD
BEGIN:DAYLIGHT
TZOFFSETFROM:-0500
TZOFFSETTO:-0400
TZNAME:EDT
DTSTART:20290311T070000
END:DAYLIGHT
BEGIN:STANDARD
TZOFFSETFROM:-0400
TZOFFSETTO:-0500
TZNAME:EST
DTSTART:20291104T060000
END:STANDARD
BEGIN:DAYLIGHT
TZOFFSETFROM:-0500
TZOFFSETTO:-0400
TZNAME:EDT
DTSTART:20300310T070000
END:DAYLIGHT
BEGIN:STANDARD
TZOFFSETFROM:-0400
TZOFFSETTO:-0500
TZNAME:EST
DTSTART:20301103T060000
END:STANDARD
END:VTIMEZONE
BEGIN:VTIMEZONE
TZID:America/New_York
BEGIN:DAYLIGHT
TZOFFSETFROM:-0500
TZOFFSETTO:-0400
TZNAME:EDT
DTSTART:20280312T070000
END:DAYLIGHT
BEGIN:STANDARD
TZOFFSETFROM:-0400
TZOFFSETTO:-0500
TZNAME:EST
DTSTART:20281105T060000
END:STANDARD
BEGIN:DAYLIGHT
TZOFFSETFROM:-0500
TZOFFSETTO:-0400
TZNAME:EDT
DTSTART:20290311T070000
END:DAYLIGHT
BEGIN:STANDARD
TZOFFSETFROM:-0400
TZOFFSETTO:-0500
TZNAME:EST
DTSTART:20291104T060000
END:STANDARD
BEGIN:DAYLIGHT
TZOFFSETFROM:-0500
TZOFFSETTO:-0400
TZNAME:EDT
DTSTART:20300310T070000
END:DAYLIGHT
BEGIN:STANDARD
TZOFFSETFROM:-0400
TZOFFSETTO:-0500
TZNAME:EST
DTSTART:20301103T060000
END:STANDARD
END:VTIMEZONE
BEGIN:VEVENT
DTSTART;TZID=America/New_York:20291008T080000
DTEND;TZID=America/New_York:20291008T083000
DTSTAMP:20260419T223853
CREATED:20241031T184422Z
LAST-MODIFIED:20241031T184422Z
UID:10017437-1886140800-1886142600@stmaryparish.net
SUMMARY:Mass (St Anthony)
DESCRIPTION:
URL:https://stmaryparish.net/event/mass-st-anthony-4/2029-10-08/
END:VEVENT
BEGIN:VEVENT
DTSTART;TZID=America/New_York:20291008T120000
DTEND;TZID=America/New_York:20291008T123000
DTSTAMP:20260419T223853
CREATED:20241031T185431Z
LAST-MODIFIED:20241031T185431Z
UID:10019797-1886155200-1886157000@stmaryparish.net
SUMMARY:Confessions (St Mary)
DESCRIPTION:
URL:https://stmaryparish.net/event/confessions-st-mary/2029-10-08/
END:VEVENT
BEGIN:VEVENT
DTSTART;TZID=America/New_York:20291008T170000
DTEND;TZID=America/New_York:20291008T173000
DTSTAMP:20260419T223853
CREATED:20240108T130904Z
LAST-MODIFIED:20250429T145934Z
UID:10010920-1886173200-1886175000@stmaryparish.net
SUMMARY:Confession (St. Anthony)
DESCRIPTION:The Sacrament of Reconciliation is offered daily during the week\, at 5 pm\, or by appointment\, at St. Anthony in the Church.
URL:https://stmaryparish.net/event/confessions-5-2/2029-10-08/
LOCATION:St. Anthony Church\, N74W13604 Appleton Avenue\, Menomonee Falls\,\, WI\, 53051\, United States
CATEGORIES:St. Anthony Parish
END:VEVENT
BEGIN:VEVENT
DTSTART;TZID=America/New_York:20291008T190000
DTEND;TZID=America/New_York:20291008T203000
DTSTAMP:20260419T223853
CREATED:20250905T185422Z
LAST-MODIFIED:20250905T185615Z
UID:10023112-1886180400-1886185800@stmaryparish.net
SUMMARY:Men's Group
DESCRIPTION:The Men’s Group meets Mondays from 7–8:30 pm (starting Sept. 15) at St. Anthony Parish. The Men’s group meets to strengthen each other to be Catholic men. We will launch our first meeting of the fall with a cookout behind St. Anthony Church.  All men are welcome. \nEmail Marty at martin.dybicz@gmail.com for details. \nMeetings take place at St. Anthony campus in the school building (Chesterton Academy — Commons)\, unless otherwise noted.
URL:https://stmaryparish.net/event/mens-group/2029-10-08/
LOCATION:St. Anthony Church\, N74W13604 Appleton Avenue\, Menomonee Falls\,\, WI\, 53051\, United States
END:VEVENT
BEGIN:VEVENT
DTSTART;TZID=America/New_York:20291009T063000
DTEND;TZID=America/New_York:20291009T070000
DTSTAMP:20260419T223853
CREATED:20241031T185031Z
LAST-MODIFIED:20241031T185031Z
UID:10018740-1886221800-1886223600@stmaryparish.net
SUMMARY:Mass (St Mary)
DESCRIPTION:
URL:https://stmaryparish.net/event/mass-st-mary-4/2029-10-09/
END:VEVENT
BEGIN:VEVENT
DTSTART;TZID=America/New_York:20291009T080000
DTEND;TZID=America/New_York:20291009T083000
DTSTAMP:20260419T223853
CREATED:20241031T184517Z
LAST-MODIFIED:20241031T184517Z
UID:10017698-1886227200-1886229000@stmaryparish.net
SUMMARY:Mass (St Anthony)
DESCRIPTION:
URL:https://stmaryparish.net/event/mass-st-anthony-5/2029-10-09/
END:VEVENT
BEGIN:VEVENT
DTSTART;TZID=America/New_York:20291009T120000
DTEND;TZID=America/New_York:20291009T123000
DTSTAMP:20260419T223853
CREATED:20241213T180235Z
LAST-MODIFIED:20241213T180235Z
UID:10020058-1886241600-1886243400@stmaryparish.net
SUMMARY:Confessions (St Mary)
DESCRIPTION:
URL:https://stmaryparish.net/event/confessions-st-mary-2-2/2029-10-09/
END:VEVENT
BEGIN:VEVENT
DTSTART;TZID=America/New_York:20291009T170000
DTEND;TZID=America/New_York:20291009T173000
DTSTAMP:20260419T223853
CREATED:20241213T190819Z
LAST-MODIFIED:20250414T214653Z
UID:10022002-1886259600-1886261400@stmaryparish.net
SUMMARY:Confessions (St. Anthony)
DESCRIPTION:
URL:https://stmaryparish.net/event/confessions-st-anthony-9/2029-10-09/
END:VEVENT
BEGIN:VEVENT
DTSTART;TZID=America/New_York:20291010T080000
DTEND;TZID=America/New_York:20291010T083000
DTSTAMP:20260419T223853
CREATED:20241031T184609Z
LAST-MODIFIED:20241031T184609Z
UID:10017959-1886313600-1886315400@stmaryparish.net
SUMMARY:Mass (St Anthony)
DESCRIPTION:
URL:https://stmaryparish.net/event/mass-st-anthony-6/2029-10-10/
END:VEVENT
BEGIN:VEVENT
DTSTART;TZID=America/New_York:20291010T081000
DTEND;TZID=America/New_York:20291010T084500
DTSTAMP:20260419T223853
CREATED:20250428T205453Z
LAST-MODIFIED:20250428T205454Z
UID:10019001-1886314200-1886316300@stmaryparish.net
SUMMARY:Mass (St Mary)
DESCRIPTION:
URL:https://stmaryparish.net/event/mass-st-mary-5-2/2029-10-10/
END:VEVENT
BEGIN:VEVENT
DTSTART;TZID=America/New_York:20291010T120000
DTEND;TZID=America/New_York:20291010T123000
DTSTAMP:20260419T223853
CREATED:20241031T185919Z
LAST-MODIFIED:20250304T204847Z
UID:10020579-1886328000-1886329800@stmaryparish.net
SUMMARY:Confessions (St Mary)
DESCRIPTION:
URL:https://stmaryparish.net/event/confessions-st-mary-3/2029-10-10/
END:VEVENT
BEGIN:VEVENT
DTSTART;TZID=America/New_York:20291010T170000
DTEND;TZID=America/New_York:20291010T173000
DTSTAMP:20260419T223853
CREATED:20240312T141801Z
LAST-MODIFIED:20250304T205157Z
UID:10021900-1886346000-1886347800@stmaryparish.net
SUMMARY:Confessions (St. Anthony)
DESCRIPTION:
URL:https://stmaryparish.net/event/confessions-st-anthony-2/2029-10-10/
END:VEVENT
BEGIN:VEVENT
DTSTART;TZID=America/New_York:20291011T080000
DTEND;TZID=America/New_York:20291011T083000
DTSTAMP:20260419T223853
CREATED:20250612T170511Z
LAST-MODIFIED:20250612T170512Z
UID:10018220-1886400000-1886401800@stmaryparish.net
SUMMARY:Mass (St Anthony)
DESCRIPTION:
URL:https://stmaryparish.net/event/mass-st-anthony-7-2-2/2029-10-11/
END:VEVENT
BEGIN:VEVENT
DTSTART;TZID=America/New_York:20291011T121000
DTEND;TZID=America/New_York:20291011T124500
DTSTAMP:20260419T223853
CREATED:20241031T185234Z
LAST-MODIFIED:20241031T185234Z
UID:10019262-1886415000-1886417100@stmaryparish.net
SUMMARY:Mass (St Mary)
DESCRIPTION:
URL:https://stmaryparish.net/event/mass-st-mary-6/2029-10-11/
END:VEVENT
BEGIN:VEVENT
DTSTART;TZID=America/New_York:20291011T170000
DTEND;TZID=America/New_York:20291011T173000
DTSTAMP:20260419T223853
CREATED:20240108T130904Z
LAST-MODIFIED:20250429T145934Z
UID:10010923-1886432400-1886434200@stmaryparish.net
SUMMARY:Confession (St. Anthony)
DESCRIPTION:The Sacrament of Reconciliation is offered daily during the week\, at 5 pm\, or by appointment\, at St. Anthony in the Church.
URL:https://stmaryparish.net/event/confessions-5-2/2029-10-11/
LOCATION:St. Anthony Church\, N74W13604 Appleton Avenue\, Menomonee Falls\,\, WI\, 53051\, United States
CATEGORIES:St. Anthony Parish
END:VEVENT
BEGIN:VEVENT
DTSTART;TZID=America/New_York:20291012T080000
DTEND;TZID=America/New_York:20291012T083000
DTSTAMP:20260419T223854
CREATED:20241031T184838Z
LAST-MODIFIED:20241031T184838Z
UID:10018480-1886486400-1886488200@stmaryparish.net
SUMMARY:Mass (St Anthony)
DESCRIPTION:
URL:https://stmaryparish.net/event/mass-st-anthony-8/2029-10-12/
END:VEVENT
BEGIN:VEVENT
DTSTART;TZID=America/New_York:20291012T081000
DTEND;TZID=America/New_York:20291012T084000
DTSTAMP:20260419T223854
CREATED:20241031T191510Z
LAST-MODIFIED:20241031T191852Z
UID:10020841-1886487000-1886488800@stmaryparish.net
SUMMARY:Mass (St Mary)
DESCRIPTION:
URL:https://stmaryparish.net/event/mass-st-mary-8/2029-10-12/
END:VEVENT
BEGIN:VEVENT
DTSTART;TZID=America/New_York:20291012T084500
DTEND;TZID=America/New_York:20291012T110000
DTSTAMP:20260419T223854
CREATED:20240830T115554Z
LAST-MODIFIED:20251009T144948Z
UID:10023374-1886489100-1886497200@stmaryparish.net
SUMMARY:Women's Faith Study Group
DESCRIPTION:The Women’s Faith Study Group will kick off the next session on  Sept. 5. The group meets from 8:45 am to 11 am at St. Anthony in the lower level of the St. Therese Formation Center (St. Joseph Adoration Chapel building). Child care is not currently offered.  For information\, email Mary Beth at marywitzlib@gmail.com
URL:https://stmaryparish.net/event/womens-faith-study-group-2-2-2/2029-10-12/
LOCATION:St. Therese Formation Center\, N74 W13604 Appleton Ave\, Menomonee Falls\, WI\, 53051
CATEGORIES:St. Anthony Parish,St. Mary Parish
END:VEVENT
BEGIN:VEVENT
DTSTART;TZID=America/New_York:20291012T120000
DTEND;TZID=America/New_York:20291012T123000
DTSTAMP:20260419T223854
CREATED:20241031T192332Z
LAST-MODIFIED:20241031T192350Z
UID:10021102-1886500800-1886502600@stmaryparish.net
SUMMARY:Confessions (St Mary)
DESCRIPTION:
URL:https://stmaryparish.net/event/confessions-st-mary-5/2029-10-12/
END:VEVENT
BEGIN:VEVENT
DTSTART;TZID=America/New_York:20291012T170000
DTEND;TZID=America/New_York:20291012T173000
DTSTAMP:20260419T223854
CREATED:20240108T130904Z
LAST-MODIFIED:20250429T145934Z
UID:10010924-1886518800-1886520600@stmaryparish.net
SUMMARY:Confession (St. Anthony)
DESCRIPTION:The Sacrament of Reconciliation is offered daily during the week\, at 5 pm\, or by appointment\, at St. Anthony in the Church.
URL:https://stmaryparish.net/event/confessions-5-2/2029-10-12/
LOCATION:St. Anthony Church\, N74W13604 Appleton Avenue\, Menomonee Falls\,\, WI\, 53051\, United States
CATEGORIES:St. Anthony Parish
END:VEVENT
BEGIN:VEVENT
DTSTART;TZID=America/New_York:20291012T180000
DTEND;TZID=America/New_York:20291012T200000
DTSTAMP:20260419T223854
CREATED:20240409T144217Z
LAST-MODIFIED:20241112T161405Z
UID:10021921-1886522400-1886529600@stmaryparish.net
SUMMARY:Parish Youth Group (2nd Friday)
DESCRIPTION:The parish Youth Group meets every 2nd and 4th Friday of each month. \nStudents in grades 6-12 are invited to have fun\, grow in faith\, and form friendships. \n6-8 pm on the 2nd & 4th Fridays of the month \nSign up online at bit.ly/stamyouthgroup \nLocation: St. Anthony parish in the St. Therese Formation Center \n 
URL:https://stmaryparish.net/event/youth-group-grades-10-12/2029-10-12/
LOCATION:St. Therese Formation Center\, N74 W13604 Appleton Ave\, Menomonee Falls\, WI\, 53051
CATEGORIES:St. Anthony Parish,St. Mary Parish
END:VEVENT
BEGIN:VEVENT
DTSTART;TZID=America/New_York:20291013T080000
DTEND;TZID=America/New_York:20291013T083000
DTSTAMP:20260419T223854
CREATED:20241031T185838Z
LAST-MODIFIED:20241031T185838Z
UID:10020319-1886572800-1886574600@stmaryparish.net
SUMMARY:Mass (St Mary)
DESCRIPTION:
URL:https://stmaryparish.net/event/mass-st-mary-7/2029-10-13/
END:VEVENT
BEGIN:VEVENT
DTSTART;TZID=America/New_York:20291013T163000
DTEND;TZID=America/New_York:20291013T173000
DTSTAMP:20260419T223854
CREATED:20241031T182115Z
LAST-MODIFIED:20241031T182115Z
UID:10016133-1886603400-1886607000@stmaryparish.net
SUMMARY:Mass (St Anthony)
DESCRIPTION:
URL:https://stmaryparish.net/event/mass-st-anthony-2/2029-10-13/
END:VEVENT
BEGIN:VEVENT
DTSTART;TZID=America/New_York:20291013T170000
DTEND;TZID=America/New_York:20291013T180000
DTSTAMP:20260419T223854
CREATED:20241031T182149Z
LAST-MODIFIED:20241031T183232Z
UID:10017177-1886605200-1886608800@stmaryparish.net
SUMMARY:Mass (St Mary)
DESCRIPTION:
URL:https://stmaryparish.net/event/mass-st-mary/2029-10-13/
END:VEVENT
BEGIN:VEVENT
DTSTART;TZID=America/New_York:20291014T073000
DTEND;TZID=America/New_York:20291014T083000
DTSTAMP:20260419T223854
CREATED:20241031T182247Z
LAST-MODIFIED:20241031T182247Z
UID:10016395-1886657400-1886661000@stmaryparish.net
SUMMARY:Mass (St Mary)
DESCRIPTION:
URL:https://stmaryparish.net/event/mass-st-mary-2/2029-10-14/
END:VEVENT
BEGIN:VEVENT
DTSTART;TZID=America/New_York:20291014T093000
DTEND;TZID=America/New_York:20291014T103000
DTSTAMP:20260419T223854
CREATED:20241031T182419Z
LAST-MODIFIED:20241031T182915Z
UID:10016917-1886664600-1886668200@stmaryparish.net
SUMMARY:Mass (St Mary)
DESCRIPTION:
URL:https://stmaryparish.net/event/mass-st-mary-3/2029-10-14/
END:VEVENT
BEGIN:VEVENT
DTSTART;TZID=America/New_York:20291014T103000
DTEND;TZID=America/New_York:20291014T113000
DTSTAMP:20260419T223854
CREATED:20241031T182523Z
LAST-MODIFIED:20241031T182523Z
UID:10016657-1886668200-1886671800@stmaryparish.net
SUMMARY:Mass (St Anthony)
DESCRIPTION:
URL:https://stmaryparish.net/event/mass-st-anthony-3/2029-10-14/
END:VEVENT
BEGIN:VEVENT
DTSTART;TZID=America/New_York:20291015T080000
DTEND;TZID=America/New_York:20291015T083000
DTSTAMP:20260419T223854
CREATED:20241031T184422Z
LAST-MODIFIED:20241031T184422Z
UID:10017438-1886745600-1886747400@stmaryparish.net
SUMMARY:Mass (St Anthony)
DESCRIPTION:
URL:https://stmaryparish.net/event/mass-st-anthony-4/2029-10-15/
END:VEVENT
BEGIN:VEVENT
DTSTART;TZID=America/New_York:20291015T120000
DTEND;TZID=America/New_York:20291015T123000
DTSTAMP:20260419T223854
CREATED:20241031T185431Z
LAST-MODIFIED:20241031T185431Z
UID:10019798-1886760000-1886761800@stmaryparish.net
SUMMARY:Confessions (St Mary)
DESCRIPTION:
URL:https://stmaryparish.net/event/confessions-st-mary/2029-10-15/
END:VEVENT
BEGIN:VEVENT
DTSTART;TZID=America/New_York:20291015T170000
DTEND;TZID=America/New_York:20291015T173000
DTSTAMP:20260419T223854
CREATED:20240108T130904Z
LAST-MODIFIED:20250429T145934Z
UID:10010925-1886778000-1886779800@stmaryparish.net
SUMMARY:Confession (St. Anthony)
DESCRIPTION:The Sacrament of Reconciliation is offered daily during the week\, at 5 pm\, or by appointment\, at St. Anthony in the Church.
URL:https://stmaryparish.net/event/confessions-5-2/2029-10-15/
LOCATION:St. Anthony Church\, N74W13604 Appleton Avenue\, Menomonee Falls\,\, WI\, 53051\, United States
CATEGORIES:St. Anthony Parish
END:VEVENT
END:VCALENDAR