BEGIN:VCALENDAR
VERSION:2.0
PRODID:-//St. Anthony and St. Mary Parishes - ECPv6.15.20//NONSGML v1.0//EN
CALSCALE:GREGORIAN
METHOD:PUBLISH
X-WR-CALNAME:St. Anthony and St. Mary Parishes
X-ORIGINAL-URL:https://stmaryparish.net
X-WR-CALDESC:Events for St. Anthony and St. Mary Parishes
REFRESH-INTERVAL;VALUE=DURATION:PT1H
X-Robots-Tag:noindex
X-PUBLISHED-TTL:PT1H
BEGIN:VTIMEZONE
TZID:America/New_York
BEGIN:DAYLIGHT
TZOFFSETFROM:-0500
TZOFFSETTO:-0400
TZNAME:EDT
DTSTART:20290311T070000
END:DAYLIGHT
BEGIN:STANDARD
TZOFFSETFROM:-0400
TZOFFSETTO:-0500
TZNAME:EST
DTSTART:20291104T060000
END:STANDARD
BEGIN:DAYLIGHT
TZOFFSETFROM:-0500
TZOFFSETTO:-0400
TZNAME:EDT
DTSTART:20300310T070000
END:DAYLIGHT
BEGIN:STANDARD
TZOFFSETFROM:-0400
TZOFFSETTO:-0500
TZNAME:EST
DTSTART:20301103T060000
END:STANDARD
BEGIN:DAYLIGHT
TZOFFSETFROM:-0500
TZOFFSETTO:-0400
TZNAME:EDT
DTSTART:20310309T070000
END:DAYLIGHT
BEGIN:STANDARD
TZOFFSETFROM:-0400
TZOFFSETTO:-0500
TZNAME:EST
DTSTART:20311102T060000
END:STANDARD
END:VTIMEZONE
BEGIN:VTIMEZONE
TZID:America/New_York
BEGIN:DAYLIGHT
TZOFFSETFROM:-0500
TZOFFSETTO:-0400
TZNAME:EDT
DTSTART:20290311T070000
END:DAYLIGHT
BEGIN:STANDARD
TZOFFSETFROM:-0400
TZOFFSETTO:-0500
TZNAME:EST
DTSTART:20291104T060000
END:STANDARD
BEGIN:DAYLIGHT
TZOFFSETFROM:-0500
TZOFFSETTO:-0400
TZNAME:EDT
DTSTART:20300310T070000
END:DAYLIGHT
BEGIN:STANDARD
TZOFFSETFROM:-0400
TZOFFSETTO:-0500
TZNAME:EST
DTSTART:20301103T060000
END:STANDARD
BEGIN:DAYLIGHT
TZOFFSETFROM:-0500
TZOFFSETTO:-0400
TZNAME:EDT
DTSTART:20310309T070000
END:DAYLIGHT
BEGIN:STANDARD
TZOFFSETFROM:-0400
TZOFFSETTO:-0500
TZNAME:EST
DTSTART:20311102T060000
END:STANDARD
END:VTIMEZONE
BEGIN:VEVENT
DTSTART;TZID=America/New_York:20301130T170000
DTEND;TZID=America/New_York:20301130T180000
DTSTAMP:20260422T180154
CREATED:20241031T182149Z
LAST-MODIFIED:20241031T183232Z
UID:10023998-1922288400-1922292000@stmaryparish.net
SUMMARY:Mass (St Mary)
DESCRIPTION:
URL:https://stmaryparish.net/event/mass-st-mary/2030-11-30/
END:VEVENT
BEGIN:VEVENT
DTSTART;TZID=America/New_York:20301130T163000
DTEND;TZID=America/New_York:20301130T173000
DTSTAMP:20260422T180154
CREATED:20241031T182115Z
LAST-MODIFIED:20241031T182115Z
UID:10024044-1922286600-1922290200@stmaryparish.net
SUMMARY:Mass (St Anthony)
DESCRIPTION:
URL:https://stmaryparish.net/event/mass-st-anthony-2/2030-11-30/
END:VEVENT
BEGIN:VEVENT
DTSTART;TZID=America/New_York:20301130T080000
DTEND;TZID=America/New_York:20301130T083000
DTSTAMP:20260422T180154
CREATED:20241031T185838Z
LAST-MODIFIED:20241031T185838Z
UID:10023952-1922256000-1922257800@stmaryparish.net
SUMMARY:Mass (St Mary)
DESCRIPTION:
URL:https://stmaryparish.net/event/mass-st-mary-7/2030-11-30/
END:VEVENT
BEGIN:VEVENT
DTSTART;TZID=America/New_York:20301129T120000
DTEND;TZID=America/New_York:20301129T123000
DTSTAMP:20260422T180154
CREATED:20241031T192332Z
LAST-MODIFIED:20241031T192350Z
UID:10023897-1922184000-1922185800@stmaryparish.net
SUMMARY:Confessions (St Mary)
DESCRIPTION:
URL:https://stmaryparish.net/event/confessions-st-mary-5/2030-11-29/
END:VEVENT
BEGIN:VEVENT
DTSTART;TZID=America/New_York:20301129T084500
DTEND;TZID=America/New_York:20301129T110000
DTSTAMP:20260422T180154
CREATED:20240830T115554Z
LAST-MODIFIED:20251009T144948Z
UID:10023882-1922172300-1922180400@stmaryparish.net
SUMMARY:Women's Faith Study Group
DESCRIPTION:The Women’s Faith Study Group will kick off the next session on  Sept. 5. The group meets from 8:45 am to 11 am at St. Anthony in the lower level of the St. Therese Formation Center (St. Joseph Adoration Chapel building). Child care is not currently offered.  For information\, email Mary Beth at marywitzlib@gmail.com
URL:https://stmaryparish.net/event/womens-faith-study-group-2-2-2/2030-11-29/
LOCATION:St. Therese Formation Center\, N74 W13604 Appleton Ave\, Menomonee Falls\, WI\, 53051
CATEGORIES:St. Anthony Parish,St. Mary Parish
END:VEVENT
BEGIN:VEVENT
DTSTART;TZID=America/New_York:20301129T081000
DTEND;TZID=America/New_York:20301129T084000
DTSTAMP:20260422T180154
CREATED:20241031T191510Z
LAST-MODIFIED:20241031T191852Z
UID:10023867-1922170200-1922172000@stmaryparish.net
SUMMARY:Mass (St Mary)
DESCRIPTION:
URL:https://stmaryparish.net/event/mass-st-mary-8/2030-11-29/
END:VEVENT
BEGIN:VEVENT
DTSTART;TZID=America/New_York:20301129T080000
DTEND;TZID=America/New_York:20301129T083000
DTSTAMP:20260422T180154
CREATED:20241031T184838Z
LAST-MODIFIED:20241031T184838Z
UID:10023826-1922169600-1922171400@stmaryparish.net
SUMMARY:Mass (St Anthony)
DESCRIPTION:
URL:https://stmaryparish.net/event/mass-st-anthony-8/2030-11-29/
END:VEVENT
BEGIN:VEVENT
DTSTART;TZID=America/New_York:20301128T121000
DTEND;TZID=America/New_York:20301128T124500
DTSTAMP:20260422T180154
CREATED:20241031T185234Z
LAST-MODIFIED:20241031T185234Z
UID:10023787-1922098200-1922100300@stmaryparish.net
SUMMARY:Mass (St Mary)
DESCRIPTION:
URL:https://stmaryparish.net/event/mass-st-mary-6/2030-11-28/
END:VEVENT
BEGIN:VEVENT
DTSTART;TZID=America/New_York:20301128T080000
DTEND;TZID=America/New_York:20301128T083000
DTSTAMP:20260422T180154
CREATED:20250612T170511Z
LAST-MODIFIED:20250612T170512Z
UID:10023770-1922083200-1922085000@stmaryparish.net
SUMMARY:Mass (St Anthony)
DESCRIPTION:
URL:https://stmaryparish.net/event/mass-st-anthony-7-2-2/2030-11-28/
END:VEVENT
BEGIN:VEVENT
DTSTART;TZID=America/New_York:20301127T170000
DTEND;TZID=America/New_York:20301127T173000
DTSTAMP:20260422T180154
CREATED:20240312T141801Z
LAST-MODIFIED:20250304T205157Z
UID:10024129-1922029200-1922031000@stmaryparish.net
SUMMARY:Confessions (St. Anthony)
DESCRIPTION:
URL:https://stmaryparish.net/event/confessions-st-anthony-2/2030-11-27/
END:VEVENT
BEGIN:VEVENT
DTSTART;TZID=America/New_York:20301127T120000
DTEND;TZID=America/New_York:20301127T123000
DTSTAMP:20260422T180154
CREATED:20241031T185919Z
LAST-MODIFIED:20250304T204847Z
UID:10023691-1922011200-1922013000@stmaryparish.net
SUMMARY:Confessions (St Mary)
DESCRIPTION:
URL:https://stmaryparish.net/event/confessions-st-mary-3/2030-11-27/
END:VEVENT
BEGIN:VEVENT
DTSTART;TZID=America/New_York:20301126T170000
DTEND;TZID=America/New_York:20301126T173000
DTSTAMP:20260422T180154
CREATED:20241213T190819Z
LAST-MODIFIED:20250414T214653Z
UID:10023656-1921942800-1921944600@stmaryparish.net
SUMMARY:Confessions (St. Anthony)
DESCRIPTION:
URL:https://stmaryparish.net/event/confessions-st-anthony-9/2030-11-26/
END:VEVENT
BEGIN:VEVENT
DTSTART;TZID=America/New_York:20301125T190000
DTEND;TZID=America/New_York:20301125T203000
DTSTAMP:20260422T180154
CREATED:20250905T185422Z
LAST-MODIFIED:20250905T185615Z
UID:10024070-1921863600-1921869000@stmaryparish.net
SUMMARY:Men's Group
DESCRIPTION:The Men’s Group meets Mondays from 7–8:30 pm (starting Sept. 15) at St. Anthony Parish. The Men’s group meets to strengthen each other to be Catholic men. We will launch our first meeting of the fall with a cookout behind St. Anthony Church.  All men are welcome. \nEmail Marty at martin.dybicz@gmail.com for details. \nMeetings take place at St. Anthony campus in the school building (Chesterton Academy — Commons)\, unless otherwise noted.
URL:https://stmaryparish.net/event/mens-group/2030-11-25/
LOCATION:St. Anthony Church\, N74W13604 Appleton Avenue\, Menomonee Falls\,\, WI\, 53051\, United States
END:VEVENT
BEGIN:VEVENT
DTSTART;TZID=America/New_York:20301123T170000
DTEND;TZID=America/New_York:20301123T180000
DTSTAMP:20260422T180154
CREATED:20241031T182149Z
LAST-MODIFIED:20241031T183232Z
UID:10023997-1921683600-1921687200@stmaryparish.net
SUMMARY:Mass (St Mary)
DESCRIPTION:
URL:https://stmaryparish.net/event/mass-st-mary/2030-11-23/
END:VEVENT
BEGIN:VEVENT
DTSTART;TZID=America/New_York:20301123T163000
DTEND;TZID=America/New_York:20301123T173000
DTSTAMP:20260422T180154
CREATED:20241031T182115Z
LAST-MODIFIED:20241031T182115Z
UID:10024043-1921681800-1921685400@stmaryparish.net
SUMMARY:Mass (St Anthony)
DESCRIPTION:
URL:https://stmaryparish.net/event/mass-st-anthony-2/2030-11-23/
END:VEVENT
BEGIN:VEVENT
DTSTART;TZID=America/New_York:20301123T080000
DTEND;TZID=America/New_York:20301123T083000
DTSTAMP:20260422T180154
CREATED:20241031T185838Z
LAST-MODIFIED:20241031T185838Z
UID:10023951-1921651200-1921653000@stmaryparish.net
SUMMARY:Mass (St Mary)
DESCRIPTION:
URL:https://stmaryparish.net/event/mass-st-mary-7/2030-11-23/
END:VEVENT
BEGIN:VEVENT
DTSTART;TZID=America/New_York:20301122T120000
DTEND;TZID=America/New_York:20301122T123000
DTSTAMP:20260422T180154
CREATED:20241031T192332Z
LAST-MODIFIED:20241031T192350Z
UID:10023896-1921579200-1921581000@stmaryparish.net
SUMMARY:Confessions (St Mary)
DESCRIPTION:
URL:https://stmaryparish.net/event/confessions-st-mary-5/2030-11-22/
END:VEVENT
BEGIN:VEVENT
DTSTART;TZID=America/New_York:20301122T084500
DTEND;TZID=America/New_York:20301122T110000
DTSTAMP:20260422T180154
CREATED:20240830T115554Z
LAST-MODIFIED:20251009T144948Z
UID:10023881-1921567500-1921575600@stmaryparish.net
SUMMARY:Women's Faith Study Group
DESCRIPTION:The Women’s Faith Study Group will kick off the next session on  Sept. 5. The group meets from 8:45 am to 11 am at St. Anthony in the lower level of the St. Therese Formation Center (St. Joseph Adoration Chapel building). Child care is not currently offered.  For information\, email Mary Beth at marywitzlib@gmail.com
URL:https://stmaryparish.net/event/womens-faith-study-group-2-2-2/2030-11-22/
LOCATION:St. Therese Formation Center\, N74 W13604 Appleton Ave\, Menomonee Falls\, WI\, 53051
CATEGORIES:St. Anthony Parish,St. Mary Parish
END:VEVENT
BEGIN:VEVENT
DTSTART;TZID=America/New_York:20301122T081000
DTEND;TZID=America/New_York:20301122T084000
DTSTAMP:20260422T180155
CREATED:20241031T191510Z
LAST-MODIFIED:20241031T191852Z
UID:10023866-1921565400-1921567200@stmaryparish.net
SUMMARY:Mass (St Mary)
DESCRIPTION:
URL:https://stmaryparish.net/event/mass-st-mary-8/2030-11-22/
END:VEVENT
BEGIN:VEVENT
DTSTART;TZID=America/New_York:20301122T080000
DTEND;TZID=America/New_York:20301122T083000
DTSTAMP:20260422T180155
CREATED:20241031T184838Z
LAST-MODIFIED:20241031T184838Z
UID:10023825-1921564800-1921566600@stmaryparish.net
SUMMARY:Mass (St Anthony)
DESCRIPTION:
URL:https://stmaryparish.net/event/mass-st-anthony-8/2030-11-22/
END:VEVENT
BEGIN:VEVENT
DTSTART;TZID=America/New_York:20301121T121000
DTEND;TZID=America/New_York:20301121T124500
DTSTAMP:20260422T180155
CREATED:20241031T185234Z
LAST-MODIFIED:20241031T185234Z
UID:10023786-1921493400-1921495500@stmaryparish.net
SUMMARY:Mass (St Mary)
DESCRIPTION:
URL:https://stmaryparish.net/event/mass-st-mary-6/2030-11-21/
END:VEVENT
BEGIN:VEVENT
DTSTART;TZID=America/New_York:20301121T080000
DTEND;TZID=America/New_York:20301121T083000
DTSTAMP:20260422T180155
CREATED:20250612T170511Z
LAST-MODIFIED:20250612T170512Z
UID:10023769-1921478400-1921480200@stmaryparish.net
SUMMARY:Mass (St Anthony)
DESCRIPTION:
URL:https://stmaryparish.net/event/mass-st-anthony-7-2-2/2030-11-21/
END:VEVENT
BEGIN:VEVENT
DTSTART;TZID=America/New_York:20301120T170000
DTEND;TZID=America/New_York:20301120T173000
DTSTAMP:20260422T180155
CREATED:20240312T141801Z
LAST-MODIFIED:20250304T205157Z
UID:10024128-1921424400-1921426200@stmaryparish.net
SUMMARY:Confessions (St. Anthony)
DESCRIPTION:
URL:https://stmaryparish.net/event/confessions-st-anthony-2/2030-11-20/
END:VEVENT
BEGIN:VEVENT
DTSTART;TZID=America/New_York:20301120T120000
DTEND;TZID=America/New_York:20301120T123000
DTSTAMP:20260422T180155
CREATED:20241031T185919Z
LAST-MODIFIED:20250304T204847Z
UID:10023690-1921406400-1921408200@stmaryparish.net
SUMMARY:Confessions (St Mary)
DESCRIPTION:
URL:https://stmaryparish.net/event/confessions-st-mary-3/2030-11-20/
END:VEVENT
BEGIN:VEVENT
DTSTART;TZID=America/New_York:20301119T170000
DTEND;TZID=America/New_York:20301119T173000
DTSTAMP:20260422T180155
CREATED:20241213T190819Z
LAST-MODIFIED:20250414T214653Z
UID:10023655-1921338000-1921339800@stmaryparish.net
SUMMARY:Confessions (St. Anthony)
DESCRIPTION:
URL:https://stmaryparish.net/event/confessions-st-anthony-9/2030-11-19/
END:VEVENT
BEGIN:VEVENT
DTSTART;TZID=America/New_York:20301118T190000
DTEND;TZID=America/New_York:20301118T203000
DTSTAMP:20260422T180155
CREATED:20250905T185422Z
LAST-MODIFIED:20250905T185615Z
UID:10024069-1921258800-1921264200@stmaryparish.net
SUMMARY:Men's Group
DESCRIPTION:The Men’s Group meets Mondays from 7–8:30 pm (starting Sept. 15) at St. Anthony Parish. The Men’s group meets to strengthen each other to be Catholic men. We will launch our first meeting of the fall with a cookout behind St. Anthony Church.  All men are welcome. \nEmail Marty at martin.dybicz@gmail.com for details. \nMeetings take place at St. Anthony campus in the school building (Chesterton Academy — Commons)\, unless otherwise noted.
URL:https://stmaryparish.net/event/mens-group/2030-11-18/
LOCATION:St. Anthony Church\, N74W13604 Appleton Avenue\, Menomonee Falls\,\, WI\, 53051\, United States
END:VEVENT
BEGIN:VEVENT
DTSTART;TZID=America/New_York:20301118T120000
DTEND;TZID=America/New_York:20301118T123000
DTSTAMP:20260422T180155
CREATED:20241031T185431Z
LAST-MODIFIED:20241031T185431Z
UID:10023548-1921233600-1921235400@stmaryparish.net
SUMMARY:Confessions (St Mary)
DESCRIPTION:
URL:https://stmaryparish.net/event/confessions-st-mary/2030-11-18/
END:VEVENT
BEGIN:VEVENT
DTSTART;TZID=America/New_York:20301116T170000
DTEND;TZID=America/New_York:20301116T180000
DTSTAMP:20260422T180155
CREATED:20241031T182149Z
LAST-MODIFIED:20241031T183232Z
UID:10023996-1921078800-1921082400@stmaryparish.net
SUMMARY:Mass (St Mary)
DESCRIPTION:
URL:https://stmaryparish.net/event/mass-st-mary/2030-11-16/
END:VEVENT
BEGIN:VEVENT
DTSTART;TZID=America/New_York:20301116T163000
DTEND;TZID=America/New_York:20301116T173000
DTSTAMP:20260422T180155
CREATED:20241031T182115Z
LAST-MODIFIED:20241031T182115Z
UID:10024042-1921077000-1921080600@stmaryparish.net
SUMMARY:Mass (St Anthony)
DESCRIPTION:
URL:https://stmaryparish.net/event/mass-st-anthony-2/2030-11-16/
END:VEVENT
BEGIN:VEVENT
DTSTART;TZID=America/New_York:20301116T080000
DTEND;TZID=America/New_York:20301116T083000
DTSTAMP:20260422T180155
CREATED:20241031T185838Z
LAST-MODIFIED:20241031T185838Z
UID:10023950-1921046400-1921048200@stmaryparish.net
SUMMARY:Mass (St Mary)
DESCRIPTION:
URL:https://stmaryparish.net/event/mass-st-mary-7/2030-11-16/
END:VEVENT
END:VCALENDAR