BEGIN:VCALENDAR
VERSION:2.0
PRODID:-//St. Anthony and St. Mary Parishes - ECPv6.15.20//NONSGML v1.0//EN
CALSCALE:GREGORIAN
METHOD:PUBLISH
X-WR-CALNAME:St. Anthony and St. Mary Parishes
X-ORIGINAL-URL:https://stmaryparish.net
X-WR-CALDESC:Events for St. Anthony and St. Mary Parishes
REFRESH-INTERVAL;VALUE=DURATION:PT1H
X-Robots-Tag:noindex
X-PUBLISHED-TTL:PT1H
BEGIN:VTIMEZONE
TZID:America/New_York
BEGIN:DAYLIGHT
TZOFFSETFROM:-0500
TZOFFSETTO:-0400
TZNAME:EDT
DTSTART:20290311T070000
END:DAYLIGHT
BEGIN:STANDARD
TZOFFSETFROM:-0400
TZOFFSETTO:-0500
TZNAME:EST
DTSTART:20291104T060000
END:STANDARD
BEGIN:DAYLIGHT
TZOFFSETFROM:-0500
TZOFFSETTO:-0400
TZNAME:EDT
DTSTART:20300310T070000
END:DAYLIGHT
BEGIN:STANDARD
TZOFFSETFROM:-0400
TZOFFSETTO:-0500
TZNAME:EST
DTSTART:20301103T060000
END:STANDARD
BEGIN:DAYLIGHT
TZOFFSETFROM:-0500
TZOFFSETTO:-0400
TZNAME:EDT
DTSTART:20310309T070000
END:DAYLIGHT
BEGIN:STANDARD
TZOFFSETFROM:-0400
TZOFFSETTO:-0500
TZNAME:EST
DTSTART:20311102T060000
END:STANDARD
END:VTIMEZONE
BEGIN:VTIMEZONE
TZID:America/New_York
BEGIN:DAYLIGHT
TZOFFSETFROM:-0500
TZOFFSETTO:-0400
TZNAME:EDT
DTSTART:20290311T070000
END:DAYLIGHT
BEGIN:STANDARD
TZOFFSETFROM:-0400
TZOFFSETTO:-0500
TZNAME:EST
DTSTART:20291104T060000
END:STANDARD
BEGIN:DAYLIGHT
TZOFFSETFROM:-0500
TZOFFSETTO:-0400
TZNAME:EDT
DTSTART:20300310T070000
END:DAYLIGHT
BEGIN:STANDARD
TZOFFSETFROM:-0400
TZOFFSETTO:-0500
TZNAME:EST
DTSTART:20301103T060000
END:STANDARD
BEGIN:DAYLIGHT
TZOFFSETFROM:-0500
TZOFFSETTO:-0400
TZNAME:EDT
DTSTART:20310309T070000
END:DAYLIGHT
BEGIN:STANDARD
TZOFFSETFROM:-0400
TZOFFSETTO:-0500
TZNAME:EST
DTSTART:20311102T060000
END:STANDARD
END:VTIMEZONE
BEGIN:VEVENT
DTSTART;TZID=America/New_York:20301116T170000
DTEND;TZID=America/New_York:20301116T180000
DTSTAMP:20260422T180153
CREATED:20241031T182149Z
LAST-MODIFIED:20241031T183232Z
UID:10023996-1921078800-1921082400@stmaryparish.net
SUMMARY:Mass (St Mary)
DESCRIPTION:
URL:https://stmaryparish.net/event/mass-st-mary/2030-11-16/
END:VEVENT
BEGIN:VEVENT
DTSTART;TZID=America/New_York:20301116T163000
DTEND;TZID=America/New_York:20301116T173000
DTSTAMP:20260422T180153
CREATED:20241031T182115Z
LAST-MODIFIED:20241031T182115Z
UID:10024042-1921077000-1921080600@stmaryparish.net
SUMMARY:Mass (St Anthony)
DESCRIPTION:
URL:https://stmaryparish.net/event/mass-st-anthony-2/2030-11-16/
END:VEVENT
BEGIN:VEVENT
DTSTART;TZID=America/New_York:20301116T080000
DTEND;TZID=America/New_York:20301116T083000
DTSTAMP:20260422T180153
CREATED:20241031T185838Z
LAST-MODIFIED:20241031T185838Z
UID:10023950-1921046400-1921048200@stmaryparish.net
SUMMARY:Mass (St Mary)
DESCRIPTION:
URL:https://stmaryparish.net/event/mass-st-mary-7/2030-11-16/
END:VEVENT
BEGIN:VEVENT
DTSTART;TZID=America/New_York:20301115T120000
DTEND;TZID=America/New_York:20301115T123000
DTSTAMP:20260422T180153
CREATED:20241031T192332Z
LAST-MODIFIED:20241031T192350Z
UID:10023525-1920974400-1920976200@stmaryparish.net
SUMMARY:Confessions (St Mary)
DESCRIPTION:
URL:https://stmaryparish.net/event/confessions-st-mary-5/2030-11-15/
END:VEVENT
BEGIN:VEVENT
DTSTART;TZID=America/New_York:20301115T084500
DTEND;TZID=America/New_York:20301115T110000
DTSTAMP:20260422T180153
CREATED:20240830T115554Z
LAST-MODIFIED:20251009T144948Z
UID:10023499-1920962700-1920970800@stmaryparish.net
SUMMARY:Women's Faith Study Group
DESCRIPTION:The Women’s Faith Study Group will kick off the next session on  Sept. 5. The group meets from 8:45 am to 11 am at St. Anthony in the lower level of the St. Therese Formation Center (St. Joseph Adoration Chapel building). Child care is not currently offered.  For information\, email Mary Beth at marywitzlib@gmail.com
URL:https://stmaryparish.net/event/womens-faith-study-group-2-2-2/2030-11-15/
LOCATION:St. Therese Formation Center\, N74 W13604 Appleton Ave\, Menomonee Falls\, WI\, 53051
CATEGORIES:St. Anthony Parish,St. Mary Parish
END:VEVENT
BEGIN:VEVENT
DTSTART;TZID=America/New_York:20301115T081000
DTEND;TZID=America/New_York:20301115T084000
DTSTAMP:20260422T180153
CREATED:20241031T191510Z
LAST-MODIFIED:20241031T191852Z
UID:10023865-1920960600-1920962400@stmaryparish.net
SUMMARY:Mass (St Mary)
DESCRIPTION:
URL:https://stmaryparish.net/event/mass-st-mary-8/2030-11-15/
END:VEVENT
BEGIN:VEVENT
DTSTART;TZID=America/New_York:20301115T080000
DTEND;TZID=America/New_York:20301115T083000
DTSTAMP:20260422T180153
CREATED:20241031T184838Z
LAST-MODIFIED:20241031T184838Z
UID:10023824-1920960000-1920961800@stmaryparish.net
SUMMARY:Mass (St Anthony)
DESCRIPTION:
URL:https://stmaryparish.net/event/mass-st-anthony-8/2030-11-15/
END:VEVENT
BEGIN:VEVENT
DTSTART;TZID=America/New_York:20301114T121000
DTEND;TZID=America/New_York:20301114T124500
DTSTAMP:20260422T180153
CREATED:20241031T185234Z
LAST-MODIFIED:20241031T185234Z
UID:10023493-1920888600-1920890700@stmaryparish.net
SUMMARY:Mass (St Mary)
DESCRIPTION:
URL:https://stmaryparish.net/event/mass-st-mary-6/2030-11-14/
END:VEVENT
BEGIN:VEVENT
DTSTART;TZID=America/New_York:20301114T080000
DTEND;TZID=America/New_York:20301114T083000
DTSTAMP:20260422T180153
CREATED:20250612T170511Z
LAST-MODIFIED:20250612T170512Z
UID:10023462-1920873600-1920875400@stmaryparish.net
SUMMARY:Mass (St Anthony)
DESCRIPTION:
URL:https://stmaryparish.net/event/mass-st-anthony-7-2-2/2030-11-14/
END:VEVENT
BEGIN:VEVENT
DTSTART;TZID=America/New_York:20301113T170000
DTEND;TZID=America/New_York:20301113T173000
DTSTAMP:20260422T180153
CREATED:20240312T141801Z
LAST-MODIFIED:20250304T205157Z
UID:10024127-1920819600-1920821400@stmaryparish.net
SUMMARY:Confessions (St. Anthony)
DESCRIPTION:
URL:https://stmaryparish.net/event/confessions-st-anthony-2/2030-11-13/
END:VEVENT
BEGIN:VEVENT
DTSTART;TZID=America/New_York:20301113T120000
DTEND;TZID=America/New_York:20301113T123000
DTSTAMP:20260422T180153
CREATED:20241031T185919Z
LAST-MODIFIED:20250304T204847Z
UID:10023689-1920801600-1920803400@stmaryparish.net
SUMMARY:Confessions (St Mary)
DESCRIPTION:
URL:https://stmaryparish.net/event/confessions-st-mary-3/2030-11-13/
END:VEVENT
BEGIN:VEVENT
DTSTART;TZID=America/New_York:20301112T170000
DTEND;TZID=America/New_York:20301112T173000
DTSTAMP:20260422T180153
CREATED:20241213T190819Z
LAST-MODIFIED:20250414T214653Z
UID:10023654-1920733200-1920735000@stmaryparish.net
SUMMARY:Confessions (St. Anthony)
DESCRIPTION:
URL:https://stmaryparish.net/event/confessions-st-anthony-9/2030-11-12/
END:VEVENT
BEGIN:VEVENT
DTSTART;TZID=America/New_York:20301111T190000
DTEND;TZID=America/New_York:20301111T203000
DTSTAMP:20260422T180153
CREATED:20250905T185422Z
LAST-MODIFIED:20250905T185615Z
UID:10024068-1920654000-1920659400@stmaryparish.net
SUMMARY:Men's Group
DESCRIPTION:The Men’s Group meets Mondays from 7–8:30 pm (starting Sept. 15) at St. Anthony Parish. The Men’s group meets to strengthen each other to be Catholic men. We will launch our first meeting of the fall with a cookout behind St. Anthony Church.  All men are welcome. \nEmail Marty at martin.dybicz@gmail.com for details. \nMeetings take place at St. Anthony campus in the school building (Chesterton Academy — Commons)\, unless otherwise noted.
URL:https://stmaryparish.net/event/mens-group/2030-11-11/
LOCATION:St. Anthony Church\, N74W13604 Appleton Avenue\, Menomonee Falls\,\, WI\, 53051\, United States
END:VEVENT
BEGIN:VEVENT
DTSTART;TZID=America/New_York:20301111T120000
DTEND;TZID=America/New_York:20301111T123000
DTSTAMP:20260422T180153
CREATED:20241031T185431Z
LAST-MODIFIED:20241031T185431Z
UID:10023547-1920628800-1920630600@stmaryparish.net
SUMMARY:Confessions (St Mary)
DESCRIPTION:
URL:https://stmaryparish.net/event/confessions-st-mary/2030-11-11/
END:VEVENT
BEGIN:VEVENT
DTSTART;TZID=America/New_York:20301109T170000
DTEND;TZID=America/New_York:20301109T180000
DTSTAMP:20260422T180153
CREATED:20241031T182149Z
LAST-MODIFIED:20241031T183232Z
UID:10023995-1920474000-1920477600@stmaryparish.net
SUMMARY:Mass (St Mary)
DESCRIPTION:
URL:https://stmaryparish.net/event/mass-st-mary/2030-11-09/
END:VEVENT
BEGIN:VEVENT
DTSTART;TZID=America/New_York:20301109T163000
DTEND;TZID=America/New_York:20301109T173000
DTSTAMP:20260422T180153
CREATED:20241031T182115Z
LAST-MODIFIED:20241031T182115Z
UID:10024041-1920472200-1920475800@stmaryparish.net
SUMMARY:Mass (St Anthony)
DESCRIPTION:
URL:https://stmaryparish.net/event/mass-st-anthony-2/2030-11-09/
END:VEVENT
BEGIN:VEVENT
DTSTART;TZID=America/New_York:20301109T080000
DTEND;TZID=America/New_York:20301109T083000
DTSTAMP:20260422T180153
CREATED:20241031T185838Z
LAST-MODIFIED:20241031T185838Z
UID:10023949-1920441600-1920443400@stmaryparish.net
SUMMARY:Mass (St Mary)
DESCRIPTION:
URL:https://stmaryparish.net/event/mass-st-mary-7/2030-11-09/
END:VEVENT
BEGIN:VEVENT
DTSTART;TZID=America/New_York:20301108T120000
DTEND;TZID=America/New_York:20301108T123000
DTSTAMP:20260422T180153
CREATED:20241031T192332Z
LAST-MODIFIED:20241031T192350Z
UID:10023524-1920369600-1920371400@stmaryparish.net
SUMMARY:Confessions (St Mary)
DESCRIPTION:
URL:https://stmaryparish.net/event/confessions-st-mary-5/2030-11-08/
END:VEVENT
BEGIN:VEVENT
DTSTART;TZID=America/New_York:20301108T084500
DTEND;TZID=America/New_York:20301108T110000
DTSTAMP:20260422T180153
CREATED:20240830T115554Z
LAST-MODIFIED:20251009T144948Z
UID:10023498-1920357900-1920366000@stmaryparish.net
SUMMARY:Women's Faith Study Group
DESCRIPTION:The Women’s Faith Study Group will kick off the next session on  Sept. 5. The group meets from 8:45 am to 11 am at St. Anthony in the lower level of the St. Therese Formation Center (St. Joseph Adoration Chapel building). Child care is not currently offered.  For information\, email Mary Beth at marywitzlib@gmail.com
URL:https://stmaryparish.net/event/womens-faith-study-group-2-2-2/2030-11-08/
LOCATION:St. Therese Formation Center\, N74 W13604 Appleton Ave\, Menomonee Falls\, WI\, 53051
CATEGORIES:St. Anthony Parish,St. Mary Parish
END:VEVENT
BEGIN:VEVENT
DTSTART;TZID=America/New_York:20301108T081000
DTEND;TZID=America/New_York:20301108T084000
DTSTAMP:20260422T180153
CREATED:20241031T191510Z
LAST-MODIFIED:20241031T191852Z
UID:10023864-1920355800-1920357600@stmaryparish.net
SUMMARY:Mass (St Mary)
DESCRIPTION:
URL:https://stmaryparish.net/event/mass-st-mary-8/2030-11-08/
END:VEVENT
BEGIN:VEVENT
DTSTART;TZID=America/New_York:20301108T080000
DTEND;TZID=America/New_York:20301108T083000
DTSTAMP:20260422T180153
CREATED:20241031T184838Z
LAST-MODIFIED:20241031T184838Z
UID:10023823-1920355200-1920357000@stmaryparish.net
SUMMARY:Mass (St Anthony)
DESCRIPTION:
URL:https://stmaryparish.net/event/mass-st-anthony-8/2030-11-08/
END:VEVENT
BEGIN:VEVENT
DTSTART;TZID=America/New_York:20301107T121000
DTEND;TZID=America/New_York:20301107T124500
DTSTAMP:20260422T180153
CREATED:20241031T185234Z
LAST-MODIFIED:20241031T185234Z
UID:10023492-1920283800-1920285900@stmaryparish.net
SUMMARY:Mass (St Mary)
DESCRIPTION:
URL:https://stmaryparish.net/event/mass-st-mary-6/2030-11-07/
END:VEVENT
BEGIN:VEVENT
DTSTART;TZID=America/New_York:20301107T080000
DTEND;TZID=America/New_York:20301107T083000
DTSTAMP:20260422T180153
CREATED:20250612T170511Z
LAST-MODIFIED:20250612T170512Z
UID:10023461-1920268800-1920270600@stmaryparish.net
SUMMARY:Mass (St Anthony)
DESCRIPTION:
URL:https://stmaryparish.net/event/mass-st-anthony-7-2-2/2030-11-07/
END:VEVENT
BEGIN:VEVENT
DTSTART;TZID=America/New_York:20301106T190000
DTEND;TZID=America/New_York:20301106T200000
DTSTAMP:20260422T180153
CREATED:20240201T163527Z
LAST-MODIFIED:20250905T191233Z
UID:10023764-1920222000-1920225600@stmaryparish.net
SUMMARY:Human Concerns (St. Anthony)
DESCRIPTION:Human Concerns Committee: The Human Concerns Committee meets monthly to facilitate the outreach ministries of the parish by addressing social justice issues and increasing charity and stewardship awareness through support of emergency shelters\, pro-life non-profits\, and others as designated. HCC also organizes the Christmas Giving Tree and Easter Food Baskets. We meet on the first Wednesday of the month. \nContact: Nancy Schroeder\, nancys0615@gmail.com \nLocation: St. Therese Formation Center – Library
URL:https://stmaryparish.net/event/human-concerns-4/2030-11-06/
LOCATION:St. Therese Formation Center\, N74 W13604 Appleton Ave\, Menomonee Falls\, WI\, 53051
CATEGORIES:St. Anthony Parish
END:VEVENT
BEGIN:VEVENT
DTSTART;TZID=America/New_York:20301106T170000
DTEND;TZID=America/New_York:20301106T173000
DTSTAMP:20260422T180153
CREATED:20240312T141801Z
LAST-MODIFIED:20250304T205157Z
UID:10024126-1920214800-1920216600@stmaryparish.net
SUMMARY:Confessions (St. Anthony)
DESCRIPTION:
URL:https://stmaryparish.net/event/confessions-st-anthony-2/2030-11-06/
END:VEVENT
BEGIN:VEVENT
DTSTART;TZID=America/New_York:20301106T120000
DTEND;TZID=America/New_York:20301106T123000
DTSTAMP:20260422T180153
CREATED:20241031T185919Z
LAST-MODIFIED:20250304T204847Z
UID:10023688-1920196800-1920198600@stmaryparish.net
SUMMARY:Confessions (St Mary)
DESCRIPTION:
URL:https://stmaryparish.net/event/confessions-st-mary-3/2030-11-06/
END:VEVENT
BEGIN:VEVENT
DTSTART;TZID=America/New_York:20301105T170000
DTEND;TZID=America/New_York:20301105T173000
DTSTAMP:20260422T180153
CREATED:20241213T190819Z
LAST-MODIFIED:20250414T214653Z
UID:10023653-1920128400-1920130200@stmaryparish.net
SUMMARY:Confessions (St. Anthony)
DESCRIPTION:
URL:https://stmaryparish.net/event/confessions-st-anthony-9/2030-11-05/
END:VEVENT
BEGIN:VEVENT
DTSTART;TZID=America/New_York:20301104T190000
DTEND;TZID=America/New_York:20301104T203000
DTSTAMP:20260422T180153
CREATED:20250905T185422Z
LAST-MODIFIED:20250905T185615Z
UID:10024067-1920049200-1920054600@stmaryparish.net
SUMMARY:Men's Group
DESCRIPTION:The Men’s Group meets Mondays from 7–8:30 pm (starting Sept. 15) at St. Anthony Parish. The Men’s group meets to strengthen each other to be Catholic men. We will launch our first meeting of the fall with a cookout behind St. Anthony Church.  All men are welcome. \nEmail Marty at martin.dybicz@gmail.com for details. \nMeetings take place at St. Anthony campus in the school building (Chesterton Academy — Commons)\, unless otherwise noted.
URL:https://stmaryparish.net/event/mens-group/2030-11-04/
LOCATION:St. Anthony Church\, N74W13604 Appleton Avenue\, Menomonee Falls\,\, WI\, 53051\, United States
END:VEVENT
BEGIN:VEVENT
DTSTART;TZID=America/New_York:20301104T120000
DTEND;TZID=America/New_York:20301104T123000
DTSTAMP:20260422T180153
CREATED:20241031T185431Z
LAST-MODIFIED:20241031T185431Z
UID:10023546-1920024000-1920025800@stmaryparish.net
SUMMARY:Confessions (St Mary)
DESCRIPTION:
URL:https://stmaryparish.net/event/confessions-st-mary/2030-11-04/
END:VEVENT
BEGIN:VEVENT
DTSTART;TZID=America/New_York:20301102T170000
DTEND;TZID=America/New_York:20301102T180000
DTSTAMP:20260422T180153
CREATED:20241031T182149Z
LAST-MODIFIED:20241031T183232Z
UID:10023994-1919869200-1919872800@stmaryparish.net
SUMMARY:Mass (St Mary)
DESCRIPTION:
URL:https://stmaryparish.net/event/mass-st-mary/2030-11-02/
END:VEVENT
END:VCALENDAR