BEGIN:VCALENDAR
VERSION:2.0
PRODID:-//St. Anthony and St. Mary Parishes - ECPv6.15.20//NONSGML v1.0//EN
CALSCALE:GREGORIAN
METHOD:PUBLISH
X-WR-CALNAME:St. Anthony and St. Mary Parishes
X-ORIGINAL-URL:https://stmaryparish.net
X-WR-CALDESC:Events for St. Anthony and St. Mary Parishes
REFRESH-INTERVAL;VALUE=DURATION:PT1H
X-Robots-Tag:noindex
X-PUBLISHED-TTL:PT1H
BEGIN:VTIMEZONE
TZID:America/New_York
BEGIN:DAYLIGHT
TZOFFSETFROM:-0500
TZOFFSETTO:-0400
TZNAME:EDT
DTSTART:20240310T070000
END:DAYLIGHT
BEGIN:STANDARD
TZOFFSETFROM:-0400
TZOFFSETTO:-0500
TZNAME:EST
DTSTART:20241103T060000
END:STANDARD
BEGIN:DAYLIGHT
TZOFFSETFROM:-0500
TZOFFSETTO:-0400
TZNAME:EDT
DTSTART:20250309T070000
END:DAYLIGHT
BEGIN:STANDARD
TZOFFSETFROM:-0400
TZOFFSETTO:-0500
TZNAME:EST
DTSTART:20251102T060000
END:STANDARD
BEGIN:DAYLIGHT
TZOFFSETFROM:-0500
TZOFFSETTO:-0400
TZNAME:EDT
DTSTART:20260308T070000
END:DAYLIGHT
BEGIN:STANDARD
TZOFFSETFROM:-0400
TZOFFSETTO:-0500
TZNAME:EST
DTSTART:20261101T060000
END:STANDARD
END:VTIMEZONE
BEGIN:VEVENT
DTSTART;TZID=America/New_York:20250610T180000
DTEND;TZID=America/New_York:20250610T190000
DTSTAMP:20260422T052951
CREATED:20240108T200338Z
LAST-MODIFIED:20240830T114252Z
UID:10014738-1749578400-1749582000@stmaryparish.net
SUMMARY:Pastoral Council
DESCRIPTION:The St. Mary Pastoral Council meets on the second Tuesday of each month in the St. Elizabeth Room (Lower Level) in the Parish Office. \n  \n  \n 
URL:https://stmaryparish.net/event/pastoral-council-2/2025-06-10/
LOCATION:St. Mary Parish Office\, n89W16297 Cleveland Ave.\, Menomonee Falls\, 53051\, United States
CATEGORIES:St. Mary Parish
END:VEVENT
BEGIN:VEVENT
DTSTART;TZID=America/New_York:20250613T180000
DTEND;TZID=America/New_York:20250613T200000
DTSTAMP:20260422T052951
CREATED:20240409T144217Z
LAST-MODIFIED:20241112T161405Z
UID:10015186-1749837600-1749844800@stmaryparish.net
SUMMARY:Parish Youth Group (2nd Friday)
DESCRIPTION:The parish Youth Group meets every 2nd and 4th Friday of each month. \nStudents in grades 6-12 are invited to have fun\, grow in faith\, and form friendships. \n6-8 pm on the 2nd & 4th Fridays of the month \nSign up online at bit.ly/stamyouthgroup \nLocation: St. Anthony parish in the St. Therese Formation Center \n 
URL:https://stmaryparish.net/event/youth-group-grades-10-12/2025-06-13/
LOCATION:St. Therese Formation Center\, N74 W13604 Appleton Ave\, Menomonee Falls\, WI\, 53051
CATEGORIES:St. Anthony Parish,St. Mary Parish
END:VEVENT
END:VCALENDAR