BEGIN:VCALENDAR
VERSION:2.0
PRODID:-//St. Anthony and St. Mary Parishes - ECPv6.15.20//NONSGML v1.0//EN
CALSCALE:GREGORIAN
METHOD:PUBLISH
X-WR-CALNAME:St. Anthony and St. Mary Parishes
X-ORIGINAL-URL:https://stmaryparish.net
X-WR-CALDESC:Events for St. Anthony and St. Mary Parishes
REFRESH-INTERVAL;VALUE=DURATION:PT1H
X-Robots-Tag:noindex
X-PUBLISHED-TTL:PT1H
BEGIN:VTIMEZONE
TZID:America/New_York
BEGIN:DAYLIGHT
TZOFFSETFROM:-0500
TZOFFSETTO:-0400
TZNAME:EDT
DTSTART:20240310T070000
END:DAYLIGHT
BEGIN:STANDARD
TZOFFSETFROM:-0400
TZOFFSETTO:-0500
TZNAME:EST
DTSTART:20241103T060000
END:STANDARD
BEGIN:DAYLIGHT
TZOFFSETFROM:-0500
TZOFFSETTO:-0400
TZNAME:EDT
DTSTART:20250309T070000
END:DAYLIGHT
BEGIN:STANDARD
TZOFFSETFROM:-0400
TZOFFSETTO:-0500
TZNAME:EST
DTSTART:20251102T060000
END:STANDARD
BEGIN:DAYLIGHT
TZOFFSETFROM:-0500
TZOFFSETTO:-0400
TZNAME:EDT
DTSTART:20260308T070000
END:DAYLIGHT
BEGIN:STANDARD
TZOFFSETFROM:-0400
TZOFFSETTO:-0500
TZNAME:EST
DTSTART:20261101T060000
END:STANDARD
END:VTIMEZONE
BEGIN:VEVENT
DTSTART;TZID=America/New_York:20250505T190000
DTEND;TZID=America/New_York:20250505T203000
DTSTAMP:20260422T052952
CREATED:20250304T210447Z
LAST-MODIFIED:20250304T210447Z
UID:10022085-1746471600-1746477000@stmaryparish.net
SUMMARY:Men's Group
DESCRIPTION:Join us for a beer\, formation and friendship.
URL:https://stmaryparish.net/event/mens-group-sta-stm-4-2-2-3/2025-05-05/
LOCATION:St. Anthony Church\, N74W13604 Appleton Avenue\, Menomonee Falls\,\, WI\, 53051\, United States
CATEGORIES:St. Anthony Parish,St. Mary Parish
END:VEVENT
BEGIN:VEVENT
DTSTART;TZID=America/New_York:20250507T180000
DTEND;TZID=America/New_York:20250507T193000
DTSTAMP:20260422T052952
CREATED:20240118T204950Z
LAST-MODIFIED:20240830T121009Z
UID:10013302-1746640800-1746646200@stmaryparish.net
SUMMARY:St. Vincent de Paul Society Meetings
DESCRIPTION:The SVDP provides assistance to those in the community in need by helping with rent and utility payments\, store vouchers\, furniture\, gift cards\, and sometimes budget planning – any form of help that alleviates suffering or deprivation and promotes human dignity. Our conference meets on the 1st and 3rd Wednesday of the month (6:30-8 pm). Anyone over the age of 18 years is welcome. Vincentian members provide home visits to gather information for specific requests\, which are then discussed at meetings. Some training (about 6 hours) may be required. Volunteers are needed for home visits\, officer positions\, and special community projects such as the SVDP Truck Collection and the Giving Tree Program. \nContact: Ann Konop\, akonop@wi.rr.com \nLocation: St. Mary Parish Office Building – St. Elizabeth Conference Room on the Second Wednesday of each month \n  \n 
URL:https://stmaryparish.net/event/st-vincent-de-paul-society-meetings/2025-05-07/
LOCATION:St. Mary Parish Office\, n89W16297 Cleveland Ave.\, Menomonee Falls\, 53051\, United States
CATEGORIES:St. Mary Parish
END:VEVENT
BEGIN:VEVENT
DTSTART;TZID=America/New_York:20250509T180000
DTEND;TZID=America/New_York:20250509T200000
DTSTAMP:20260422T052952
CREATED:20240409T144217Z
LAST-MODIFIED:20241112T161405Z
UID:10015185-1746813600-1746820800@stmaryparish.net
SUMMARY:Parish Youth Group (2nd Friday)
DESCRIPTION:The parish Youth Group meets every 2nd and 4th Friday of each month. \nStudents in grades 6-12 are invited to have fun\, grow in faith\, and form friendships. \n6-8 pm on the 2nd & 4th Fridays of the month \nSign up online at bit.ly/stamyouthgroup \nLocation: St. Anthony parish in the St. Therese Formation Center \n 
URL:https://stmaryparish.net/event/youth-group-grades-10-12/2025-05-09/
LOCATION:St. Therese Formation Center\, N74 W13604 Appleton Ave\, Menomonee Falls\, WI\, 53051
CATEGORIES:St. Anthony Parish,St. Mary Parish
END:VEVENT
END:VCALENDAR