BEGIN:VCALENDAR
VERSION:2.0
PRODID:-//St. Anthony and St. Mary Parishes - ECPv6.15.20//NONSGML v1.0//EN
CALSCALE:GREGORIAN
METHOD:PUBLISH
X-ORIGINAL-URL:https://stmaryparish.net
X-WR-CALDESC:Events for St. Anthony and St. Mary Parishes
REFRESH-INTERVAL;VALUE=DURATION:PT1H
X-Robots-Tag:noindex
X-PUBLISHED-TTL:PT1H
BEGIN:VTIMEZONE
TZID:America/New_York
BEGIN:DAYLIGHT
TZOFFSETFROM:-0500
TZOFFSETTO:-0400
TZNAME:EDT
DTSTART:20230312T070000
END:DAYLIGHT
BEGIN:STANDARD
TZOFFSETFROM:-0400
TZOFFSETTO:-0500
TZNAME:EST
DTSTART:20231105T060000
END:STANDARD
BEGIN:DAYLIGHT
TZOFFSETFROM:-0500
TZOFFSETTO:-0400
TZNAME:EDT
DTSTART:20240310T070000
END:DAYLIGHT
BEGIN:STANDARD
TZOFFSETFROM:-0400
TZOFFSETTO:-0500
TZNAME:EST
DTSTART:20241103T060000
END:STANDARD
BEGIN:DAYLIGHT
TZOFFSETFROM:-0500
TZOFFSETTO:-0400
TZNAME:EDT
DTSTART:20250309T070000
END:DAYLIGHT
BEGIN:STANDARD
TZOFFSETFROM:-0400
TZOFFSETTO:-0500
TZNAME:EST
DTSTART:20251102T060000
END:STANDARD
END:VTIMEZONE
BEGIN:VEVENT
DTSTART;TZID=America/New_York:20241021T090000
DTEND;TZID=America/New_York:20241021T190000
DTSTAMP:20260425T222613
CREATED:20231221T073958Z
LAST-MODIFIED:20231221T073958Z
UID:10009574-1729501200-1729537200@stmaryparish.net
SUMMARY:Adoration
DESCRIPTION:St. Mary Parish
URL:https://stmaryparish.net/event/adoration-8/2024-10-21/
CATEGORIES:St. Mary Parish
END:VEVENT
BEGIN:VEVENT
DTSTART;TZID=America/New_York:20241021T120000
DTEND;TZID=America/New_York:20241021T123000
DTSTAMP:20260425T222613
CREATED:20240108T143452Z
LAST-MODIFIED:20240108T194853Z
UID:10009519-1729512000-1729513800@stmaryparish.net
SUMMARY:Confession (St. Mary)
DESCRIPTION:St. Mary Parish
URL:https://stmaryparish.net/event/confessions-4-2/2024-10-21/
CATEGORIES:St. Mary Parish
END:VEVENT
BEGIN:VEVENT
DTSTART;TZID=America/New_York:20241022T063000
DTEND;TZID=America/New_York:20241022T070000
DTSTAMP:20260425T222613
CREATED:20231221T073158Z
LAST-MODIFIED:20240108T142411Z
UID:10008886-1729578600-1729580400@stmaryparish.net
SUMMARY:Daily Mass (St. Mary)
DESCRIPTION:St. Mary Parish
URL:https://stmaryparish.net/event/daily-mass-6/2024-10-22/
CATEGORIES:St. Mary Parish
END:VEVENT
BEGIN:VEVENT
DTSTART;TZID=America/New_York:20241022T120000
DTEND;TZID=America/New_York:20241022T123000
DTSTAMP:20260425T222613
CREATED:20240108T143452Z
LAST-MODIFIED:20240108T194853Z
UID:10009520-1729598400-1729600200@stmaryparish.net
SUMMARY:Confession (St. Mary)
DESCRIPTION:St. Mary Parish
URL:https://stmaryparish.net/event/confessions-4-2/2024-10-22/
CATEGORIES:St. Mary Parish
END:VEVENT
BEGIN:VEVENT
DTSTART;TZID=America/New_York:20241023T000000
DTEND;TZID=America/New_York:20241023T235900
DTSTAMP:20260425T222613
CREATED:20231221T072335Z
LAST-MODIFIED:20240108T151740Z
UID:10008568-1729641600-1729727940@stmaryparish.net
SUMMARY:Adoration
DESCRIPTION:St. Anthony Parish at St. Joseph Chapel
URL:https://stmaryparish.net/event/adoration-3/2024-10-23/
CATEGORIES:St. Anthony Parish,St. Mary Parish
END:VEVENT
BEGIN:VEVENT
DTSTART;TZID=America/New_York:20241023T120000
DTEND;TZID=America/New_York:20241023T123000
DTSTAMP:20260425T222613
CREATED:20240108T143452Z
LAST-MODIFIED:20240108T194853Z
UID:10009521-1729684800-1729686600@stmaryparish.net
SUMMARY:Confession (St. Mary)
DESCRIPTION:St. Mary Parish
URL:https://stmaryparish.net/event/confessions-4-2/2024-10-23/
CATEGORIES:St. Mary Parish
END:VEVENT
BEGIN:VEVENT
DTSTART;TZID=America/New_York:20241024T121000
DTEND;TZID=America/New_York:20241024T123000
DTSTAMP:20260425T222613
CREATED:20231221T073321Z
LAST-MODIFIED:20240115T182214Z
UID:10008992-1729771800-1729773000@stmaryparish.net
SUMMARY:Daily Mass (St. Mary)
DESCRIPTION:St. Mary Parish – AO – Masses are celebrated ad orientem
URL:https://stmaryparish.net/event/daily-mass-9/2024-10-24/
CATEGORIES:St. Mary Parish
END:VEVENT
BEGIN:VEVENT
DTSTART;TZID=America/New_York:20241025T180000
DTEND;TZID=America/New_York:20241025T194500
DTSTAMP:20260425T222613
CREATED:20240209T202003Z
LAST-MODIFIED:20240213T165619Z
UID:10013487-1729879200-1729885500@stmaryparish.net
SUMMARY:Parish Youth Group (Grades 7-9)
DESCRIPTION:Join our parish Youth Group for students in Grades 7-9. \n2nd & 4th  Fridays at St. Anthony. \nMeet in the St. Joseph Adoration Chapel \nEmail Ellen Schlosser for more information at schlossere@stam.church
URL:https://stmaryparish.net/event/parish-youth-group-grades-7-9/2024-10-25/
LOCATION:St. Anthony Church\, N74W13604 Appleton Avenue\, Menomonee Falls\,\, WI\, 53051\, United States
CATEGORIES:St. Anthony Parish,St. Mary Parish
END:VEVENT
BEGIN:VEVENT
DTSTART;TZID=America/New_York:20241025T180000
DTEND;TZID=America/New_York:20241025T194500
DTSTAMP:20260425T222613
CREATED:20240209T211958Z
LAST-MODIFIED:20240409T150125Z
UID:10014640-1729879200-1729885500@stmaryparish.net
SUMMARY:Parish Youth Group (Grades 7-9)
DESCRIPTION:The parish Youth Group meets every 2nd and 4th Friday of each month. \nWe will meet at St. Joseph Adoration Chapel at St. Anthony Parish. \nContact Ellen Schlosser  at schlossere@stam.church on how to get involved. \n 
URL:https://stmaryparish.net/event/parish-youth-group-grades-7-9-2/2024-10-25/
LOCATION:St. Anthony Church\, N74W13604 Appleton Avenue\, Menomonee Falls\,\, WI\, 53051\, United States
CATEGORIES:St. Anthony Parish,St. Mary Parish
END:VEVENT
BEGIN:VEVENT
DTSTART;TZID=America/New_York:20241025T180000
DTEND;TZID=America/New_York:20241025T200000
DTSTAMP:20260425T222613
CREATED:20240209T214009Z
LAST-MODIFIED:20241112T160519Z
UID:10021912-1729879200-1729886400@stmaryparish.net
SUMMARY:Parish Youth Group (Grades 10-12)
DESCRIPTION:The parish Youth Group for students in grades 10-12 meet the 2nd & 4th Fridays of the Month. \nWe meet at the St. Joseph Adoration Chapel at St. Anthony Parish. \nYou can contact Ellen Schlosser at schlossere@stam.church  on how to sign up.
URL:https://stmaryparish.net/event/parish-youth-group-grades-10-12-2/2024-10-25/
CATEGORIES:St. Anthony Parish,St. Mary Parish
END:VEVENT
BEGIN:VEVENT
DTSTART;TZID=America/New_York:20241025T180000
DTEND;TZID=America/New_York:20241025T210000
DTSTAMP:20260425T222613
CREATED:20240830T124546Z
LAST-MODIFIED:20240830T124712Z
UID:10015238-1729879200-1729890000@stmaryparish.net
SUMMARY:Parish Youth Group (4th Friday)
DESCRIPTION:The parish Youth Group meets every 2nd and 4th Friday of each month. \nStudents in grades 6-12 are invited to have fun\, grow in faith\, and form friendships. \n6-9 pm on the 2nd & 4th Fridays of the month \nSign up online at bit.ly/stamyouthgroup \nLocation: St. Anthony parish in the St. Therese Formation Center \n 
URL:https://stmaryparish.net/event/parish-youth-group-4th-friday/2024-10-25/
LOCATION:St. Therese Formation Center\, N74 W13604 Appleton Ave\, Menomonee Falls\, WI\, 53051
CATEGORIES:St. Anthony Parish,St. Mary Parish
END:VEVENT
BEGIN:VEVENT
DTSTART;TZID=America/New_York:20241025T191500
DTEND;TZID=America/New_York:20241025T210000
DTSTAMP:20260425T222613
CREATED:20240209T204905Z
LAST-MODIFIED:20240213T165758Z
UID:10013504-1729883700-1729890000@stmaryparish.net
SUMMARY:Parish Youth Group ( Grades 10-12 )
DESCRIPTION:Join our parish Youth Group for students in Grades 10-12. \n2nd & 4th Fridays of the month \nMeet in the St. Joseph Adoration Chapel. \nFor more information contact Ellen Schlosser at schlossere@stam.church
URL:https://stmaryparish.net/event/parish-youth-group-grades-10-12/2024-10-25/
LOCATION:St. Anthony Church\, N74W13604 Appleton Avenue\, Menomonee Falls\,\, WI\, 53051\, United States
CATEGORIES:St. Anthony Parish,St. Mary Parish
END:VEVENT
BEGIN:VEVENT
DTSTART;TZID=America/New_York:20241026T080000
DTEND;TZID=America/New_York:20241026T090000
DTSTAMP:20260425T222613
CREATED:20231221T073439Z
LAST-MODIFIED:20240108T141228Z
UID:10009098-1729929600-1729933200@stmaryparish.net
SUMMARY:Daily Mass (St. Mary)
DESCRIPTION:St. Mary Parish – AO – Masses are celebrated ad orientem
URL:https://stmaryparish.net/event/daily-mass-11/2024-10-26/
CATEGORIES:St. Mary Parish
END:VEVENT
BEGIN:VEVENT
DTSTART;TZID=America/New_York:20241026T170000
DTEND;TZID=America/New_York:20241026T180000
DTSTAMP:20260425T222613
CREATED:20231221T073520Z
LAST-MODIFIED:20240108T135730Z
UID:10009151-1729962000-1729965600@stmaryparish.net
SUMMARY:Vigil Mass (St. Mary)
DESCRIPTION:St. Mary Parish
URL:https://stmaryparish.net/event/mass-500pm/2024-10-26/
CATEGORIES:St. Mary Parish
END:VEVENT
BEGIN:VEVENT
DTSTART;TZID=America/New_York:20241027T073000
DTEND;TZID=America/New_York:20241027T083000
DTSTAMP:20260425T222613
CREATED:20231221T073603Z
LAST-MODIFIED:20240108T135653Z
UID:10009204-1730014200-1730017800@stmaryparish.net
SUMMARY:Mass (St. Mary)
DESCRIPTION:St. Mary Parish
URL:https://stmaryparish.net/event/mass-730-am/2024-10-27/
CATEGORIES:St. Mary Parish
END:VEVENT
BEGIN:VEVENT
DTSTART;TZID=America/New_York:20241027T093000
DTEND;TZID=America/New_York:20241027T103000
DTSTAMP:20260425T222613
CREATED:20231221T073652Z
LAST-MODIFIED:20240108T135124Z
UID:10009257-1730021400-1730025000@stmaryparish.net
SUMMARY:Mass (St. Mary)
DESCRIPTION:St. Mary Parish
URL:https://stmaryparish.net/event/mass-930-am-3/2024-10-27/
CATEGORIES:St. Mary Parish
END:VEVENT
BEGIN:VEVENT
DTSTART;TZID=America/New_York:20241027T104500
DTEND;TZID=America/New_York:20241027T120000
DTSTAMP:20260425T222613
CREATED:20231221T073733Z
LAST-MODIFIED:20240110T181749Z
UID:10009310-1730025900-1730030400@stmaryparish.net
SUMMARY:Religious Education Classes
DESCRIPTION:St. Mary School – Classrooms & Conference Rooms
URL:https://stmaryparish.net/event/religious-education-classes/2024-10-27/
CATEGORIES:St. Anthony Parish,St. Mary Parish
END:VEVENT
BEGIN:VEVENT
DTSTART;TZID=America/New_York:20241027T110000
DTEND;TZID=America/New_York:20241027T170000
DTSTAMP:20260425T222613
CREATED:20240327T154222Z
LAST-MODIFIED:20240327T154223Z
UID:10014352-1730026800-1730048400@stmaryparish.net
SUMMARY:Adoration
DESCRIPTION:St. Mary Parish
URL:https://stmaryparish.net/event/adoration-9-2/2024-10-27/
CATEGORIES:St. Mary Parish
END:VEVENT
END:VCALENDAR