BEGIN:VCALENDAR
VERSION:2.0
PRODID:-//St. Anthony and St. Mary Parishes - ECPv6.15.20//NONSGML v1.0//EN
CALSCALE:GREGORIAN
METHOD:PUBLISH
X-WR-CALNAME:St. Anthony and St. Mary Parishes
X-ORIGINAL-URL:https://stmaryparish.net
X-WR-CALDESC:Events for St. Anthony and St. Mary Parishes
REFRESH-INTERVAL;VALUE=DURATION:PT1H
X-Robots-Tag:noindex
X-PUBLISHED-TTL:PT1H
BEGIN:VTIMEZONE
TZID:America/New_York
BEGIN:DAYLIGHT
TZOFFSETFROM:-0500
TZOFFSETTO:-0400
TZNAME:EDT
DTSTART:20240310T070000
END:DAYLIGHT
BEGIN:STANDARD
TZOFFSETFROM:-0400
TZOFFSETTO:-0500
TZNAME:EST
DTSTART:20241103T060000
END:STANDARD
BEGIN:DAYLIGHT
TZOFFSETFROM:-0500
TZOFFSETTO:-0400
TZNAME:EDT
DTSTART:20250309T070000
END:DAYLIGHT
BEGIN:STANDARD
TZOFFSETFROM:-0400
TZOFFSETTO:-0500
TZNAME:EST
DTSTART:20251102T060000
END:STANDARD
BEGIN:DAYLIGHT
TZOFFSETFROM:-0500
TZOFFSETTO:-0400
TZNAME:EDT
DTSTART:20260308T070000
END:DAYLIGHT
BEGIN:STANDARD
TZOFFSETFROM:-0400
TZOFFSETTO:-0500
TZNAME:EST
DTSTART:20261101T060000
END:STANDARD
END:VTIMEZONE
BEGIN:VEVENT
DTSTART;TZID=America/New_York:20250402T180000
DTEND;TZID=America/New_York:20250402T193000
DTSTAMP:20260422T034112
CREATED:20240118T204950Z
LAST-MODIFIED:20240830T121009Z
UID:10013301-1743616800-1743622200@stmaryparish.net
SUMMARY:St. Vincent de Paul Society Meetings
DESCRIPTION:The SVDP provides assistance to those in the community in need by helping with rent and utility payments\, store vouchers\, furniture\, gift cards\, and sometimes budget planning – any form of help that alleviates suffering or deprivation and promotes human dignity. Our conference meets on the 1st and 3rd Wednesday of the month (6:30-8 pm). Anyone over the age of 18 years is welcome. Vincentian members provide home visits to gather information for specific requests\, which are then discussed at meetings. Some training (about 6 hours) may be required. Volunteers are needed for home visits\, officer positions\, and special community projects such as the SVDP Truck Collection and the Giving Tree Program. \nContact: Ann Konop\, akonop@wi.rr.com \nLocation: St. Mary Parish Office Building – St. Elizabeth Conference Room on the Second Wednesday of each month \n  \n 
URL:https://stmaryparish.net/event/st-vincent-de-paul-society-meetings/2025-04-02/
LOCATION:St. Mary Parish Office\, n89W16297 Cleveland Ave.\, Menomonee Falls\, 53051\, United States
CATEGORIES:St. Mary Parish
END:VEVENT
BEGIN:VEVENT
DTSTART;TZID=America/New_York:20250404T190000
DTEND;TZID=America/New_York:20250404T210000
DTSTAMP:20260422T034112
CREATED:20240830T122256Z
LAST-MODIFIED:20241217T175459Z
UID:10014943-1743793200-1743800400@stmaryparish.net
SUMMARY:Amici Dei Young Adult Group (First Friday)
DESCRIPTION:Men and women ages 18 to 32 from St. Anthony and St. Mary Parishes are invited to join Amici Dei\, a young adult group that meets at 7 pm on the first and third Fridays of the month in the lower level of the St. Therese Formation Center Building at St. Anthony campus. \nContact: Andrew Jordan\, amicidei20@gmail.com
URL:https://stmaryparish.net/event/ameci-dei-young-adult-group-first-friday/2025-04-04/
LOCATION:St. Therese Formation Center\, N74 W13604 Appleton Ave\, Menomonee Falls\, WI\, 53051
CATEGORIES:St. Anthony Parish,St. Mary Parish
END:VEVENT
BEGIN:VEVENT
DTSTART;TZID=America/New_York:20250407T003000
DTEND;TZID=America/New_York:20250407T003000
DTSTAMP:20260422T034112
CREATED:20240830T125648Z
LAST-MODIFIED:20240830T125701Z
UID:10015298-1743985800-1743985800@stmaryparish.net
SUMMARY:St. Mary Parish & School Blood Drive
DESCRIPTION:Versiti Blood Center of Wisconsin will be hosting the St. Mary Parish and School Blood Drive on Sept. 16  in the lower level of the St. Mary Parish school. \n*Each donor can purchase China Lights tix at a $3 off discount\, ordering online with CODE (VST24) *Rush in to donate and be entered for a chance to win 2 tickets and a VIP experience* to your favorite hometown football team \nTo make an appointment\, go to https://tinyurl.com/yc5635r2 or call 1-877-232-4376. \n 
URL:https://stmaryparish.net/event/st-anthony-st-mary-blood-drive-2/
LOCATION:St. Mary Parish School\, N89W16215 Cleveland Avenue\, Menomonee Falls\,\, WI\, 53051\, United States
CATEGORIES:St. Mary Parish
END:VEVENT
BEGIN:VEVENT
DTSTART;TZID=America/New_York:20250407T190000
DTEND;TZID=America/New_York:20250407T203000
DTSTAMP:20260422T034112
CREATED:20240529T171735Z
LAST-MODIFIED:20250113T180226Z
UID:10022081-1744052400-1744057800@stmaryparish.net
SUMMARY:Men's Group
DESCRIPTION:Join us for a beer\, formation and friendship.
URL:https://stmaryparish.net/event/mens-group-sta-stm-4-2-2/2025-04-07/
LOCATION:St. Anthony Church\, N74W13604 Appleton Avenue\, Menomonee Falls\,\, WI\, 53051\, United States
CATEGORIES:St. Anthony Parish,St. Mary Parish
END:VEVENT
BEGIN:VEVENT
DTSTART;TZID=America/New_York:20250408T180000
DTEND;TZID=America/New_York:20250408T190000
DTSTAMP:20260422T034112
CREATED:20240108T200338Z
LAST-MODIFIED:20240830T114252Z
UID:10014736-1744135200-1744138800@stmaryparish.net
SUMMARY:Pastoral Council
DESCRIPTION:The St. Mary Pastoral Council meets on the second Tuesday of each month in the St. Elizabeth Room (Lower Level) in the Parish Office. \n  \n  \n 
URL:https://stmaryparish.net/event/pastoral-council-2/2025-04-08/
LOCATION:St. Mary Parish Office\, n89W16297 Cleveland Ave.\, Menomonee Falls\, 53051\, United States
CATEGORIES:St. Mary Parish
END:VEVENT
BEGIN:VEVENT
DTSTART;TZID=America/New_York:20250411T180000
DTEND;TZID=America/New_York:20250411T200000
DTSTAMP:20260422T034112
CREATED:20240409T144217Z
LAST-MODIFIED:20241112T161405Z
UID:10015184-1744394400-1744401600@stmaryparish.net
SUMMARY:Parish Youth Group (2nd Friday)
DESCRIPTION:The parish Youth Group meets every 2nd and 4th Friday of each month. \nStudents in grades 6-12 are invited to have fun\, grow in faith\, and form friendships. \n6-8 pm on the 2nd & 4th Fridays of the month \nSign up online at bit.ly/stamyouthgroup \nLocation: St. Anthony parish in the St. Therese Formation Center \n 
URL:https://stmaryparish.net/event/youth-group-grades-10-12/2025-04-11/
LOCATION:St. Therese Formation Center\, N74 W13604 Appleton Ave\, Menomonee Falls\, WI\, 53051
CATEGORIES:St. Anthony Parish,St. Mary Parish
END:VEVENT
BEGIN:VEVENT
DTSTART;TZID=America/New_York:20250416T113000
DTEND;TZID=America/New_York:20250416T133000
DTSTAMP:20260422T034112
CREATED:20240110T181601Z
LAST-MODIFIED:20240110T181601Z
UID:10013232-1744803000-1744810200@stmaryparish.net
SUMMARY:Grief Support Ministry Meeting
DESCRIPTION:Location: St. Anthony Parish – St. Therese Formation Center \nKitchen Area \n 
URL:https://stmaryparish.net/event/grief-support-ministry-meeting/2025-04-16/
CATEGORIES:St. Anthony Parish,St. Mary Parish
END:VEVENT
BEGIN:VEVENT
DTSTART;TZID=America/New_York:20250425T180000
DTEND;TZID=America/New_York:20250425T200000
DTSTAMP:20260422T034112
CREATED:20241112T162717Z
LAST-MODIFIED:20241112T162717Z
UID:10021918-1745604000-1745611200@stmaryparish.net
SUMMARY:Parish Youth Group (Grades 7-12)
DESCRIPTION:The parish Youth Group for students in grades 7-12 meet the 2nd & 4th Fridays of the Month. \nWe meet at the St. Joseph Adoration Chapel at St. Anthony Parish. \nYou can contact Ellen Schlosser at schlossere@stam.church  on how to sign up.
URL:https://stmaryparish.net/event/parish-youth-group-grades-10-12-2-2/2025-04-25/
CATEGORIES:St. Anthony Parish,St. Mary Parish
END:VEVENT
BEGIN:VEVENT
DTSTART;TZID=America/New_York:20250428T190000
DTEND;TZID=America/New_York:20250428T203000
DTSTAMP:20260422T034112
CREATED:20250304T210447Z
LAST-MODIFIED:20250304T210447Z
UID:10022084-1745866800-1745872200@stmaryparish.net
SUMMARY:Men's Group
DESCRIPTION:Join us for a beer\, formation and friendship.
URL:https://stmaryparish.net/event/mens-group-sta-stm-4-2-2-3/2025-04-28/
LOCATION:St. Anthony Church\, N74W13604 Appleton Avenue\, Menomonee Falls\,\, WI\, 53051\, United States
CATEGORIES:St. Anthony Parish,St. Mary Parish
END:VEVENT
END:VCALENDAR