BEGIN:VCALENDAR
VERSION:2.0
PRODID:-//St. Anthony and St. Mary Parishes - ECPv6.15.20//NONSGML v1.0//EN
CALSCALE:GREGORIAN
METHOD:PUBLISH
X-ORIGINAL-URL:https://stmaryparish.net
X-WR-CALDESC:Events for St. Anthony and St. Mary Parishes
REFRESH-INTERVAL;VALUE=DURATION:PT1H
X-Robots-Tag:noindex
X-PUBLISHED-TTL:PT1H
BEGIN:VTIMEZONE
TZID:America/New_York
BEGIN:DAYLIGHT
TZOFFSETFROM:-0500
TZOFFSETTO:-0400
TZNAME:EDT
DTSTART:20250309T070000
END:DAYLIGHT
BEGIN:STANDARD
TZOFFSETFROM:-0400
TZOFFSETTO:-0500
TZNAME:EST
DTSTART:20251102T060000
END:STANDARD
BEGIN:DAYLIGHT
TZOFFSETFROM:-0500
TZOFFSETTO:-0400
TZNAME:EDT
DTSTART:20260308T070000
END:DAYLIGHT
BEGIN:STANDARD
TZOFFSETFROM:-0400
TZOFFSETTO:-0500
TZNAME:EST
DTSTART:20261101T060000
END:STANDARD
BEGIN:DAYLIGHT
TZOFFSETFROM:-0500
TZOFFSETTO:-0400
TZNAME:EDT
DTSTART:20270314T070000
END:DAYLIGHT
BEGIN:STANDARD
TZOFFSETFROM:-0400
TZOFFSETTO:-0500
TZNAME:EST
DTSTART:20271107T060000
END:STANDARD
END:VTIMEZONE
BEGIN:VTIMEZONE
TZID:America/New_York
BEGIN:DAYLIGHT
TZOFFSETFROM:-0500
TZOFFSETTO:-0400
TZNAME:EDT
DTSTART:20250309T070000
END:DAYLIGHT
BEGIN:STANDARD
TZOFFSETFROM:-0400
TZOFFSETTO:-0500
TZNAME:EST
DTSTART:20251102T060000
END:STANDARD
BEGIN:DAYLIGHT
TZOFFSETFROM:-0500
TZOFFSETTO:-0400
TZNAME:EDT
DTSTART:20260308T070000
END:DAYLIGHT
BEGIN:STANDARD
TZOFFSETFROM:-0400
TZOFFSETTO:-0500
TZNAME:EST
DTSTART:20261101T060000
END:STANDARD
BEGIN:DAYLIGHT
TZOFFSETFROM:-0500
TZOFFSETTO:-0400
TZNAME:EDT
DTSTART:20270314T070000
END:DAYLIGHT
BEGIN:STANDARD
TZOFFSETFROM:-0400
TZOFFSETTO:-0500
TZNAME:EST
DTSTART:20271107T060000
END:STANDARD
END:VTIMEZONE
BEGIN:VEVENT
DTSTART;TZID=America/New_York:20260518T170000
DTEND;TZID=America/New_York:20260518T173000
DTSTAMP:20260419T164418
CREATED:20240108T130904Z
LAST-MODIFIED:20250429T145934Z
UID:10010035-1779123600-1779125400@stmaryparish.net
SUMMARY:Confession (St. Anthony)
DESCRIPTION:The Sacrament of Reconciliation is offered daily during the week\, at 5 pm\, or by appointment\, at St. Anthony in the Church.
URL:https://stmaryparish.net/event/confessions-5-2/2026-05-18/
LOCATION:St. Anthony Church\, N74W13604 Appleton Avenue\, Menomonee Falls\,\, WI\, 53051\, United States
CATEGORIES:St. Anthony Parish
END:VEVENT
BEGIN:VEVENT
DTSTART;TZID=America/New_York:20260519T200000
DTEND;TZID=America/New_York:20260519T213000
DTSTAMP:20260419T164419
CREATED:20240830T130531Z
LAST-MODIFIED:20251118T165858Z
UID:10023569-1779220800-1779226200@stmaryparish.net
SUMMARY:ADAM (St. Mary)
DESCRIPTION:A.D.A.M\, (Addressing Domestic Abuse Ministry) is an advocacy group that addresses the nature of domestic violence through education\, supportive connections\, and prayer in collaboration with community resources.  The goal of the ministry is to promote healthy relationships in the body of Christ\, remaining faithful to the Catholic Church teachings and pastoral directives. We meet monthly on the third Tuesday. \nLocation: St. Mary Church\, St. Therese room \nContact: Monika Wiese\, monika-wiese@wi.rr.com \n 
URL:https://stmaryparish.net/event/6429/2026-05-19/
LOCATION:St. Mary Church\, N89W16297 Cleveland Avenue\, Menomonee Falls\,\, WI\, 53051\, United States
CATEGORIES:St. Anthony Parish,St. Mary Parish
END:VEVENT
BEGIN:VEVENT
DTSTART;TZID=America/New_York:20260520T113000
DTEND;TZID=America/New_York:20260520T133000
DTSTAMP:20260419T164419
CREATED:20240110T181601Z
LAST-MODIFIED:20240110T181601Z
UID:10013245-1779276600-1779283800@stmaryparish.net
SUMMARY:Grief Support Ministry Meeting
DESCRIPTION:Location: St. Anthony Parish – St. Therese Formation Center \nKitchen Area \n 
URL:https://stmaryparish.net/event/grief-support-ministry-meeting/2026-05-20/
LOCATION:WI
CATEGORIES:St. Anthony Parish,St. Mary Parish
END:VEVENT
BEGIN:VEVENT
DTSTART;TZID=America/New_York:20260521T170000
DTEND;TZID=America/New_York:20260521T173000
DTSTAMP:20260419T164419
CREATED:20240108T130904Z
LAST-MODIFIED:20250429T145934Z
UID:10010038-1779382800-1779384600@stmaryparish.net
SUMMARY:Confession (St. Anthony)
DESCRIPTION:The Sacrament of Reconciliation is offered daily during the week\, at 5 pm\, or by appointment\, at St. Anthony in the Church.
URL:https://stmaryparish.net/event/confessions-5-2/2026-05-21/
LOCATION:St. Anthony Church\, N74W13604 Appleton Avenue\, Menomonee Falls\,\, WI\, 53051\, United States
CATEGORIES:St. Anthony Parish
END:VEVENT
BEGIN:VEVENT
DTSTART;TZID=America/New_York:20260522T084500
DTEND;TZID=America/New_York:20260522T110000
DTSTAMP:20260419T164419
CREATED:20240830T115554Z
LAST-MODIFIED:20251009T144948Z
UID:10023197-1779439500-1779447600@stmaryparish.net
SUMMARY:Women's Faith Study Group
DESCRIPTION:The Women’s Faith Study Group will kick off the next session on  Sept. 5. The group meets from 8:45 am to 11 am at St. Anthony in the lower level of the St. Therese Formation Center (St. Joseph Adoration Chapel building). Child care is not currently offered.  For information\, email Mary Beth at marywitzlib@gmail.com
URL:https://stmaryparish.net/event/womens-faith-study-group-2-2-2/2026-05-22/
LOCATION:St. Therese Formation Center\, N74 W13604 Appleton Ave\, Menomonee Falls\, WI\, 53051
CATEGORIES:St. Anthony Parish,St. Mary Parish
END:VEVENT
BEGIN:VEVENT
DTSTART;TZID=America/New_York:20260522T170000
DTEND;TZID=America/New_York:20260522T173000
DTSTAMP:20260419T164419
CREATED:20240108T130904Z
LAST-MODIFIED:20250429T145934Z
UID:10010039-1779469200-1779471000@stmaryparish.net
SUMMARY:Confession (St. Anthony)
DESCRIPTION:The Sacrament of Reconciliation is offered daily during the week\, at 5 pm\, or by appointment\, at St. Anthony in the Church.
URL:https://stmaryparish.net/event/confessions-5-2/2026-05-22/
LOCATION:St. Anthony Church\, N74W13604 Appleton Avenue\, Menomonee Falls\,\, WI\, 53051\, United States
CATEGORIES:St. Anthony Parish
END:VEVENT
END:VCALENDAR