BEGIN:VCALENDAR
VERSION:2.0
PRODID:-//St. Anthony and St. Mary Parishes - ECPv6.15.20//NONSGML v1.0//EN
CALSCALE:GREGORIAN
METHOD:PUBLISH
X-ORIGINAL-URL:https://stmaryparish.net
X-WR-CALDESC:Events for St. Anthony and St. Mary Parishes
REFRESH-INTERVAL;VALUE=DURATION:PT1H
X-Robots-Tag:noindex
X-PUBLISHED-TTL:PT1H
BEGIN:VTIMEZONE
TZID:America/New_York
BEGIN:DAYLIGHT
TZOFFSETFROM:-0500
TZOFFSETTO:-0400
TZNAME:EDT
DTSTART:20240310T070000
END:DAYLIGHT
BEGIN:STANDARD
TZOFFSETFROM:-0400
TZOFFSETTO:-0500
TZNAME:EST
DTSTART:20241103T060000
END:STANDARD
BEGIN:DAYLIGHT
TZOFFSETFROM:-0500
TZOFFSETTO:-0400
TZNAME:EDT
DTSTART:20250309T070000
END:DAYLIGHT
BEGIN:STANDARD
TZOFFSETFROM:-0400
TZOFFSETTO:-0500
TZNAME:EST
DTSTART:20251102T060000
END:STANDARD
BEGIN:DAYLIGHT
TZOFFSETFROM:-0500
TZOFFSETTO:-0400
TZNAME:EDT
DTSTART:20260308T070000
END:DAYLIGHT
BEGIN:STANDARD
TZOFFSETFROM:-0400
TZOFFSETTO:-0500
TZNAME:EST
DTSTART:20261101T060000
END:STANDARD
END:VTIMEZONE
BEGIN:VEVENT
DTSTART;TZID=America/New_York:20250818T170000
DTEND;TZID=America/New_York:20250818T173000
DTSTAMP:20260420T034102
CREATED:20240108T130904Z
LAST-MODIFIED:20250429T145934Z
UID:10009840-1755536400-1755538200@stmaryparish.net
SUMMARY:Confession (St. Anthony)
DESCRIPTION:The Sacrament of Reconciliation is offered daily during the week\, at 5 pm\, or by appointment\, at St. Anthony in the Church.
URL:https://stmaryparish.net/event/confessions-5-2/2025-08-18/
LOCATION:St. Anthony Church\, N74W13604 Appleton Avenue\, Menomonee Falls\,\, WI\, 53051\, United States
CATEGORIES:St. Anthony Parish
END:VEVENT
BEGIN:VEVENT
DTSTART;TZID=America/New_York:20250819T200000
DTEND;TZID=America/New_York:20250819T213000
DTSTAMP:20260420T034102
CREATED:20240830T130531Z
LAST-MODIFIED:20251118T165858Z
UID:10023560-1755633600-1755639000@stmaryparish.net
SUMMARY:ADAM (St. Mary)
DESCRIPTION:A.D.A.M\, (Addressing Domestic Abuse Ministry) is an advocacy group that addresses the nature of domestic violence through education\, supportive connections\, and prayer in collaboration with community resources.  The goal of the ministry is to promote healthy relationships in the body of Christ\, remaining faithful to the Catholic Church teachings and pastoral directives. We meet monthly on the third Tuesday. \nLocation: St. Mary Church\, St. Therese room \nContact: Monika Wiese\, monika-wiese@wi.rr.com \n 
URL:https://stmaryparish.net/event/6429/2025-08-19/
LOCATION:St. Mary Church\, N89W16297 Cleveland Avenue\, Menomonee Falls\,\, WI\, 53051\, United States
CATEGORIES:St. Anthony Parish,St. Mary Parish
END:VEVENT
BEGIN:VEVENT
DTSTART;TZID=America/New_York:20250820T113000
DTEND;TZID=America/New_York:20250820T133000
DTSTAMP:20260420T034102
CREATED:20240110T181601Z
LAST-MODIFIED:20240110T181601Z
UID:10013236-1755689400-1755696600@stmaryparish.net
SUMMARY:Grief Support Ministry Meeting
DESCRIPTION:Location: St. Anthony Parish – St. Therese Formation Center \nKitchen Area \n 
URL:https://stmaryparish.net/event/grief-support-ministry-meeting/2025-08-20/
LOCATION:WI
CATEGORIES:St. Anthony Parish,St. Mary Parish
END:VEVENT
BEGIN:VEVENT
DTSTART;TZID=America/New_York:20250821T170000
DTEND;TZID=America/New_York:20250821T173000
DTSTAMP:20260420T034102
CREATED:20240108T130904Z
LAST-MODIFIED:20250429T145934Z
UID:10009843-1755795600-1755797400@stmaryparish.net
SUMMARY:Confession (St. Anthony)
DESCRIPTION:The Sacrament of Reconciliation is offered daily during the week\, at 5 pm\, or by appointment\, at St. Anthony in the Church.
URL:https://stmaryparish.net/event/confessions-5-2/2025-08-21/
LOCATION:St. Anthony Church\, N74W13604 Appleton Avenue\, Menomonee Falls\,\, WI\, 53051\, United States
CATEGORIES:St. Anthony Parish
END:VEVENT
BEGIN:VEVENT
DTSTART;TZID=America/New_York:20250822T170000
DTEND;TZID=America/New_York:20250822T173000
DTSTAMP:20260420T034102
CREATED:20240108T130904Z
LAST-MODIFIED:20250429T145934Z
UID:10009844-1755882000-1755883800@stmaryparish.net
SUMMARY:Confession (St. Anthony)
DESCRIPTION:The Sacrament of Reconciliation is offered daily during the week\, at 5 pm\, or by appointment\, at St. Anthony in the Church.
URL:https://stmaryparish.net/event/confessions-5-2/2025-08-22/
LOCATION:St. Anthony Church\, N74W13604 Appleton Avenue\, Menomonee Falls\,\, WI\, 53051\, United States
CATEGORIES:St. Anthony Parish
END:VEVENT
END:VCALENDAR