BEGIN:VCALENDAR
VERSION:2.0
PRODID:-//St. Anthony and St. Mary Parishes - ECPv6.15.20//NONSGML v1.0//EN
CALSCALE:GREGORIAN
METHOD:PUBLISH
X-ORIGINAL-URL:https://stmaryparish.net
X-WR-CALDESC:Events for St. Anthony and St. Mary Parishes
REFRESH-INTERVAL;VALUE=DURATION:PT1H
X-Robots-Tag:noindex
X-PUBLISHED-TTL:PT1H
BEGIN:VTIMEZONE
TZID:America/New_York
BEGIN:DAYLIGHT
TZOFFSETFROM:-0500
TZOFFSETTO:-0400
TZNAME:EDT
DTSTART:20240310T070000
END:DAYLIGHT
BEGIN:STANDARD
TZOFFSETFROM:-0400
TZOFFSETTO:-0500
TZNAME:EST
DTSTART:20241103T060000
END:STANDARD
BEGIN:DAYLIGHT
TZOFFSETFROM:-0500
TZOFFSETTO:-0400
TZNAME:EDT
DTSTART:20250309T070000
END:DAYLIGHT
BEGIN:STANDARD
TZOFFSETFROM:-0400
TZOFFSETTO:-0500
TZNAME:EST
DTSTART:20251102T060000
END:STANDARD
BEGIN:DAYLIGHT
TZOFFSETFROM:-0500
TZOFFSETTO:-0400
TZNAME:EDT
DTSTART:20260308T070000
END:DAYLIGHT
BEGIN:STANDARD
TZOFFSETFROM:-0400
TZOFFSETTO:-0500
TZNAME:EST
DTSTART:20261101T060000
END:STANDARD
END:VTIMEZONE
BEGIN:VEVENT
DTSTART;TZID=America/New_York:20250519T170000
DTEND;TZID=America/New_York:20250519T173000
DTSTAMP:20260424T102018
CREATED:20240108T130904Z
LAST-MODIFIED:20250429T145934Z
UID:10009775-1747674000-1747675800@stmaryparish.net
SUMMARY:Confession (St. Anthony)
DESCRIPTION:The Sacrament of Reconciliation is offered daily during the week\, at 5 pm\, or by appointment\, at St. Anthony in the Church.
URL:https://stmaryparish.net/event/confessions-5-2/2025-05-19/
LOCATION:St. Anthony Church\, N74W13604 Appleton Avenue\, Menomonee Falls\,\, WI\, 53051\, United States
CATEGORIES:St. Anthony Parish
END:VEVENT
BEGIN:VEVENT
DTSTART;TZID=America/New_York:20250519T190000
DTEND;TZID=America/New_York:20250519T203000
DTSTAMP:20260424T102018
CREATED:20250304T210447Z
LAST-MODIFIED:20250304T210447Z
UID:10022087-1747681200-1747686600@stmaryparish.net
SUMMARY:Men's Group
DESCRIPTION:Join us for a beer\, formation and friendship.
URL:https://stmaryparish.net/event/mens-group-sta-stm-4-2-2-3/2025-05-19/
LOCATION:St. Anthony Church\, N74W13604 Appleton Avenue\, Menomonee Falls\,\, WI\, 53051\, United States
CATEGORIES:St. Anthony Parish,St. Mary Parish
END:VEVENT
BEGIN:VEVENT
DTSTART;TZID=America/New_York:20250520T200000
DTEND;TZID=America/New_York:20250520T213000
DTSTAMP:20260424T102018
CREATED:20240830T130531Z
LAST-MODIFIED:20251118T165858Z
UID:10023557-1747771200-1747776600@stmaryparish.net
SUMMARY:ADAM (St. Mary)
DESCRIPTION:A.D.A.M\, (Addressing Domestic Abuse Ministry) is an advocacy group that addresses the nature of domestic violence through education\, supportive connections\, and prayer in collaboration with community resources.  The goal of the ministry is to promote healthy relationships in the body of Christ\, remaining faithful to the Catholic Church teachings and pastoral directives. We meet monthly on the third Tuesday. \nLocation: St. Mary Church\, St. Therese room \nContact: Monika Wiese\, monika-wiese@wi.rr.com \n 
URL:https://stmaryparish.net/event/6429/2025-05-20/
LOCATION:St. Mary Church\, N89W16297 Cleveland Avenue\, Menomonee Falls\,\, WI\, 53051\, United States
CATEGORIES:St. Anthony Parish,St. Mary Parish
END:VEVENT
BEGIN:VEVENT
DTSTART;TZID=America/New_York:20250521T113000
DTEND;TZID=America/New_York:20250521T133000
DTSTAMP:20260424T102018
CREATED:20240110T181601Z
LAST-MODIFIED:20240110T181601Z
UID:10013233-1747827000-1747834200@stmaryparish.net
SUMMARY:Grief Support Ministry Meeting
DESCRIPTION:Location: St. Anthony Parish – St. Therese Formation Center \nKitchen Area \n 
URL:https://stmaryparish.net/event/grief-support-ministry-meeting/2025-05-21/
LOCATION:WI
CATEGORIES:St. Anthony Parish,St. Mary Parish
END:VEVENT
BEGIN:VEVENT
DTSTART;TZID=America/New_York:20250522T170000
DTEND;TZID=America/New_York:20250522T173000
DTSTAMP:20260424T102018
CREATED:20240108T130904Z
LAST-MODIFIED:20250429T145934Z
UID:10009778-1747933200-1747935000@stmaryparish.net
SUMMARY:Confession (St. Anthony)
DESCRIPTION:The Sacrament of Reconciliation is offered daily during the week\, at 5 pm\, or by appointment\, at St. Anthony in the Church.
URL:https://stmaryparish.net/event/confessions-5-2/2025-05-22/
LOCATION:St. Anthony Church\, N74W13604 Appleton Avenue\, Menomonee Falls\,\, WI\, 53051\, United States
CATEGORIES:St. Anthony Parish
END:VEVENT
BEGIN:VEVENT
DTSTART;TZID=America/New_York:20250523T170000
DTEND;TZID=America/New_York:20250523T173000
DTSTAMP:20260424T102018
CREATED:20240108T130904Z
LAST-MODIFIED:20250429T145934Z
UID:10009779-1748019600-1748021400@stmaryparish.net
SUMMARY:Confession (St. Anthony)
DESCRIPTION:The Sacrament of Reconciliation is offered daily during the week\, at 5 pm\, or by appointment\, at St. Anthony in the Church.
URL:https://stmaryparish.net/event/confessions-5-2/2025-05-23/
LOCATION:St. Anthony Church\, N74W13604 Appleton Avenue\, Menomonee Falls\,\, WI\, 53051\, United States
CATEGORIES:St. Anthony Parish
END:VEVENT
BEGIN:VEVENT
DTSTART;TZID=America/New_York:20250523T180000
DTEND;TZID=America/New_York:20250523T200000
DTSTAMP:20260424T102018
CREATED:20241112T162717Z
LAST-MODIFIED:20241112T162717Z
UID:10021919-1748023200-1748030400@stmaryparish.net
SUMMARY:Parish Youth Group (Grades 7-12)
DESCRIPTION:The parish Youth Group for students in grades 7-12 meet the 2nd & 4th Fridays of the Month. \nWe meet at the St. Joseph Adoration Chapel at St. Anthony Parish. \nYou can contact Ellen Schlosser at schlossere@stam.church  on how to sign up.
URL:https://stmaryparish.net/event/parish-youth-group-grades-10-12-2-2/2025-05-23/
LOCATION:WI
CATEGORIES:St. Anthony Parish,St. Mary Parish
END:VEVENT
END:VCALENDAR