BEGIN:VCALENDAR
VERSION:2.0
PRODID:-//St. Anthony and St. Mary Parishes - ECPv6.15.20//NONSGML v1.0//EN
CALSCALE:GREGORIAN
METHOD:PUBLISH
X-ORIGINAL-URL:https://stmaryparish.net
X-WR-CALDESC:Events for St. Anthony and St. Mary Parishes
REFRESH-INTERVAL;VALUE=DURATION:PT1H
X-Robots-Tag:noindex
X-PUBLISHED-TTL:PT1H
BEGIN:VTIMEZONE
TZID:America/New_York
BEGIN:DAYLIGHT
TZOFFSETFROM:-0500
TZOFFSETTO:-0400
TZNAME:EDT
DTSTART:20240310T070000
END:DAYLIGHT
BEGIN:STANDARD
TZOFFSETFROM:-0400
TZOFFSETTO:-0500
TZNAME:EST
DTSTART:20241103T060000
END:STANDARD
BEGIN:DAYLIGHT
TZOFFSETFROM:-0500
TZOFFSETTO:-0400
TZNAME:EDT
DTSTART:20250309T070000
END:DAYLIGHT
BEGIN:STANDARD
TZOFFSETFROM:-0400
TZOFFSETTO:-0500
TZNAME:EST
DTSTART:20251102T060000
END:STANDARD
BEGIN:DAYLIGHT
TZOFFSETFROM:-0500
TZOFFSETTO:-0400
TZNAME:EDT
DTSTART:20260308T070000
END:DAYLIGHT
BEGIN:STANDARD
TZOFFSETFROM:-0400
TZOFFSETTO:-0500
TZNAME:EST
DTSTART:20261101T060000
END:STANDARD
END:VTIMEZONE
BEGIN:VEVENT
DTSTART;TZID=America/New_York:20250428T170000
DTEND;TZID=America/New_York:20250428T173000
DTSTAMP:20260422T154755
CREATED:20240108T130904Z
LAST-MODIFIED:20250429T145934Z
UID:10009760-1745859600-1745861400@stmaryparish.net
SUMMARY:Confession (St. Anthony)
DESCRIPTION:The Sacrament of Reconciliation is offered daily during the week\, at 5 pm\, or by appointment\, at St. Anthony in the Church.
URL:https://stmaryparish.net/event/confessions-5-2/2025-04-28/
LOCATION:St. Anthony Church\, N74W13604 Appleton Avenue\, Menomonee Falls\,\, WI\, 53051\, United States
CATEGORIES:St. Anthony Parish
END:VEVENT
BEGIN:VEVENT
DTSTART;TZID=America/New_York:20250428T170000
DTEND;TZID=America/New_York:20250428T180000
DTSTAMP:20260422T154755
CREATED:20250103T192523Z
LAST-MODIFIED:20250103T192524Z
UID:10015485-1745859600-1745863200@stmaryparish.net
SUMMARY:Streetlife Ministry: Meals for the Homeless
DESCRIPTION:Drop off in kitchen in the St. Therese Formation Center (formerly CFC building) \nContact for more information: StAnthonyServes2023@gmail.com \nLunches are collected every 4th Monday of the month. \nStreet Life has requested that lunches be assembled this way:\n\nPlastic grocery bag containing 1 juice box or drink\, 1 bag of chips\, 1 dessert or sweet treat\nKeep these items SEPARATE from the plastic bag – 1 peanut butter and jelly sandwich\, 1 fruit (we have bins to put them in)\n\nMeals for the Homeless: Parishioners from St. Anthony and St. Mary make lunches once a month to support the StreetLife homeless outreach programs in Milwaukee. They also collect other items as requested. \n 
URL:https://stmaryparish.net/event/st-anthony-serves-cfc-kitchen-3-2/2025-04-28/
LOCATION:St. Therese Formation Center\, N74 W13604 Appleton Ave\, Menomonee Falls\, WI\, 53051
CATEGORIES:St. Anthony Parish
ORGANIZER;CN="Jenell Krause":MAILTO:stanthonyserves2023@gmail.com
END:VEVENT
BEGIN:VEVENT
DTSTART;TZID=America/New_York:20250428T190000
DTEND;TZID=America/New_York:20250428T203000
DTSTAMP:20260422T154755
CREATED:20250304T210447Z
LAST-MODIFIED:20250304T210447Z
UID:10022084-1745866800-1745872200@stmaryparish.net
SUMMARY:Men's Group
DESCRIPTION:Join us for a beer\, formation and friendship.
URL:https://stmaryparish.net/event/mens-group-sta-stm-4-2-2-3/2025-04-28/
LOCATION:St. Anthony Church\, N74W13604 Appleton Avenue\, Menomonee Falls\,\, WI\, 53051\, United States
CATEGORIES:St. Anthony Parish,St. Mary Parish
END:VEVENT
BEGIN:VEVENT
DTSTART;TZID=America/New_York:20250501T170000
DTEND;TZID=America/New_York:20250501T173000
DTSTAMP:20260422T154755
CREATED:20240108T130904Z
LAST-MODIFIED:20250429T145934Z
UID:10009763-1746118800-1746120600@stmaryparish.net
SUMMARY:Confession (St. Anthony)
DESCRIPTION:The Sacrament of Reconciliation is offered daily during the week\, at 5 pm\, or by appointment\, at St. Anthony in the Church.
URL:https://stmaryparish.net/event/confessions-5-2/2025-05-01/
LOCATION:St. Anthony Church\, N74W13604 Appleton Avenue\, Menomonee Falls\,\, WI\, 53051\, United States
CATEGORIES:St. Anthony Parish
END:VEVENT
BEGIN:VEVENT
DTSTART;TZID=America/New_York:20250502T170000
DTEND;TZID=America/New_York:20250502T173000
DTSTAMP:20260422T154755
CREATED:20240108T130904Z
LAST-MODIFIED:20250429T145934Z
UID:10009764-1746205200-1746207000@stmaryparish.net
SUMMARY:Confession (St. Anthony)
DESCRIPTION:The Sacrament of Reconciliation is offered daily during the week\, at 5 pm\, or by appointment\, at St. Anthony in the Church.
URL:https://stmaryparish.net/event/confessions-5-2/2025-05-02/
LOCATION:St. Anthony Church\, N74W13604 Appleton Avenue\, Menomonee Falls\,\, WI\, 53051\, United States
CATEGORIES:St. Anthony Parish
END:VEVENT
BEGIN:VEVENT
DTSTART;TZID=America/New_York:20250502T190000
DTEND;TZID=America/New_York:20250502T210000
DTSTAMP:20260422T154755
CREATED:20240830T122256Z
LAST-MODIFIED:20241217T175459Z
UID:10014944-1746212400-1746219600@stmaryparish.net
SUMMARY:Amici Dei Young Adult Group (First Friday)
DESCRIPTION:Men and women ages 18 to 32 from St. Anthony and St. Mary Parishes are invited to join Amici Dei\, a young adult group that meets at 7 pm on the first and third Fridays of the month in the lower level of the St. Therese Formation Center Building at St. Anthony campus. \nContact: Andrew Jordan\, amicidei20@gmail.com
URL:https://stmaryparish.net/event/ameci-dei-young-adult-group-first-friday/2025-05-02/
LOCATION:St. Therese Formation Center\, N74 W13604 Appleton Ave\, Menomonee Falls\, WI\, 53051
CATEGORIES:St. Anthony Parish,St. Mary Parish
END:VEVENT
END:VCALENDAR