BEGIN:VCALENDAR
VERSION:2.0
PRODID:-//St. Anthony and St. Mary Parishes - ECPv6.15.20//NONSGML v1.0//EN
CALSCALE:GREGORIAN
METHOD:PUBLISH
X-WR-CALNAME:St. Anthony and St. Mary Parishes
X-ORIGINAL-URL:https://stmaryparish.net
X-WR-CALDESC:Events for St. Anthony and St. Mary Parishes
REFRESH-INTERVAL;VALUE=DURATION:PT1H
X-Robots-Tag:noindex
X-PUBLISHED-TTL:PT1H
BEGIN:VTIMEZONE
TZID:America/New_York
BEGIN:DAYLIGHT
TZOFFSETFROM:-0500
TZOFFSETTO:-0400
TZNAME:EDT
DTSTART:20250309T070000
END:DAYLIGHT
BEGIN:STANDARD
TZOFFSETFROM:-0400
TZOFFSETTO:-0500
TZNAME:EST
DTSTART:20251102T060000
END:STANDARD
BEGIN:DAYLIGHT
TZOFFSETFROM:-0500
TZOFFSETTO:-0400
TZNAME:EDT
DTSTART:20260308T070000
END:DAYLIGHT
BEGIN:STANDARD
TZOFFSETFROM:-0400
TZOFFSETTO:-0500
TZNAME:EST
DTSTART:20261101T060000
END:STANDARD
BEGIN:DAYLIGHT
TZOFFSETFROM:-0500
TZOFFSETTO:-0400
TZNAME:EDT
DTSTART:20270314T070000
END:DAYLIGHT
BEGIN:STANDARD
TZOFFSETFROM:-0400
TZOFFSETTO:-0500
TZNAME:EST
DTSTART:20271107T060000
END:STANDARD
END:VTIMEZONE
BEGIN:VTIMEZONE
TZID:America/New_York
BEGIN:DAYLIGHT
TZOFFSETFROM:-0500
TZOFFSETTO:-0400
TZNAME:EDT
DTSTART:20250309T070000
END:DAYLIGHT
BEGIN:STANDARD
TZOFFSETFROM:-0400
TZOFFSETTO:-0500
TZNAME:EST
DTSTART:20251102T060000
END:STANDARD
BEGIN:DAYLIGHT
TZOFFSETFROM:-0500
TZOFFSETTO:-0400
TZNAME:EDT
DTSTART:20260308T070000
END:DAYLIGHT
BEGIN:STANDARD
TZOFFSETFROM:-0400
TZOFFSETTO:-0500
TZNAME:EST
DTSTART:20261101T060000
END:STANDARD
BEGIN:DAYLIGHT
TZOFFSETFROM:-0500
TZOFFSETTO:-0400
TZNAME:EDT
DTSTART:20270314T070000
END:DAYLIGHT
BEGIN:STANDARD
TZOFFSETFROM:-0400
TZOFFSETTO:-0500
TZNAME:EST
DTSTART:20271107T060000
END:STANDARD
END:VTIMEZONE
BEGIN:VEVENT
DTSTART;TZID=America/New_York:20260424T080000
DTEND;TZID=America/New_York:20260424T083000
DTSTAMP:20260424T012303
CREATED:20241031T184838Z
LAST-MODIFIED:20241031T184838Z
UID:10018299-1777017600-1777019400@stmaryparish.net
SUMMARY:Mass (St Anthony)
DESCRIPTION:
URL:https://stmaryparish.net/event/mass-st-anthony-8/2026-04-24/
END:VEVENT
BEGIN:VEVENT
DTSTART;TZID=America/New_York:20260424T081000
DTEND;TZID=America/New_York:20260424T084000
DTSTAMP:20260424T012303
CREATED:20241031T191510Z
LAST-MODIFIED:20241031T191852Z
UID:10020660-1777018200-1777020000@stmaryparish.net
SUMMARY:Mass (St Mary)
DESCRIPTION:
URL:https://stmaryparish.net/event/mass-st-mary-8/2026-04-24/
END:VEVENT
BEGIN:VEVENT
DTSTART;TZID=America/New_York:20260424T084500
DTEND;TZID=America/New_York:20260424T110000
DTSTAMP:20260424T012303
CREATED:20240830T115554Z
LAST-MODIFIED:20251009T144948Z
UID:10023193-1777020300-1777028400@stmaryparish.net
SUMMARY:Women's Faith Study Group
DESCRIPTION:The Women’s Faith Study Group will kick off the next session on  Sept. 5. The group meets from 8:45 am to 11 am at St. Anthony in the lower level of the St. Therese Formation Center (St. Joseph Adoration Chapel building). Child care is not currently offered.  For information\, email Mary Beth at marywitzlib@gmail.com
URL:https://stmaryparish.net/event/womens-faith-study-group-2-2-2/2026-04-24/
LOCATION:St. Therese Formation Center\, N74 W13604 Appleton Ave\, Menomonee Falls\, WI\, 53051
CATEGORIES:St. Anthony Parish,St. Mary Parish
END:VEVENT
BEGIN:VEVENT
DTSTART;TZID=America/New_York:20260424T120000
DTEND;TZID=America/New_York:20260424T123000
DTSTAMP:20260424T012303
CREATED:20241031T192332Z
LAST-MODIFIED:20241031T192350Z
UID:10020921-1777032000-1777033800@stmaryparish.net
SUMMARY:Confessions (St Mary)
DESCRIPTION:
URL:https://stmaryparish.net/event/confessions-st-mary-5/2026-04-24/
END:VEVENT
BEGIN:VEVENT
DTSTART;TZID=America/New_York:20260424T170000
DTEND;TZID=America/New_York:20260424T173000
DTSTAMP:20260424T012303
CREATED:20240108T130904Z
LAST-MODIFIED:20250429T145934Z
UID:10010019-1777050000-1777051800@stmaryparish.net
SUMMARY:Confession (St. Anthony)
DESCRIPTION:The Sacrament of Reconciliation is offered daily during the week\, at 5 pm\, or by appointment\, at St. Anthony in the Church.
URL:https://stmaryparish.net/event/confessions-5-2/2026-04-24/
LOCATION:St. Anthony Church\, N74W13604 Appleton Avenue\, Menomonee Falls\,\, WI\, 53051\, United States
CATEGORIES:St. Anthony Parish
END:VEVENT
END:VCALENDAR